<?xml version="1.0" encoding="UTF-8" standalone="no"?>
<metadata xml:lang="pt">
<Esri>
<CreaDate>20210914</CreaDate>
<CreaTime>17393400</CreaTime>
<ArcGISFormat>1.0</ArcGISFormat>
<SyncOnce>FALSE</SyncOnce>
<scaleRange>
<minScale>25000</minScale>
<maxScale>25000</maxScale>
</scaleRange>
<DataProperties>
<itemProps>
<itemName Sync="TRUE">Carta_Topo_MI 2988-3-SO.tif</itemName>
<imsContentType Sync="TRUE" export="False">002</imsContentType>
<nativeExtBox>
<westBL Sync="TRUE">-51.052268</westBL>
<eastBL Sync="TRUE">-50.822473</eastBL>
<southBL Sync="TRUE">-30.509077</southBL>
<northBL Sync="TRUE">-30.357741</northBL>
<exTypeCode Sync="TRUE">1</exTypeCode>
</nativeExtBox>
</itemProps>
<coordRef>
<type Sync="TRUE">Geographic</type>
<geogcsn Sync="TRUE">GCS_SIRGAS_2000</geogcsn>
<csUnits Sync="TRUE">Angular Unit: Degree (0.017453)</csUnits>
<peXml Sync="TRUE">&lt;GeographicCoordinateSystem xsi:type='typens:GeographicCoordinateSystem' xmlns:xsi='http://www.w3.org/2001/XMLSchema-instance' xmlns:xs='http://www.w3.org/2001/XMLSchema' xmlns:typens='http://www.esri.com/schemas/ArcGIS/2.6.0'&gt;&lt;WKT&gt;GEOGCS[&amp;quot;GCS_SIRGAS_2000&amp;quot;,DATUM[&amp;quot;D_SIRGAS_2000&amp;quot;,SPHEROID[&amp;quot;GRS_1980&amp;quot;,6378137.0,298.257222101]],PRIMEM[&amp;quot;Greenwich&amp;quot;,0.0],UNIT[&amp;quot;Degree&amp;quot;,0.0174532925199433],AUTHORITY[&amp;quot;EPSG&amp;quot;,4674]]&lt;/WKT&gt;&lt;XOrigin&gt;-399.99999999999989&lt;/XOrigin&gt;&lt;YOrigin&gt;-399.99999999999989&lt;/YOrigin&gt;&lt;XYScale&gt;11258999068426.24&lt;/XYScale&gt;&lt;ZOrigin&gt;-100000&lt;/ZOrigin&gt;&lt;ZScale&gt;10000&lt;/ZScale&gt;&lt;MOrigin&gt;-100000&lt;/MOrigin&gt;&lt;MScale&gt;10000&lt;/MScale&gt;&lt;XYTolerance&gt;8.9831528411952117e-09&lt;/XYTolerance&gt;&lt;ZTolerance&gt;0.001&lt;/ZTolerance&gt;&lt;MTolerance&gt;0.001&lt;/MTolerance&gt;&lt;HighPrecision&gt;true&lt;/HighPrecision&gt;&lt;LeftLongitude&gt;-180&lt;/LeftLongitude&gt;&lt;WKID&gt;4674&lt;/WKID&gt;&lt;LatestWKID&gt;4674&lt;/LatestWKID&gt;&lt;/GeographicCoordinateSystem&gt;</peXml>
</coordRef>
<RasterProperties>
<General>
<PixelDepth Sync="TRUE">8</PixelDepth>
<HasColormap Sync="TRUE">FALSE</HasColormap>
<CompressionType Sync="TRUE">YCbCr JPEG</CompressionType>
<NumBands Sync="TRUE">3</NumBands>
<Format Sync="TRUE">TIFF</Format>
<HasPyramids Sync="TRUE">TRUE</HasPyramids>
<SourceType Sync="TRUE">continuous</SourceType>
<PixelType Sync="TRUE">unsigned integer</PixelType>
<NoDataValue Sync="TRUE">
</NoDataValue>
</General>
</RasterProperties>
</DataProperties>
<SyncDate>20210914</SyncDate>
<SyncTime>17393400</SyncTime>
<ModDate>20210915</ModDate>
<ModTime>11582300</ModTime>
</Esri>
<mdFileID>6d9fb1fb-6182-4ff6-a5cc-830ea0d0117a</mdFileID>
<mdLang>
<languageCode value="pt-BR">
</languageCode>
<countryCode Sync="TRUE" value="BRA">
</countryCode>
</mdLang>
<mdChar>
<CharSetCd value="004">
</CharSetCd>
</mdChar>
<mdHrLv>
<ScopeCd value="005">
</ScopeCd>
</mdHrLv>
<mdContact>
<rpIndName>Gabriel Thomé Brochado</rpIndName>
<rpOrgName>1º Centro de Geoinformação</rpOrgName>
<rpPosName>Responsável Técnico</rpPosName>
</mdContact>
<mdDateSt Sync="TRUE">20210915</mdDateSt>
<mdStanName>ArcGIS Metadata</mdStanName>
<mdStanVer>1.0</mdStanVer>
<distInfo>
<distFormat>
<formatName>Geo Tif</formatName>
<formatVer>1.8.2</formatVer>
</distFormat>
<distributor>
<distorCont>
<rpOrgName>Secretaria do Planejamento, Governança e Gestão do Estado do Rio Grande do Sul</rpOrgName>
<rpCntInfo>
<cntPhone>
<voiceNum>+55 (51) 3288-6700</voiceNum>
</cntPhone>
<cntAddress>
<delPoint>Av. Borges de Medeiros, 1501 - Porto Alegre/RS</delPoint>
</cntAddress>
</rpCntInfo>
</distorCont>
<distorOrdPrc>
<resFees>Gratuito</resFees>
</distorOrdPrc>
</distributor>
</distInfo>
<dataIdInfo>
<idCitation>
<resTitle>Carta Topográfica 1:25.000 – PONTAL DAS DESERTAS - SH-22-Z-A-I-3-SO - 2988-3-SO</resTitle>
<resAltTitle>PONTAL DAS DESERTAS</resAltTitle>
<resEd>1ª Edição</resEd>
<resEdDate>20210712</resEdDate>
<datasetSeries>
<seriesName>Projeto de Mapeamento do Rio Grande do Sul</seriesName>
</datasetSeries>
<presForm>
<PresFormCd Sync="TRUE" value="005">
</PresFormCd>
</presForm>
</idCitation>
<idAbs>&lt;DIV STYLE="text-align:Left;"&gt;&lt;P STYLE="text-align:Justify;margin:0 0 0 0;"&gt;&lt;SPAN&gt;Base cartográfica digital da Região Funcional 1 com geoinformações atualizadas, compatível à escala de 1:25.000, com Padrão de Exatidão Cartográfica (PEC) Classe A, a partir de ortoimagens digitais com resolução espacial de 35cm, datadas de 2019, contemplando classes das seguintes categorias de informação: Agricultura, Biota, Limites, Ciências Atmosféricas, Economia, Elevação, Ambiente, Geocientífico, Saúde, Imagens e Mapas Base, Exército &amp;amp; Inteligência, Águas Interiores, Local, Planejamento e Cadastro, Sociedade, Estrutura, Transporte, Utilitários e Comunicação. Foram geradas 174 cartas topográficas, 174 conjunto de dados geoespaciais vetoriais (CDGV) e uma base contínua vetorial, atendendo às seguintes normas técnicas da Infraestrutura Nacional de Dados Espaciais (INDE): Especificação Técnica para Estruturação de Dados Geoespaciais Vetoriais (ET-EDGV), Especificação Técnica para Aquisição de Dados Geoespaciais Vetoriais (ET-ADGV), Especificação Técnica para Produtos de Conjuntos de Dados Geoespaciais (ET-PCDG) e Especificação Técnica para Controle de Qualidade de Dados Geoespaciais (ET-CQDG).&lt;/SPAN&gt;&lt;/P&gt;&lt;/DIV&gt;</idAbs>
<idPoC>
<rpOrgName>Secretaria do Planejamento, Governança e Gestão do Estado do Rio Grande do Sul</rpOrgName>
<rpCntInfo>
<cntPhone>
<voiceNum>+55 (51) 3288-6700</voiceNum>
</cntPhone>
<cntAddress>
<delPoint>Av. Borges de Medeiros, 1501 - Porto Alegre/RS</delPoint>
</cntAddress>
</rpCntInfo>
</idPoC>
<otherKeys>
<keyword>Projeto de Mapeamento do Rio Grande do Sul</keyword>
</otherKeys>
<otherKeys>
<keyword>Região Funcional 1</keyword>
</otherKeys>
<searchKeys>
<keyword>Mapeamento do Rio Grande do Sul</keyword>
<keyword>Escala 1:25.000</keyword>
<keyword>Região Funcional 1</keyword>
<keyword>Carta Topográfica</keyword>
</searchKeys>
<resConst>
<LegConsts>
<useLimit>copyright</useLimit>
</LegConsts>
<Consts>
<useLimit/>
</Consts>
</resConst>
<aggrInfo>
<aggrDSName>
<resTitle>Região Funcional 1 - Lote 2</resTitle>
</aggrDSName>
</aggrInfo>
<dataScale>
<equScale>
<rfDenom>25000</rfDenom>
</equScale>
<equScale>
<rfDenom>25000</rfDenom>
</equScale>
</dataScale>
<dataLang>
<languageCode value="pt-BR">
</languageCode>
<countryCode Sync="TRUE" value="BRA">
</countryCode>
</dataLang>
<dataExt>
<geoEle>
<GeoBndBox>
<westBL>-51.00000013617978</westBL>
<eastBL>-50.87500005960709</eastBL>
<southBL>-30.499999936910427</southBL>
<northBL>-30.374999860337738</northBL>
</GeoBndBox>
</geoEle>
</dataExt>
<suppInfo>A definição deste tipo de produto encontra-se na Especificação Técnica para Produtos de Conjuntos de Dados Geoespaciais (ET-PCDG). A PCDG pode ser obtida no Geoportal do Exército Brasileiro (http://www.geoportal.eb.mil.br).</suppInfo>
<envirDesc Sync="FALSE">Esri ArcGIS 12.6.0.24783</envirDesc>
<spatRpType>
<SpatRepTypCd Sync="TRUE" value="002">
</SpatRepTypCd>
</spatRpType>
<dataExt>
<geoEle>
<GeoBndBox esriExtentType="search">
<exTypeCode Sync="TRUE">1</exTypeCode>
<westBL Sync="TRUE">-51.052268</westBL>
<eastBL Sync="TRUE">-50.822473</eastBL>
<northBL Sync="TRUE">-30.357741</northBL>
<southBL Sync="TRUE">-30.509077</southBL>
</GeoBndBox>
</geoEle>
</dataExt>
<idPurp>Base cartográfica digital da Região Funcional 1 (RF1), na escala de 1:25.000, com Padrão de Exatidão Cartográfica (PEC) Classe A, elaborada a partir de...</idPurp>
<idCredit>Governo do Estado do Rio Grande do Sul - Secretaria de Planejamento, Governança e Gestão; Exército Brasileiro - Diretoria de Serviço Geográfico - 1° Centro de Geoinformação</idCredit>
<tpCat>
<TopicCatCd value="003">
</TopicCatCd>
</tpCat>
<tpCat>
<TopicCatCd value="006">
</TopicCatCd>
</tpCat>
<tpCat>
<TopicCatCd value="010">
</TopicCatCd>
</tpCat>
<tpCat>
<TopicCatCd value="011">
</TopicCatCd>
</tpCat>
</dataIdInfo>
<dqInfo>
<dataLineage>
<prcStep>
<stepDesc>Coleta de Pontos de Apoio de campo realizada com o objetivo de orientar as imagens aéreas na etapa de aerotriangulação. Para realização desta etapa foram rastreados pontos de apoio suplementar, com tempo de ocupação mínima de 30 minutos e foram utilizadas como base as estações da RBMC.</stepDesc>
<stepDateTm>0001-01-01</stepDateTm>
</prcStep>
<prcStep>
<stepDesc>Voo fotogramétrico realizado utilizando aeronave Piper, camera digital Vexcel Ultracam LP, sistema de navegação inercial IMU e berço giro estabilizador.</stepDesc>
<stepDateTm>2018-04-19</stepDateTm>
<stepSrc>
<srcDesc>Fotografia Aerea</srcDesc>
<srcCitatn>
<resTitle>02_69_1472</resTitle>
</srcCitatn>
<srcExt>
<geoEle>
<GeoBndBox>
<westBL>-50.9835076838993</westBL>
<eastBL>-50.9538778492722</eastBL>
<southBL>-30.3697385007189</southBL>
<northBL>-30.3322998001245</northBL>
</GeoBndBox>
</geoEle>
</srcExt>
</stepSrc>
<stepSrc>
<srcDesc>Fotografia Aerea</srcDesc>
<srcCitatn>
<resTitle>02_69_1470</resTitle>
</srcCitatn>
<srcExt>
<geoEle>
<GeoBndBox>
<westBL>-51.0063432459234</westBL>
<eastBL>-50.9773339336994</eastBL>
<southBL>-30.3694363927507</southBL>
<northBL>-30.3324662486249</northBL>
</GeoBndBox>
</geoEle>
</srcExt>
</stepSrc>
<stepSrc>
<srcDesc>Fotografia Aerea</srcDesc>
<srcCitatn>
<resTitle>02_69_1471</resTitle>
</srcCitatn>
<srcExt>
<geoEle>
<GeoBndBox>
<westBL>-50.9952061549127</westBL>
<eastBL>-50.9655891267812</eastBL>
<southBL>-30.3697208141931</southBL>
<northBL>-30.3322674899073</northBL>
</GeoBndBox>
</geoEle>
</srcExt>
</stepSrc>
<stepSrc>
<srcDesc>Fotografia Aerea</srcDesc>
<srcCitatn>
<resTitle>02_69_1468</resTitle>
</srcCitatn>
<srcExt>
<geoEle>
<GeoBndBox>
<westBL>-51.029399919056</westBL>
<eastBL>-51.0004186016586</eastBL>
<southBL>-30.3694181366997</southBL>
<northBL>-30.3324825335928</northBL>
</GeoBndBox>
</geoEle>
</srcExt>
</stepSrc>
<stepSrc>
<srcDesc>Fotografia Aerea</srcDesc>
<srcCitatn>
<resTitle>02_69_1469</resTitle>
</srcCitatn>
<srcExt>
<geoEle>
<GeoBndBox>
<westBL>-51.0180475208736</westBL>
<eastBL>-50.9885512004525</eastBL>
<southBL>-30.3695606180331</southBL>
<northBL>-30.3322558226661</northBL>
</GeoBndBox>
</geoEle>
</srcExt>
</stepSrc>
<stepSrc>
<srcDesc>Fotografia Aerea</srcDesc>
<srcCitatn>
<resTitle>02_69_1473</resTitle>
</srcCitatn>
<srcExt>
<geoEle>
<GeoBndBox>
<westBL>-50.9721383038387</westBL>
<eastBL>-50.9425270426463</eastBL>
<southBL>-30.369651215991</southBL>
<northBL>-30.332211059601</northBL>
</GeoBndBox>
</geoEle>
</srcExt>
</stepSrc>
<stepSrc>
<srcDesc>Fotografia Aerea</srcDesc>
<srcCitatn>
<resTitle>02_71_1521</resTitle>
</srcCitatn>
<srcExt>
<geoEle>
<GeoBndBox>
<westBL>-51.0182565145851</westBL>
<eastBL>-50.9887855250061</eastBL>
<southBL>-30.4218190367832</southBL>
<northBL>-30.3845885435888</northBL>
</GeoBndBox>
</geoEle>
</srcExt>
</stepSrc>
<stepSrc>
<srcDesc>Fotografia Aerea</srcDesc>
<srcCitatn>
<resTitle>02_69_1475</resTitle>
</srcCitatn>
<srcExt>
<geoEle>
<GeoBndBox>
<westBL>-50.948715991615</westBL>
<eastBL>-50.9196819692525</eastBL>
<southBL>-30.3693817695582</southBL>
<northBL>-30.3323952578081</northBL>
</GeoBndBox>
</geoEle>
</srcExt>
</stepSrc>
<stepSrc>
<srcDesc>Fotografia Aerea</srcDesc>
<srcCitatn>
<resTitle>02_69_1474</resTitle>
</srcCitatn>
<srcExt>
<geoEle>
<GeoBndBox>
<westBL>-50.9602278041501</westBL>
<eastBL>-50.9312268432393</eastBL>
<southBL>-30.369382556048</southBL>
<northBL>-30.3324344799877</northBL>
</GeoBndBox>
</geoEle>
</srcExt>
</stepSrc>
<stepSrc>
<srcDesc>Fotografia Aerea</srcDesc>
<srcCitatn>
<resTitle>02_69_1476</resTitle>
</srcCitatn>
<srcExt>
<geoEle>
<GeoBndBox>
<westBL>-50.9371636670739</westBL>
<eastBL>-50.9081954539852</eastBL>
<southBL>-30.369355626114</southBL>
<northBL>-30.3324466321417</northBL>
</GeoBndBox>
</geoEle>
</srcExt>
</stepSrc>
<stepSrc>
<srcDesc>Fotografia Aerea</srcDesc>
<srcCitatn>
<resTitle>02_70_1491</resTitle>
</srcCitatn>
<srcExt>
<geoEle>
<GeoBndBox>
<westBL>-50.9603960286517</westBL>
<eastBL>-50.9309020269093</eastBL>
<southBL>-30.3957403985576</southBL>
<northBL>-30.358483336868</northBL>
</GeoBndBox>
</geoEle>
</srcExt>
</stepSrc>
<stepSrc>
<srcDesc>Fotografia Aerea</srcDesc>
<srcCitatn>
<resTitle>02_70_1490</resTitle>
</srcCitatn>
<srcExt>
<geoEle>
<GeoBndBox>
<westBL>-50.9485809064995</westBL>
<eastBL>-50.9197235832727</eastBL>
<southBL>-30.395518994031</southBL>
<northBL>-30.3586533181603</northBL>
</GeoBndBox>
</geoEle>
</srcExt>
</stepSrc>
<stepSrc>
<srcDesc>Fotografia Aerea</srcDesc>
<srcCitatn>
<resTitle>02_70_1492</resTitle>
</srcCitatn>
<srcExt>
<geoEle>
<GeoBndBox>
<westBL>-50.9719822245076</westBL>
<eastBL>-50.9425815807601</eastBL>
<southBL>-30.3956796287916</southBL>
<northBL>-30.3585158783563</northBL>
</GeoBndBox>
</geoEle>
</srcExt>
</stepSrc>
<stepSrc>
<srcDesc>Fotografia Aerea</srcDesc>
<srcCitatn>
<resTitle>02_70_1493</resTitle>
</srcCitatn>
<srcExt>
<geoEle>
<GeoBndBox>
<westBL>-50.9832394066249</westBL>
<eastBL>-50.9543029991265</eastBL>
<southBL>-30.3955819715781</southBL>
<northBL>-30.3586163640824</northBL>
</GeoBndBox>
</geoEle>
</srcExt>
</stepSrc>
<stepSrc>
<srcDesc>Fotografia Aerea</srcDesc>
<srcCitatn>
<resTitle>02_70_1494</resTitle>
</srcCitatn>
<srcExt>
<geoEle>
<GeoBndBox>
<westBL>-50.9946766633288</westBL>
<eastBL>-50.9659361100384</eastBL>
<southBL>-30.3955071502995</southBL>
<northBL>-30.3587950271584</northBL>
</GeoBndBox>
</geoEle>
</srcExt>
</stepSrc>
<stepSrc>
<srcDesc>Fotografia Aerea</srcDesc>
<srcCitatn>
<resTitle>02_70_1495</resTitle>
</srcCitatn>
<srcExt>
<geoEle>
<GeoBndBox>
<westBL>-51.0062477791546</westBL>
<eastBL>-50.9774232997288</eastBL>
<southBL>-30.3956287227457</southBL>
<northBL>-30.3588115362137</northBL>
</GeoBndBox>
</geoEle>
</srcExt>
</stepSrc>
<stepSrc>
<srcDesc>Fotografia Aerea</srcDesc>
<srcCitatn>
<resTitle>02_70_1496</resTitle>
</srcCitatn>
<srcExt>
<geoEle>
<GeoBndBox>
<westBL>-51.0178059609545</westBL>
<eastBL>-50.9889674673887</eastBL>
<southBL>-30.3955771523966</southBL>
<northBL>-30.3587430376276</northBL>
</GeoBndBox>
</geoEle>
</srcExt>
</stepSrc>
<stepSrc>
<srcDesc>Fotografia Aerea</srcDesc>
<srcCitatn>
<resTitle>02_70_1497</resTitle>
</srcCitatn>
<srcExt>
<geoEle>
<GeoBndBox>
<westBL>-51.0296032922385</westBL>
<eastBL>-51.0001348358575</eastBL>
<southBL>-30.3958419585194</southBL>
<northBL>-30.358599637033</northBL>
</GeoBndBox>
</geoEle>
</srcExt>
</stepSrc>
<stepSrc>
<srcDesc>Fotografia Aerea</srcDesc>
<srcCitatn>
<resTitle>02_71_1523</resTitle>
</srcCitatn>
<srcExt>
<geoEle>
<GeoBndBox>
<westBL>-50.9948199628691</westBL>
<eastBL>-50.9657724233539</eastBL>
<southBL>-30.4216677301955</southBL>
<northBL>-30.3848096746557</northBL>
</GeoBndBox>
</geoEle>
</srcExt>
</stepSrc>
<stepSrc>
<srcDesc>Fotografia Aerea</srcDesc>
<srcCitatn>
<resTitle>02_71_1522</resTitle>
</srcCitatn>
<srcExt>
<geoEle>
<GeoBndBox>
<westBL>-51.0064769480299</westBL>
<eastBL>-50.9769110006438</eastBL>
<southBL>-30.4219054921971</southBL>
<northBL>-30.3845561625731</northBL>
</GeoBndBox>
</geoEle>
</srcExt>
</stepSrc>
<stepSrc>
<srcDesc>Fotografia Aerea</srcDesc>
<srcCitatn>
<resTitle>02_71_1524</resTitle>
</srcCitatn>
<srcExt>
<geoEle>
<GeoBndBox>
<westBL>-50.9832162981472</westBL>
<eastBL>-50.9543017564808</eastBL>
<southBL>-30.421563823858</southBL>
<northBL>-30.3848736616033</northBL>
</GeoBndBox>
</geoEle>
</srcExt>
</stepSrc>
<stepSrc>
<srcDesc>Fotografia Aerea</srcDesc>
<srcCitatn>
<resTitle>02_71_1525</resTitle>
</srcCitatn>
<srcExt>
<geoEle>
<GeoBndBox>
<westBL>-50.971861501733</westBL>
<eastBL>-50.9423043010416</eastBL>
<southBL>-30.4219036205352</southBL>
<northBL>-30.3845740816319</northBL>
</GeoBndBox>
</geoEle>
</srcExt>
</stepSrc>
<stepSrc>
<srcDesc>Fotografia Aerea</srcDesc>
<srcCitatn>
<resTitle>02_71_1526</resTitle>
</srcCitatn>
<srcExt>
<geoEle>
<GeoBndBox>
<westBL>-50.9606037231578</westBL>
<eastBL>-50.9310680992987</eastBL>
<southBL>-30.4218271105483</southBL>
<northBL>-30.3845003158265</northBL>
</GeoBndBox>
</geoEle>
</srcExt>
</stepSrc>
<stepSrc>
<srcDesc>Fotografia Aerea</srcDesc>
<srcCitatn>
<resTitle>02_71_1527</resTitle>
</srcCitatn>
<srcExt>
<geoEle>
<GeoBndBox>
<westBL>-50.9487225395653</westBL>
<eastBL>-50.9192985417655</eastBL>
<southBL>-30.4217999804049</southBL>
<northBL>-30.3846377238174</northBL>
</GeoBndBox>
</geoEle>
</srcExt>
</stepSrc>
<stepSrc>
<srcDesc>Fotografia Aerea</srcDesc>
<srcCitatn>
<resTitle>02_72_1539</resTitle>
</srcCitatn>
<srcExt>
<geoEle>
<GeoBndBox>
<westBL>-50.9140499216777</westBL>
<eastBL>-50.8845733728605</eastBL>
<southBL>-30.4478904120085</southBL>
<northBL>-30.4106960228923</northBL>
</GeoBndBox>
</geoEle>
</srcExt>
</stepSrc>
<stepSrc>
<srcDesc>Fotografia Aerea</srcDesc>
<srcCitatn>
<resTitle>02_72_1540</resTitle>
</srcCitatn>
<srcExt>
<geoEle>
<GeoBndBox>
<westBL>-50.9255668022594</westBL>
<eastBL>-50.8964855630003</eastBL>
<southBL>-30.4476352663209</southBL>
<northBL>-30.4109170356385</northBL>
</GeoBndBox>
</geoEle>
</srcExt>
</stepSrc>
<stepSrc>
<srcDesc>Fotografia Aerea</srcDesc>
<srcCitatn>
<resTitle>02_72_1541</resTitle>
</srcCitatn>
<srcExt>
<geoEle>
<GeoBndBox>
<westBL>-50.9371541018444</westBL>
<eastBL>-50.9080086934547</eastBL>
<southBL>-30.4477717858951</southBL>
<northBL>-30.4109664387847</northBL>
</GeoBndBox>
</geoEle>
</srcExt>
</stepSrc>
<stepSrc>
<srcDesc>Fotografia Aerea</srcDesc>
<srcCitatn>
<resTitle>02_72_1542</resTitle>
</srcCitatn>
<srcExt>
<geoEle>
<GeoBndBox>
<westBL>-50.9486767322301</westBL>
<eastBL>-50.9195664308161</eastBL>
<southBL>-30.447623136456</southBL>
<northBL>-30.4108651043176</northBL>
</GeoBndBox>
</geoEle>
</srcExt>
</stepSrc>
<stepSrc>
<srcDesc>Fotografia Aerea</srcDesc>
<srcCitatn>
<resTitle>02_72_1543</resTitle>
</srcCitatn>
<srcExt>
<geoEle>
<GeoBndBox>
<westBL>-50.9605567717882</westBL>
<eastBL>-50.9311840544062</eastBL>
<southBL>-30.4478383890514</southBL>
<northBL>-30.4107496358884</northBL>
</GeoBndBox>
</geoEle>
</srcExt>
</stepSrc>
<stepSrc>
<srcDesc>Fotografia Aerea</srcDesc>
<srcCitatn>
<resTitle>02_72_1544</resTitle>
</srcCitatn>
<srcExt>
<geoEle>
<GeoBndBox>
<westBL>-50.9717636894114</westBL>
<eastBL>-50.9426521742649</eastBL>
<southBL>-30.4476970080092</southBL>
<northBL>-30.4109350824452</northBL>
</GeoBndBox>
</geoEle>
</srcExt>
</stepSrc>
</prcStep>
<prcStep>
<stepDesc>Aerotriangulação gerada para o lote 02 utilizando as imagens aerofogrametricas e pontos de apoio citados anteriormente.</stepDesc>
<stepDateTm>2018-08-21</stepDateTm>
</prcStep>
<prcStep>
<stepDesc>Modelo Digital de Terreno com resolução espacial de 40 metros por pixel, gerado através de correlação esteroscópica de fotografias aéreas com objetivo exclusivo de geração de Ortofotos.</stepDesc>
<stepDateTm>2018-11-06</stepDateTm>
</prcStep>
<prcStep>
<stepDesc>Aquisição vetorial a partir da ortoimagem</stepDesc>
<stepDateTm>2019-04-20</stepDateTm>
</prcStep>
<prcStep>
<stepDesc>Reambulação</stepDesc>
<stepDateTm>2019-05-24</stepDateTm>
</prcStep>
<prcStep>
<stepDesc>ORTOIMAGEM com resolução espacial de 35cm, nas bandas R,G,B e IR, 8 bits.</stepDesc>
<stepDateTm>2019-08-02</stepDateTm>
</prcStep>
<prcStep>
<stepDesc>Modelo Digital de Superfície com resolução espacial de 2,5 metros por pixel, gerado através de correlação esteroscópica de fotografias aéreas.</stepDesc>
<stepDateTm>2020-10-22</stepDateTm>
</prcStep>
<prcStep>
<stepDesc>Restituição da Hidrografia realizada a partir de processos de restituição estereofotogrametrica na escala 1:25000, obtida seguindo as especificações técnicas da ET-ADGV e estruturada seguindo as especificações técnicas da ET-EDGV.</stepDesc>
<stepDateTm>2020-10-22</stepDateTm>
</prcStep>
<prcStep>
<stepDesc>Modelo Digital de Terreno com resolução espacial de 2,5 metros por pixel, gerado através de correlação esteroscópica de fotografias aéreas e processos de filtragem. Para melhor modelagem do MDT foram utilizadas as breaklines da hidrografia como injunção nos modelos.</stepDesc>
<stepDateTm>2020-10-22</stepDateTm>
</prcStep>
<prcStep>
<stepDesc>Curvas de Nível geradas com equidistância de 10 metros a partir do MDT.</stepDesc>
<stepDateTm>2020-10-22</stepDateTm>
</prcStep>
<prcStep>
<stepDesc>Pontos Cotados obtido a partir do Modelo Digital do Terreno.</stepDesc>
<stepDateTm>2020-10-22</stepDateTm>
</prcStep>
<prcStep>
<stepDesc>Validação</stepDesc>
<stepDateTm>2021-06-25</stepDateTm>
</prcStep>
<prcStep>
<stepDesc>Criacão da área contínua</stepDesc>
<stepDateTm>2021-07-05</stepDateTm>
</prcStep>
<prcStep>
<stepDesc>Edição</stepDesc>
<stepDateTm>2021-07-12</stepDateTm>
</prcStep>
<statement>Aquisição vetorial na escala 1:25.000, a partir da ortoimagem com resolução espacial de 35 cm, nas bandas R,G, B e IR, 8 bits seguindo as especificações de aquisição e estruturação contidas nas normas ET-ADGV e ET-EDGV.</statement>
</dataLineage>
</dqInfo>
<spatRepInfo>
<Georect>
<cellGeo>
<CellGeoCd Sync="TRUE" value="002">
</CellGeoCd>
</cellGeo>
<numDims Sync="TRUE">2</numDims>
<tranParaAv Sync="TRUE">1</tranParaAv>
<chkPtAv Sync="TRUE">0</chkPtAv>
<cornerPts>
<pos Sync="TRUE">-51.052268 -30.509077</pos>
</cornerPts>
<cornerPts>
<pos Sync="TRUE">-51.052268 -30.357741</pos>
</cornerPts>
<cornerPts>
<pos Sync="TRUE">-50.822473 -30.357741</pos>
</cornerPts>
<cornerPts>
<pos Sync="TRUE">-50.822473 -30.509077</pos>
</cornerPts>
<centerPt>
<pos Sync="TRUE">-50.937371 -30.433409</pos>
</centerPt>
<axisDimension type="002">
<dimSize Sync="TRUE">13900</dimSize>
<dimResol>
<value Sync="TRUE" uom="Grau">0.000017</value>
</dimResol>
</axisDimension>
<axisDimension type="001">
<dimSize Sync="TRUE">10564</dimSize>
<dimResol>
<value Sync="TRUE" uom="Grau">0.000014</value>
</dimResol>
</axisDimension>
<ptInPixel>
<PixOrientCd Sync="TRUE" value="001">
</PixOrientCd>
</ptInPixel>
</Georect>
</spatRepInfo>
<refSysInfo>
<RefSystem>
<refSysID>
<identCode code="4674">
</identCode>
<identVrsn>7.4</identVrsn>
<idCodeSpace Sync="TRUE">EPSG</idCodeSpace>
<idVersion Sync="TRUE">9.7(9.2.0)</idVersion>
</refSysID>
</RefSystem>
</refSysInfo>
<contInfo>
<ERROR>gmd:MD_FeatureCatalogueDescription</ERROR>
<ImgDesc>
<contentTyp>
<ContentTypCd Sync="TRUE" value="001">
</ContentTypCd>
</contentTyp>
<covDim>
<Band>
<dimDescrp Sync="TRUE">Band_1</dimDescrp>
<maxVal Sync="TRUE">255.000000</maxVal>
<minVal Sync="TRUE">0.000000</minVal>
<bitsPerVal Sync="TRUE">8</bitsPerVal>
<valUnit>
<UOM type="length">
</UOM>
</valUnit>
</Band>
<Band>
<dimDescrp Sync="TRUE">Band_2</dimDescrp>
<maxVal Sync="TRUE">255.000000</maxVal>
<minVal Sync="TRUE">0.000000</minVal>
<bitsPerVal Sync="TRUE">8</bitsPerVal>
<valUnit>
<UOM type="length">
</UOM>
</valUnit>
</Band>
<Band>
<dimDescrp Sync="TRUE">Band_3</dimDescrp>
<maxVal Sync="TRUE">255.000000</maxVal>
<minVal Sync="TRUE">0.000000</minVal>
<bitsPerVal Sync="TRUE">8</bitsPerVal>
<valUnit>
<UOM type="length">
</UOM>
</valUnit>
</Band>
</covDim>
</ImgDesc>
</contInfo>
<contInfo>
<ERROR>gmd:MD_ImageDescription</ERROR>
<ImgDesc>
<contentTyp>
<ContentTypCd Sync="TRUE" value="001">
</ContentTypCd>
</contentTyp>
<covDim>
<Band>
<dimDescrp Sync="TRUE">Band_1</dimDescrp>
<maxVal Sync="TRUE">255.000000</maxVal>
<minVal Sync="TRUE">0.000000</minVal>
<bitsPerVal Sync="TRUE">8</bitsPerVal>
<valUnit>
<UOM type="length">
</UOM>
</valUnit>
</Band>
<Band>
<dimDescrp Sync="TRUE">Band_2</dimDescrp>
<maxVal Sync="TRUE">255.000000</maxVal>
<minVal Sync="TRUE">0.000000</minVal>
<bitsPerVal Sync="TRUE">8</bitsPerVal>
<valUnit>
<UOM type="length">
</UOM>
</valUnit>
</Band>
<Band>
<dimDescrp Sync="TRUE">Band_3</dimDescrp>
<maxVal Sync="TRUE">255.000000</maxVal>
<minVal Sync="TRUE">0.000000</minVal>
<bitsPerVal Sync="TRUE">8</bitsPerVal>
<valUnit>
<UOM type="length">
</UOM>
</valUnit>
</Band>
</covDim>
</ImgDesc>
</contInfo>
<mdHrLvName Sync="TRUE">dataset</mdHrLvName>
</metadata>
