{ "currentVersion": 11.5, "serviceDescription": "

Base cartográfica digital da Região Funcional 1 com geoinformações atualizadas, compatível à escala de 1:25.000, com Padrão de Exatidão Cartográfica (PEC) Classe A, a partir de ortoimagens digitais com resolução espacial de 35cm, datadas de 2019, contemplando classes das seguintes categorias de informação: Agricultura, Biota, Limites, Ciências Atmosféricas, Economia, Elevação, Ambiente, Geocientífico, Saúde, Imagens e Mapas Base, Exército & Inteligência, Águas Interiores, Local, Planejamento e Cadastro, Sociedade, Estrutura, Transporte, Utilitários e Comunicação. Foram geradas 174 cartas topográficas, 174 conjunto de dados geoespaciais vetoriais (CDGV) e uma base contínua vetorial, atendendo às seguintes normas técnicas da Infraestrutura Nacional de Dados Espaciais (INDE): Especificação Técnica para Estruturação de Dados Geoespaciais Vetoriais (ET-EDGV), Especificação Técnica para Aquisição de Dados Geoespaciais Vetoriais (ET-ADGV), Especificação Técnica para Produtos de Conjuntos de Dados Geoespaciais (ET-PCDG) e Especificação Técnica para Controle de Qualidade de Dados Geoespaciais (ET-CQDG).<\/SPAN><\/P><\/DIV>", "serviceItemId": "6865f053bcc04e90bbcbc30eaea2a90f", "name": "CARTAS_BASE25/Carta_Topo_MI_2998_2_SE", "description": "

Base cartográfica digital da Região Funcional 1 com geoinformações atualizadas, compatível à escala de 1:25.000, com Padrão de Exatidão Cartográfica (PEC) Classe A, a partir de ortoimagens digitais com resolução espacial de 35cm, datadas de 2019, contemplando classes das seguintes categorias de informação: Agricultura, Biota, Limites, Ciências Atmosféricas, Economia, Elevação, Ambiente, Geocientífico, Saúde, Imagens e Mapas Base, Exército & Inteligência, Águas Interiores, Local, Planejamento e Cadastro, Sociedade, Estrutura, Transporte, Utilitários e Comunicação. Foram geradas 174 cartas topográficas, 174 conjunto de dados geoespaciais vetoriais (CDGV) e uma base contínua vetorial, atendendo às seguintes normas técnicas da Infraestrutura Nacional de Dados Espaciais (INDE): Especificação Técnica para Estruturação de Dados Geoespaciais Vetoriais (ET-EDGV), Especificação Técnica para Aquisição de Dados Geoespaciais Vetoriais (ET-ADGV), Especificação Técnica para Produtos de Conjuntos de Dados Geoespaciais (ET-PCDG) e Especificação Técnica para Controle de Qualidade de Dados Geoespaciais (ET-CQDG).<\/SPAN><\/P><\/DIV>", "extent": { "xmin": -52.17906977085178, "ymin": -30.760784472260276, "xmax": -51.94725401631056, "ymax": -30.607712144260333, "spatialReference": { "wkid": 4674, "latestWkid": 4674 } }, "initialExtent": { "xmin": -52.17906977085178, "ymin": -30.760784472260276, "xmax": -51.94725401631056, "ymax": -30.607712144260333, "spatialReference": { "wkid": 4674, "latestWkid": 4674 } }, "fullExtent": { "xmin": -52.17906977085178, "ymin": -30.760784472260276, "xmax": -51.94725401631056, "ymax": -30.607712144260333, "spatialReference": { "wkid": 4674, "latestWkid": 4674 } }, "sortableFields": "", "bandCount": 3, "pixelType": "U8", "minValues": [ 0, 0, 0 ], "maxValues": [ 255, 255, 255 ], "meanValues": [ 216.33708456252, 230.08075902538, 216.90469653311 ], "stdvValues": [ 66.302813488709, 58.557541289843, 65.827467467034 ], "serviceProperties": "Center<\/MosaicMethod>First<\/MosaicOperator>true<\/SortAscending><\/LockImageID><\/TileOrderField>0<\/TileOrderBase>0.000000<\/AvgImageSpacingX>0.000000<\/AvgImageSpacingY>0.0<\/ViewPointX>0.0<\/ViewPointY>0.0<\/ViewPointDefShiftX>0.0<\/ViewPointDefShiftY>None<\/CompressionMethod>75<\/CompressionQuality>0.010000<\/CompressionTolerance>Nearest<\/SamplingMethod><\/ImageServiceProperties><\/ImageServer>", "allowedFields": "", "hasMultidimensions": false, "pixelSizeX": 1.6572473158508962E-5, "pixelSizeY": 1.4323227098338498E-5, "meanPixelSize": 1.719646810146935, "datasetFormat": "TIFF", "uncompressedSize": 448469268, "blockWidth": 13988, "blockHeight": 80, "compressionType": "YCbCr JPEG", "bandNames": [ "Band_1", "Band_2", "Band_3" ], "allowCopy": true, "allowAnalysis": true, "itemAccess": false, "inspectionCapabilities": "", "minPixelSize": 0, "maxPixelSize": 0, "copyrightText": "Governo do Estado do Rio Grande do Sul - Secretaria de Planejamento, Governança e Gestão; Exército Brasileiro - Diretoria de Serviço Geográfico - 1° Centro de Geoinformação", "serviceDataType": "esriImageServiceDataTypeRGB", "serviceSourceType": "esriImageServiceSourceTypeDataset", "objectIdField": "", "fields": [], "capabilities": "Image,Metadata,Mensuration", "defaultMosaicMethod": "Center", "allowedMosaicMethods": "", "sortField": "", "sortValue": null, "sortAscending": true, "mosaicOperator": "First", "defaultCompressionQuality": 75, "defaultResamplingMethod": "Nearest", "maxImageHeight": 4100, "maxImageWidth": 15000, "allowRasterFunction": true, "rasterFunctionInfos": [ { "name": "None", "description": "", "help": "" } ], "rasterTypeInfos": [ { "name": "Raster Dataset", "description": "Supports all ArcGIS Raster Datasets", "help": "" } ], "mensurationCapabilities": "Basic", "hasHistograms": true, "hasColormap": false, "hasRasterAttributeTable": false, "minScale": 0, "maxScale": 0, "exportTilesAllowed": false, "supportsStatistics": false, "supportsAdvancedQueries": false, "editFieldsInfo": null, "ownershipBasedAccessControlForRasters": null, "allowComputeTiePoints": false, "useStandardizedQueries": true, "advancedQueryCapabilities": { "useStandardizedQueries": true, "supportsStatistics": false, "supportsOrderBy": false, "supportsDistinct": false, "supportsPagination": false }, "spatialReference": { "wkid": 4674, "latestWkid": 4674 } }