<?xml version="1.0" encoding="UTF-8" standalone="no"?>
<metadata xml:lang="pt">
<Esri>
<CreaDate>20210916</CreaDate>
<CreaTime>09185800</CreaTime>
<ArcGISFormat>1.0</ArcGISFormat>
<SyncOnce>FALSE</SyncOnce>
<scaleRange>
<minScale>25000</minScale>
<maxScale>25000</maxScale>
</scaleRange>
<DataProperties>
<itemProps>
<itemName Sync="TRUE">Carta_Topo_MI 3000-3-NE.tif</itemName>
<imsContentType Sync="TRUE" export="False">002</imsContentType>
<nativeExtBox>
<westBL Sync="TRUE">-51.428163</westBL>
<eastBL Sync="TRUE">-51.197184</eastBL>
<southBL Sync="TRUE">-30.884506</southBL>
<northBL Sync="TRUE">-30.732736</northBL>
<exTypeCode Sync="TRUE">1</exTypeCode>
</nativeExtBox>
</itemProps>
<coordRef>
<type Sync="TRUE">Geographic</type>
<geogcsn Sync="TRUE">GCS_SIRGAS_2000</geogcsn>
<csUnits Sync="TRUE">Angular Unit: Degree (0.017453)</csUnits>
<peXml Sync="TRUE">&lt;GeographicCoordinateSystem xsi:type='typens:GeographicCoordinateSystem' xmlns:xsi='http://www.w3.org/2001/XMLSchema-instance' xmlns:xs='http://www.w3.org/2001/XMLSchema' xmlns:typens='http://www.esri.com/schemas/ArcGIS/2.6.0'&gt;&lt;WKT&gt;GEOGCS[&amp;quot;GCS_SIRGAS_2000&amp;quot;,DATUM[&amp;quot;D_SIRGAS_2000&amp;quot;,SPHEROID[&amp;quot;GRS_1980&amp;quot;,6378137.0,298.257222101]],PRIMEM[&amp;quot;Greenwich&amp;quot;,0.0],UNIT[&amp;quot;Degree&amp;quot;,0.0174532925199433],AUTHORITY[&amp;quot;EPSG&amp;quot;,4674]]&lt;/WKT&gt;&lt;XOrigin&gt;-399.99999999999989&lt;/XOrigin&gt;&lt;YOrigin&gt;-399.99999999999989&lt;/YOrigin&gt;&lt;XYScale&gt;11258999068426.24&lt;/XYScale&gt;&lt;ZOrigin&gt;-100000&lt;/ZOrigin&gt;&lt;ZScale&gt;10000&lt;/ZScale&gt;&lt;MOrigin&gt;-100000&lt;/MOrigin&gt;&lt;MScale&gt;10000&lt;/MScale&gt;&lt;XYTolerance&gt;8.9831528411952117e-09&lt;/XYTolerance&gt;&lt;ZTolerance&gt;0.001&lt;/ZTolerance&gt;&lt;MTolerance&gt;0.001&lt;/MTolerance&gt;&lt;HighPrecision&gt;true&lt;/HighPrecision&gt;&lt;LeftLongitude&gt;-180&lt;/LeftLongitude&gt;&lt;WKID&gt;4674&lt;/WKID&gt;&lt;LatestWKID&gt;4674&lt;/LatestWKID&gt;&lt;/GeographicCoordinateSystem&gt;</peXml>
</coordRef>
<RasterProperties>
<General>
<PixelDepth Sync="TRUE">8</PixelDepth>
<HasColormap Sync="TRUE">FALSE</HasColormap>
<CompressionType Sync="TRUE">YCbCr JPEG</CompressionType>
<NumBands Sync="TRUE">3</NumBands>
<Format Sync="TRUE">TIFF</Format>
<HasPyramids Sync="TRUE">TRUE</HasPyramids>
<SourceType Sync="TRUE">continuous</SourceType>
<PixelType Sync="TRUE">unsigned integer</PixelType>
<NoDataValue Sync="TRUE">
</NoDataValue>
</General>
</RasterProperties>
</DataProperties>
<SyncDate>20210916</SyncDate>
<SyncTime>09185900</SyncTime>
<ModDate>20210916</ModDate>
<ModTime>10592000</ModTime>
</Esri>
<mdFileID>2b219a63-239c-429c-b0c9-bf930e940b80</mdFileID>
<mdLang>
<languageCode value="pt-BR">
</languageCode>
<countryCode Sync="TRUE" value="BRA">
</countryCode>
</mdLang>
<mdChar>
<CharSetCd value="004">
</CharSetCd>
</mdChar>
<mdHrLv>
<ScopeCd value="005">
</ScopeCd>
</mdHrLv>
<mdContact>
<rpIndName>Gabriel Thomé Brochado</rpIndName>
<rpOrgName>1º Centro de Geoinformação</rpOrgName>
<rpPosName>Responsável Técnico</rpPosName>
</mdContact>
<mdDateSt Sync="TRUE">20210916</mdDateSt>
<mdStanName>ArcGIS Metadata</mdStanName>
<mdStanVer>1.0</mdStanVer>
<distInfo>
<distFormat>
<formatName>Geo Tif</formatName>
<formatVer>1.8.2</formatVer>
</distFormat>
<distributor>
<distorCont>
<rpOrgName>Secretaria do Planejamento, Governança e Gestão do Estado do Rio Grande do Sul</rpOrgName>
<rpCntInfo>
<cntPhone>
<voiceNum>+55 (51) 3288-6700</voiceNum>
</cntPhone>
<cntAddress>
<delPoint>Av. Borges de Medeiros, 1501 - Porto Alegre/RS</delPoint>
</cntAddress>
</rpCntInfo>
</distorCont>
<distorOrdPrc>
<resFees>Gratuito</resFees>
</distorOrdPrc>
</distributor>
</distInfo>
<dataIdInfo>
<idCitation>
<resTitle>Carta Topográfica 1:25.000 – PONTAL DE TAPES - SH-22-Y-B-VI-3-NE - 3000-3-NE</resTitle>
<resAltTitle>PONTAL DE TAPES</resAltTitle>
<resEd>1ª Edição</resEd>
<resEdDate>20201202</resEdDate>
<datasetSeries>
<seriesName>Projeto de Mapeamento do Rio Grande do Sul</seriesName>
</datasetSeries>
<presForm>
<PresFormCd Sync="TRUE" value="005">
</PresFormCd>
</presForm>
</idCitation>
<idAbs>Base cartográfica digital da Região Funcional 1 com geoinformações atualizadas, compatível à escala de 1:25.000, com Padrão de Exatidão Cartográfica (PEC) Classe A, a partir de ortoimagens digitais com resolução espacial de 35cm, datadas de 2019, contemplando classes das seguintes categorias de informação: Agricultura, Biota, Limites, Ciências Atmosféricas, Economia, Elevação, Ambiente, Geocientífico, Saúde, Imagens e Mapas Base, Exército &amp;amp; Inteligência, Águas Interiores, Local, Planejamento e Cadastro, Sociedade, Estrutura, Transporte, Utilitários e Comunicação. Foram geradas 174 cartas topográficas, 174 conjunto de dados geoespaciais vetoriais (CDGV) e uma base contínua vetorial, atendendo às seguintes normas técnicas da Infraestrutura Nacional de Dados Espaciais (INDE): Especificação Técnica para Estruturação de Dados Geoespaciais Vetoriais (ET-EDGV), Especificação Técnica para Aquisição de Dados Geoespaciais Vetoriais (ET-ADGV), Especificação Técnica para Produtos de Conjuntos de Dados Geoespaciais (ET-PCDG) e Especificação Técnica para Controle de Qualidade de Dados Geoespaciais (ET-CQDG).</idAbs>
<idPoC>
<rpOrgName>Secretaria do Planejamento, Governança e Gestão do Estado do Rio Grande do Sul</rpOrgName>
<rpCntInfo>
<cntPhone>
<voiceNum>+55 (51) 3288-6700</voiceNum>
</cntPhone>
<cntAddress>
<delPoint>Av. Borges de Medeiros, 1501 - Porto Alegre/RS</delPoint>
</cntAddress>
</rpCntInfo>
</idPoC>
<otherKeys>
<keyword>Projeto de Mapeamento do Rio Grande do Sul</keyword>
</otherKeys>
<otherKeys>
<keyword>Região Funcional 1</keyword>
</otherKeys>
<searchKeys>
<keyword>Mapeamento do Rio Grande do Sul</keyword>
<keyword>Escala 1:25.000</keyword>
<keyword>Região Funcional 1</keyword>
<keyword>Carta Topográfica</keyword>
</searchKeys>
<resConst>
<LegConsts>
<useLimit>copyright</useLimit>
</LegConsts>
<Consts>
<useLimit/>
</Consts>
</resConst>
<aggrInfo>
<aggrDSName>
<resTitle>Região Funcional 1 - Lote 5</resTitle>
</aggrDSName>
</aggrInfo>
<dataScale>
<equScale>
<rfDenom>25000</rfDenom>
</equScale>
<equScale>
<rfDenom>25000</rfDenom>
</equScale>
</dataScale>
<dataLang>
<languageCode value="pt-BR">
</languageCode>
<countryCode Sync="TRUE" value="BRA">
</countryCode>
</dataLang>
<dataExt>
<geoEle>
<GeoBndBox>
<westBL>-51.37500011444075</westBL>
<eastBL>-51.25000003786806</eastBL>
<southBL>-30.8749999151714</southBL>
<northBL>-30.74999983859871</northBL>
</GeoBndBox>
</geoEle>
</dataExt>
<suppInfo>A definição deste tipo de produto encontra-se na Especificação Técnica para Produtos de Conjuntos de Dados Geoespaciais (ET-PCDG). A PCDG pode ser obtida no Geoportal do Exército Brasileiro (http://www.geoportal.eb.mil.br).</suppInfo>
<envirDesc Sync="FALSE">Esri ArcGIS 12.6.0.24783</envirDesc>
<spatRpType>
<SpatRepTypCd Sync="TRUE" value="002">
</SpatRepTypCd>
</spatRpType>
<dataExt>
<geoEle>
<GeoBndBox esriExtentType="search">
<exTypeCode Sync="TRUE">1</exTypeCode>
<westBL Sync="TRUE">-51.428163</westBL>
<eastBL Sync="TRUE">-51.197184</eastBL>
<northBL Sync="TRUE">-30.732736</northBL>
<southBL Sync="TRUE">-30.884506</southBL>
</GeoBndBox>
</geoEle>
</dataExt>
<idPurp>Base cartográfica digital da Região Funcional 1 (RF1), na escala de 1:25.000, com Padrão de Exatidão Cartográfica (PEC) Classe A, elaborada a partir de...</idPurp>
<idCredit>Governo do Estado do Rio Grande do Sul - Secretaria de Planejamento, Governança e Gestão; Exército Brasileiro - Diretoria de Serviço Geográfico - 1° Centro de Geoinformação</idCredit>
<tpCat>
<TopicCatCd value="003">
</TopicCatCd>
</tpCat>
<tpCat>
<TopicCatCd value="006">
</TopicCatCd>
</tpCat>
<tpCat>
<TopicCatCd value="010">
</TopicCatCd>
</tpCat>
<tpCat>
<TopicCatCd value="011">
</TopicCatCd>
</tpCat>
</dataIdInfo>
<dqInfo>
<dataLineage>
<prcStep>
<stepDesc>Coleta de Pontos de Apoio de campo realizada com o objetivo de orientar as imagens aéreas na etapa de aerotriangulação. Para realização desta etapa foram rastreados pontos de apoio suplementar, com tempo de ocupação mínima de 30 minutos e foram utilizadas como base as estações da RBMC.</stepDesc>
<stepDateTm>0001-01-01</stepDateTm>
</prcStep>
<prcStep>
<stepDesc>Voo fotogramétrico realizado utilizando aeronave Piper, camera digital Vexcel Ultracam LP, sistema de navegação inercial IMU e berço giro estabilizador.</stepDesc>
<stepDateTm>2018-07-14</stepDateTm>
<stepSrc>
<srcDesc>Fotografia Aerea</srcDesc>
<srcCitatn>
<resTitle>05_142_1416</resTitle>
</srcCitatn>
<srcExt>
<geoEle>
<GeoBndBox>
<westBL>-51.4108997278579</westBL>
<eastBL>-51.3817425926267</eastBL>
<southBL>-30.7684187815867</southBL>
<northBL>-30.7314715280325</northBL>
</GeoBndBox>
</geoEle>
</srcExt>
</stepSrc>
<stepSrc>
<srcDesc>Fotografia Aerea</srcDesc>
<srcCitatn>
<resTitle>05_147_1908</resTitle>
</srcCitatn>
<srcExt>
<geoEle>
<GeoBndBox>
<westBL>-51.4112567824651</westBL>
<eastBL>-51.3823448610444</eastBL>
<southBL>-30.900468805016</southBL>
<northBL>-30.8637296998131</northBL>
</GeoBndBox>
</geoEle>
</srcExt>
</stepSrc>
<stepSrc>
<srcDesc>Fotografia Aerea</srcDesc>
<srcCitatn>
<resTitle>05_141_1241</resTitle>
</srcCitatn>
<srcExt>
<geoEle>
<GeoBndBox>
<westBL>-51.4110963473041</westBL>
<eastBL>-51.3814582577194</eastBL>
<southBL>-30.7422922415613</southBL>
<northBL>-30.705069458074</northBL>
</GeoBndBox>
</geoEle>
</srcExt>
</stepSrc>
<stepSrc>
<srcDesc>Fotografia Aerea</srcDesc>
<srcCitatn>
<resTitle>05_142_1425</resTitle>
</srcCitatn>
<srcExt>
<geoEle>
<GeoBndBox>
<westBL>-51.306633517588</westBL>
<eastBL>-51.277560231679</eastBL>
<southBL>-30.7686763849828</southBL>
<northBL>-30.7318596913026</northBL>
</GeoBndBox>
</geoEle>
</srcExt>
</stepSrc>
<stepSrc>
<srcDesc>Fotografia Aerea</srcDesc>
<srcCitatn>
<resTitle>05_144_1614</resTitle>
</srcCitatn>
<srcExt>
<geoEle>
<GeoBndBox>
<westBL>-51.4108928001293</westBL>
<eastBL>-51.3821609701654</eastBL>
<southBL>-30.8211249755451</southBL>
<northBL>-30.7845830004406</northBL>
</GeoBndBox>
</geoEle>
</srcExt>
</stepSrc>
<stepSrc>
<srcDesc>Fotografia Aerea</srcDesc>
<srcCitatn>
<resTitle>05_144_1623</resTitle>
</srcCitatn>
<srcExt>
<geoEle>
<GeoBndBox>
<westBL>-51.3067344047103</westBL>
<eastBL>-51.2777572595382</eastBL>
<southBL>-30.8213202429081</southBL>
<northBL>-30.784441690953</northBL>
</GeoBndBox>
</geoEle>
</srcExt>
</stepSrc>
<stepSrc>
<srcDesc>Fotografia Aerea</srcDesc>
<srcCitatn>
<resTitle>05_146_1813</resTitle>
</srcCitatn>
<srcExt>
<geoEle>
<GeoBndBox>
<westBL>-51.4111269848933</westBL>
<eastBL>-51.3823529027229</eastBL>
<southBL>-30.8739871650859</southBL>
<northBL>-30.8374127295833</northBL>
</GeoBndBox>
</geoEle>
</srcExt>
</stepSrc>
<stepSrc>
<srcDesc>Fotografia Aerea</srcDesc>
<srcCitatn>
<resTitle>05_141_1232</resTitle>
</srcCitatn>
<srcExt>
<geoEle>
<GeoBndBox>
<westBL>-51.3068182801206</westBL>
<eastBL>-51.2773418091174</eastBL>
<southBL>-30.7424717728659</southBL>
<northBL>-30.7054603188459</northBL>
</GeoBndBox>
</geoEle>
</srcExt>
</stepSrc>
<stepSrc>
<srcDesc>Fotografia Aerea</srcDesc>
<srcCitatn>
<resTitle>05_141_1233</resTitle>
</srcCitatn>
<srcExt>
<geoEle>
<GeoBndBox>
<westBL>-51.3180266791132</westBL>
<eastBL>-51.2891630302472</eastBL>
<southBL>-30.7422664295858</southBL>
<northBL>-30.7057036387108</northBL>
</GeoBndBox>
</geoEle>
</srcExt>
</stepSrc>
<stepSrc>
<srcDesc>Fotografia Aerea</srcDesc>
<srcCitatn>
<resTitle>05_141_1234</resTitle>
</srcCitatn>
<srcExt>
<geoEle>
<GeoBndBox>
<westBL>-51.3300169038831</westBL>
<eastBL>-51.3004593729018</eastBL>
<southBL>-30.7424717056768</southBL>
<northBL>-30.7053644656204</northBL>
</GeoBndBox>
</geoEle>
</srcExt>
</stepSrc>
<stepSrc>
<srcDesc>Fotografia Aerea</srcDesc>
<srcCitatn>
<resTitle>05_144_1622</resTitle>
</srcCitatn>
<srcExt>
<geoEle>
<GeoBndBox>
<westBL>-51.3182977147035</westBL>
<eastBL>-51.2893819935153</eastBL>
<southBL>-30.8212369911471</southBL>
<northBL>-30.784436761716</northBL>
</GeoBndBox>
</geoEle>
</srcExt>
</stepSrc>
<stepSrc>
<srcDesc>Fotografia Aerea</srcDesc>
<srcCitatn>
<resTitle>05_142_1424</resTitle>
</srcCitatn>
<srcExt>
<geoEle>
<GeoBndBox>
<westBL>-51.318622120861</westBL>
<eastBL>-51.2888762230826</eastBL>
<southBL>-30.7688506618727</southBL>
<northBL>-30.7315135413161</northBL>
</GeoBndBox>
</geoEle>
</srcExt>
</stepSrc>
<stepSrc>
<srcDesc>Fotografia Aerea</srcDesc>
<srcCitatn>
<resTitle>05_143_1429</resTitle>
</srcCitatn>
<srcExt>
<geoEle>
<GeoBndBox>
<westBL>-51.2950506855333</westBL>
<eastBL>-51.2661424576605</eastBL>
<southBL>-30.7951081742656</southBL>
<northBL>-30.7584815063653</northBL>
</GeoBndBox>
</geoEle>
</srcExt>
</stepSrc>
<stepSrc>
<srcDesc>Fotografia Aerea</srcDesc>
<srcCitatn>
<resTitle>05_143_1430</resTitle>
</srcCitatn>
<srcExt>
<geoEle>
<GeoBndBox>
<westBL>-51.3066208146585</westBL>
<eastBL>-51.2777267472663</eastBL>
<southBL>-30.7950955059773</southBL>
<northBL>-30.7585186497533</northBL>
</GeoBndBox>
</geoEle>
</srcExt>
</stepSrc>
<stepSrc>
<srcDesc>Fotografia Aerea</srcDesc>
<srcCitatn>
<resTitle>05_143_1431</resTitle>
</srcCitatn>
<srcExt>
<geoEle>
<GeoBndBox>
<westBL>-51.3186258424032</westBL>
<eastBL>-51.2890364575042</eastBL>
<southBL>-30.7953664285398</southBL>
<northBL>-30.7582357421947</northBL>
</GeoBndBox>
</geoEle>
</srcExt>
</stepSrc>
<stepSrc>
<srcDesc>Fotografia Aerea</srcDesc>
<srcCitatn>
<resTitle>05_143_1432</resTitle>
</srcCitatn>
<srcExt>
<geoEle>
<GeoBndBox>
<westBL>-51.3298300325998</westBL>
<eastBL>-51.3008447340817</eastBL>
<southBL>-30.7950903743427</southBL>
<northBL>-30.758391805228</northBL>
</GeoBndBox>
</geoEle>
</srcExt>
</stepSrc>
<stepSrc>
<srcDesc>Fotografia Aerea</srcDesc>
<srcCitatn>
<resTitle>05_143_1433</resTitle>
</srcCitatn>
<srcExt>
<geoEle>
<GeoBndBox>
<westBL>-51.3413809377411</westBL>
<eastBL>-51.3120552748482</eastBL>
<southBL>-30.7951997370865</southBL>
<northBL>-30.7582050758175</northBL>
</GeoBndBox>
</geoEle>
</srcExt>
</stepSrc>
<stepSrc>
<srcDesc>Fotografia Aerea</srcDesc>
<srcCitatn>
<resTitle>05_143_1439</resTitle>
</srcCitatn>
<srcExt>
<geoEle>
<GeoBndBox>
<westBL>-51.4112861244565</westBL>
<eastBL>-51.3816985801895</eastBL>
<southBL>-30.7950685825508</southBL>
<northBL>-30.7579289417758</northBL>
</GeoBndBox>
</geoEle>
</srcExt>
</stepSrc>
<stepSrc>
<srcDesc>Fotografia Aerea</srcDesc>
<srcCitatn>
<resTitle>05_145_1637</resTitle>
</srcCitatn>
<srcExt>
<geoEle>
<GeoBndBox>
<westBL>-51.399642387558</westBL>
<eastBL>-51.3702416814518</eastBL>
<southBL>-30.847853451733</southBL>
<northBL>-30.8107687204513</northBL>
</GeoBndBox>
</geoEle>
</srcExt>
</stepSrc>
<stepSrc>
<srcDesc>Fotografia Aerea</srcDesc>
<srcCitatn>
<resTitle>05_147_1906</resTitle>
</srcCitatn>
<srcExt>
<geoEle>
<GeoBndBox>
<westBL>-51.3883497724155</westBL>
<eastBL>-51.3588346360159</eastBL>
<southBL>-30.9008101140495</southBL>
<northBL>-30.8636043414867</northBL>
</GeoBndBox>
</geoEle>
</srcExt>
</stepSrc>
<stepSrc>
<srcDesc>Fotografia Aerea</srcDesc>
<srcCitatn>
<resTitle>05_144_1624</resTitle>
</srcCitatn>
<srcExt>
<geoEle>
<GeoBndBox>
<westBL>-51.295428104628</westBL>
<eastBL>-51.2659059630574</eastBL>
<southBL>-30.821483257008</southBL>
<northBL>-30.7844062833799</northBL>
</GeoBndBox>
</geoEle>
</srcExt>
</stepSrc>
<stepSrc>
<srcDesc>Fotografia Aerea</srcDesc>
<srcCitatn>
<resTitle>05_145_1638</resTitle>
</srcCitatn>
<srcExt>
<geoEle>
<GeoBndBox>
<westBL>-51.4114568183002</westBL>
<eastBL>-51.3817838546081</eastBL>
<southBL>-30.8478947938638</southBL>
<northBL>-30.8106680697704</northBL>
</GeoBndBox>
</geoEle>
</srcExt>
</stepSrc>
<stepSrc>
<srcDesc>Fotografia Aerea</srcDesc>
<srcCitatn>
<resTitle>05_146_1814</resTitle>
</srcCitatn>
<srcExt>
<geoEle>
<GeoBndBox>
<westBL>-51.3995776544644</westBL>
<eastBL>-51.3707162720976</eastBL>
<southBL>-30.8740262456987</southBL>
<northBL>-30.8373376651454</northBL>
</GeoBndBox>
</geoEle>
</srcExt>
</stepSrc>
<stepSrc>
<srcDesc>Fotografia Aerea</srcDesc>
<srcCitatn>
<resTitle>05_146_1815</resTitle>
</srcCitatn>
<srcExt>
<geoEle>
<GeoBndBox>
<westBL>-51.3883804782912</westBL>
<eastBL>-51.3587379153536</eastBL>
<southBL>-30.874299616403</southBL>
<northBL>-30.8371159577563</northBL>
</GeoBndBox>
</geoEle>
</srcExt>
</stepSrc>
<stepSrc>
<srcDesc>Fotografia Aerea</srcDesc>
<srcCitatn>
<resTitle>05_147_1907</resTitle>
</srcCitatn>
<srcExt>
<geoEle>
<GeoBndBox>
<westBL>-51.4000909203217</westBL>
<eastBL>-51.3703106638041</eastBL>
<southBL>-30.9008569989556</southBL>
<northBL>-30.8635135220811</northBL>
</GeoBndBox>
</geoEle>
</srcExt>
</stepSrc>
<stepSrc>
<srcDesc>Fotografia Aerea</srcDesc>
<srcCitatn>
<resTitle>05_147_1905</resTitle>
</srcCitatn>
<srcExt>
<geoEle>
<GeoBndBox>
<westBL>-51.376502193703</westBL>
<eastBL>-51.3475173292466</eastBL>
<southBL>-30.9007324924094</southBL>
<northBL>-30.8638870263202</northBL>
</GeoBndBox>
</geoEle>
</srcExt>
</stepSrc>
</prcStep>
<prcStep>
<stepDesc>Aerotriangulação gerada para o lote 05 utilizando as imagens aerofogrametricas e pontos de apoio citados anteriormente.</stepDesc>
<stepDateTm>2018-08-08</stepDateTm>
</prcStep>
<prcStep>
<stepDesc>Aquisição vetorial a partir da ortoimagem</stepDesc>
<stepDateTm>2018-09-28</stepDateTm>
</prcStep>
<prcStep>
<stepDesc>Modelo Digital de Terreno com resolução espacial de 40 metros por pixel, gerado através de correlação esteroscópica de fotografias aéreas com objetivo exclusivo de geração de Ortofotos.</stepDesc>
<stepDateTm>2018-10-10</stepDateTm>
</prcStep>
<prcStep>
<stepDesc>Reambulação</stepDesc>
<stepDateTm>2018-11-13</stepDateTm>
</prcStep>
<prcStep>
<stepDesc>ORTOIMAGEM com resolução espacial de 35cm, nas bandas R,G,B e IR, 8 bits.</stepDesc>
<stepDateTm>2019-08-06</stepDateTm>
</prcStep>
<prcStep>
<stepDesc>Modelo Digital de Superfície com resolução espacial de 2,5 metros por pixel, gerado através de correlação esteroscópica de fotografias aéreas.</stepDesc>
<stepDateTm>2020-08-12</stepDateTm>
</prcStep>
<prcStep>
<stepDesc>Restituição da Hidrografia realizada a partir de processos de restituição estereofotogrametrica na escala 1:25000, obtida seguindo as especificações técnicas da ET-ADGV e estruturada seguindo as especificações técnicas da ET-EDGV.</stepDesc>
<stepDateTm>2020-08-12</stepDateTm>
</prcStep>
<prcStep>
<stepDesc>Modelo Digital de Terreno com resolução espacial de 2,5 metros por pixel, gerado através de correlação esteroscópica de fotografias aéreas e processos de filtragem. Para melhor modelagem do MDT foram utilizadas as breaklines da hidrografia como injunção nos modelos.</stepDesc>
<stepDateTm>2020-08-12</stepDateTm>
</prcStep>
<prcStep>
<stepDesc>Curvas de Nível geradas com equidistância de 10 metros a partir do MDT.</stepDesc>
<stepDateTm>2020-08-12</stepDateTm>
</prcStep>
<prcStep>
<stepDesc>Pontos Cotados obtido a partir do Modelo Digital do Terreno.</stepDesc>
<stepDateTm>2020-08-12</stepDateTm>
</prcStep>
<prcStep>
<stepDesc>Validação</stepDesc>
<stepDateTm>2020-08-12</stepDateTm>
</prcStep>
<prcStep>
<stepDesc>Criacão da área contínua</stepDesc>
<stepDateTm>2020-11-25</stepDateTm>
</prcStep>
<prcStep>
<stepDesc>Edição</stepDesc>
<stepDateTm>2020-12-02</stepDateTm>
</prcStep>
<statement>Aquisição vetorial na escala 1:25.000, a partir da ortoimagem com resolução espacial de 35 cm, nas bandas R,G, B e IR, 8 bits seguindo as especificações de aquisição e estruturação contidas nas normas ET-ADGV e ET-EDGV.</statement>
</dataLineage>
</dqInfo>
<spatRepInfo>
<Georect>
<cellGeo>
<CellGeoCd Sync="TRUE" value="002">
</CellGeoCd>
</cellGeo>
<numDims Sync="TRUE">2</numDims>
<tranParaAv Sync="TRUE">1</tranParaAv>
<chkPtAv Sync="TRUE">0</chkPtAv>
<cornerPts>
<pos Sync="TRUE">-51.428163 -30.884506</pos>
</cornerPts>
<cornerPts>
<pos Sync="TRUE">-51.428163 -30.732736</pos>
</cornerPts>
<cornerPts>
<pos Sync="TRUE">-51.197184 -30.732736</pos>
</cornerPts>
<cornerPts>
<pos Sync="TRUE">-51.197184 -30.884506</pos>
</cornerPts>
<centerPt>
<pos Sync="TRUE">-51.312674 -30.808621</pos>
</centerPt>
<axisDimension type="002">
<dimSize Sync="TRUE">13918</dimSize>
<dimResol>
<value Sync="TRUE" uom="Grau">0.000017</value>
</dimResol>
</axisDimension>
<axisDimension type="001">
<dimSize Sync="TRUE">10595</dimSize>
<dimResol>
<value Sync="TRUE" uom="Grau">0.000014</value>
</dimResol>
</axisDimension>
<ptInPixel>
<PixOrientCd Sync="TRUE" value="001">
</PixOrientCd>
</ptInPixel>
</Georect>
</spatRepInfo>
<refSysInfo>
<RefSystem>
<refSysID>
<identCode code="4674">
</identCode>
<identVrsn>7.4</identVrsn>
<idCodeSpace Sync="TRUE">EPSG</idCodeSpace>
<idVersion Sync="TRUE">9.7(9.2.0)</idVersion>
</refSysID>
</RefSystem>
</refSysInfo>
<contInfo>
<ERROR>gmd:MD_FeatureCatalogueDescription</ERROR>
<ImgDesc>
<contentTyp>
<ContentTypCd Sync="TRUE" value="001">
</ContentTypCd>
</contentTyp>
<covDim>
<Band>
<dimDescrp Sync="TRUE">Band_1</dimDescrp>
<maxVal Sync="TRUE">255.000000</maxVal>
<minVal Sync="TRUE">0.000000</minVal>
<bitsPerVal Sync="TRUE">8</bitsPerVal>
<valUnit>
<UOM type="length">
</UOM>
</valUnit>
</Band>
<Band>
<dimDescrp Sync="TRUE">Band_2</dimDescrp>
<maxVal Sync="TRUE">255.000000</maxVal>
<minVal Sync="TRUE">0.000000</minVal>
<bitsPerVal Sync="TRUE">8</bitsPerVal>
<valUnit>
<UOM type="length">
</UOM>
</valUnit>
</Band>
<Band>
<dimDescrp Sync="TRUE">Band_3</dimDescrp>
<maxVal Sync="TRUE">255.000000</maxVal>
<minVal Sync="TRUE">0.000000</minVal>
<bitsPerVal Sync="TRUE">8</bitsPerVal>
<valUnit>
<UOM type="length">
</UOM>
</valUnit>
</Band>
</covDim>
</ImgDesc>
</contInfo>
<contInfo>
<ERROR>gmd:MD_ImageDescription</ERROR>
<ImgDesc>
<contentTyp>
<ContentTypCd Sync="TRUE" value="001">
</ContentTypCd>
</contentTyp>
<covDim>
<Band>
<dimDescrp Sync="TRUE">Band_1</dimDescrp>
<maxVal Sync="TRUE">255.000000</maxVal>
<minVal Sync="TRUE">0.000000</minVal>
<bitsPerVal Sync="TRUE">8</bitsPerVal>
<valUnit>
<UOM type="length">
</UOM>
</valUnit>
</Band>
<Band>
<dimDescrp Sync="TRUE">Band_2</dimDescrp>
<maxVal Sync="TRUE">255.000000</maxVal>
<minVal Sync="TRUE">0.000000</minVal>
<bitsPerVal Sync="TRUE">8</bitsPerVal>
<valUnit>
<UOM type="length">
</UOM>
</valUnit>
</Band>
<Band>
<dimDescrp Sync="TRUE">Band_3</dimDescrp>
<maxVal Sync="TRUE">255.000000</maxVal>
<minVal Sync="TRUE">0.000000</minVal>
<bitsPerVal Sync="TRUE">8</bitsPerVal>
<valUnit>
<UOM type="length">
</UOM>
</valUnit>
</Band>
</covDim>
</ImgDesc>
</contInfo>
<mdHrLvName Sync="TRUE">dataset</mdHrLvName>
</metadata>
