<?xml version="1.0" encoding="UTF-8" standalone="no"?>
<metadata xml:lang="pt">
<Esri>
<CreaDate>20210916</CreaDate>
<CreaTime>09342900</CreaTime>
<ArcGISFormat>1.0</ArcGISFormat>
<SyncOnce>FALSE</SyncOnce>
<scaleRange>
<minScale>25000</minScale>
<maxScale>25000</maxScale>
</scaleRange>
<DataProperties>
<itemProps>
<itemName Sync="TRUE">Carta_Topo_MI 3012-4-NE.tif</itemName>
<imsContentType Sync="TRUE" export="False">002</imsContentType>
<nativeExtBox>
<westBL Sync="TRUE">-51.679141</westBL>
<eastBL Sync="TRUE">-51.446539</eastBL>
<southBL Sync="TRUE">-31.384945</southBL>
<northBL Sync="TRUE">-31.232733</northBL>
<exTypeCode Sync="TRUE">1</exTypeCode>
</nativeExtBox>
</itemProps>
<coordRef>
<type Sync="TRUE">Geographic</type>
<geogcsn Sync="TRUE">GCS_SIRGAS_2000</geogcsn>
<csUnits Sync="TRUE">Angular Unit: Degree (0.017453)</csUnits>
<peXml Sync="TRUE">&lt;GeographicCoordinateSystem xsi:type='typens:GeographicCoordinateSystem' xmlns:xsi='http://www.w3.org/2001/XMLSchema-instance' xmlns:xs='http://www.w3.org/2001/XMLSchema' xmlns:typens='http://www.esri.com/schemas/ArcGIS/2.6.0'&gt;&lt;WKT&gt;GEOGCS[&amp;quot;GCS_SIRGAS_2000&amp;quot;,DATUM[&amp;quot;D_SIRGAS_2000&amp;quot;,SPHEROID[&amp;quot;GRS_1980&amp;quot;,6378137.0,298.257222101]],PRIMEM[&amp;quot;Greenwich&amp;quot;,0.0],UNIT[&amp;quot;Degree&amp;quot;,0.0174532925199433],AUTHORITY[&amp;quot;EPSG&amp;quot;,4674]]&lt;/WKT&gt;&lt;XOrigin&gt;-399.99999999999989&lt;/XOrigin&gt;&lt;YOrigin&gt;-399.99999999999989&lt;/YOrigin&gt;&lt;XYScale&gt;11258999068426.24&lt;/XYScale&gt;&lt;ZOrigin&gt;-100000&lt;/ZOrigin&gt;&lt;ZScale&gt;10000&lt;/ZScale&gt;&lt;MOrigin&gt;-100000&lt;/MOrigin&gt;&lt;MScale&gt;10000&lt;/MScale&gt;&lt;XYTolerance&gt;8.9831528411952117e-09&lt;/XYTolerance&gt;&lt;ZTolerance&gt;0.001&lt;/ZTolerance&gt;&lt;MTolerance&gt;0.001&lt;/MTolerance&gt;&lt;HighPrecision&gt;true&lt;/HighPrecision&gt;&lt;LeftLongitude&gt;-180&lt;/LeftLongitude&gt;&lt;WKID&gt;4674&lt;/WKID&gt;&lt;LatestWKID&gt;4674&lt;/LatestWKID&gt;&lt;/GeographicCoordinateSystem&gt;</peXml>
</coordRef>
<RasterProperties>
<General>
<PixelDepth Sync="TRUE">8</PixelDepth>
<HasColormap Sync="TRUE">FALSE</HasColormap>
<CompressionType Sync="TRUE">YCbCr JPEG</CompressionType>
<NumBands Sync="TRUE">3</NumBands>
<Format Sync="TRUE">TIFF</Format>
<HasPyramids Sync="TRUE">TRUE</HasPyramids>
<SourceType Sync="TRUE">continuous</SourceType>
<PixelType Sync="TRUE">unsigned integer</PixelType>
<NoDataValue Sync="TRUE">
</NoDataValue>
</General>
</RasterProperties>
</DataProperties>
<SyncDate>20210916</SyncDate>
<SyncTime>09342900</SyncTime>
<ModDate>20210916</ModDate>
<ModTime>11393800</ModTime>
</Esri>
<mdFileID>10228795-e8c6-4878-b278-5acd266187d4</mdFileID>
<mdLang>
<languageCode value="pt-BR">
</languageCode>
<countryCode Sync="TRUE" value="BRA">
</countryCode>
</mdLang>
<mdChar>
<CharSetCd value="004">
</CharSetCd>
</mdChar>
<mdHrLv>
<ScopeCd value="005">
</ScopeCd>
</mdHrLv>
<mdContact>
<rpIndName>Gabriel Thomé Brochado</rpIndName>
<rpOrgName>1º Centro de Geoinformação</rpOrgName>
<rpPosName>Responsável Técnico</rpPosName>
</mdContact>
<mdDateSt Sync="TRUE">20210916</mdDateSt>
<mdStanName>ArcGIS Metadata</mdStanName>
<mdStanVer>1.0</mdStanVer>
<distInfo>
<distFormat>
<formatName>Geo Tif</formatName>
<formatVer>1.8.2</formatVer>
</distFormat>
<distributor>
<distorCont>
<rpOrgName>Secretaria do Planejamento, Governança e Gestão do Estado do Rio Grande do Sul</rpOrgName>
<rpCntInfo>
<cntPhone>
<voiceNum>+55 (51) 3288-6700</voiceNum>
</cntPhone>
<cntAddress>
<delPoint>Av. Borges de Medeiros, 1501 - Porto Alegre/RS</delPoint>
</cntAddress>
</rpCntInfo>
</distorCont>
<distorOrdPrc>
<resFees>Gratuito</resFees>
</distorOrdPrc>
</distributor>
</distInfo>
<dataIdInfo>
<idCitation>
<resTitle>Carta Topográfica 1:25.000 – MI-3012-4-NE - SH-22-Y-D-II-4-NE - 3012-4-NE</resTitle>
<resAltTitle>MI-3012-4-NE</resAltTitle>
<resEd>1ª Edição</resEd>
<resEdDate>20201202</resEdDate>
<datasetSeries>
<seriesName>Projeto de Mapeamento do Rio Grande do Sul</seriesName>
</datasetSeries>
<presForm>
<PresFormCd Sync="TRUE" value="005">
</PresFormCd>
</presForm>
</idCitation>
<idAbs>&lt;DIV STYLE="text-align:Left;"&gt;&lt;P STYLE="text-align:Justify;margin:0 0 0 0;"&gt;&lt;SPAN&gt;Base cartográfica digital da Região Funcional 1 com geoinformações atualizadas, compatível à escala de 1:25.000, com Padrão de Exatidão Cartográfica (PEC) Classe A, a partir de ortoimagens digitais com resolução espacial de 35cm, datadas de 2019, contemplando classes das seguintes categorias de informação: Agricultura, Biota, Limites, Ciências Atmosféricas, Economia, Elevação, Ambiente, Geocientífico, Saúde, Imagens e Mapas Base, Exército &amp;amp; Inteligência, Águas Interiores, Local, Planejamento e Cadastro, Sociedade, Estrutura, Transporte, Utilitários e Comunicação. Foram geradas 174 cartas topográficas, 174 conjunto de dados geoespaciais vetoriais (CDGV) e uma base contínua vetorial, atendendo às seguintes normas técnicas da Infraestrutura Nacional de Dados Espaciais (INDE): Especificação Técnica para Estruturação de Dados Geoespaciais Vetoriais (ET-EDGV), Especificação Técnica para Aquisição de Dados Geoespaciais Vetoriais (ET-ADGV), Especificação Técnica para Produtos de Conjuntos de Dados Geoespaciais (ET-PCDG) e Especificação Técnica para Controle de Qualidade de Dados Geoespaciais (ET-CQDG).&lt;/SPAN&gt;&lt;/P&gt;&lt;/DIV&gt;</idAbs>
<idPoC>
<rpOrgName>Secretaria do Planejamento, Governança e Gestão do Estado do Rio Grande do Sul</rpOrgName>
<rpCntInfo>
<cntPhone>
<voiceNum>+55 (51) 3288-6700</voiceNum>
</cntPhone>
<cntAddress>
<delPoint>Av. Borges de Medeiros, 1501 - Porto Alegre/RS</delPoint>
</cntAddress>
</rpCntInfo>
</idPoC>
<otherKeys>
<keyword>Projeto de Mapeamento do Rio Grande do Sul</keyword>
</otherKeys>
<otherKeys>
<keyword>Região Funcional 1</keyword>
</otherKeys>
<searchKeys>
<keyword>Mapeamento do Rio Grande do Sul</keyword>
<keyword>Escala 1:25.000</keyword>
<keyword>Região Funcional 1</keyword>
<keyword>Carta Topográfica</keyword>
</searchKeys>
<resConst>
<LegConsts>
<useLimit>copyright</useLimit>
</LegConsts>
<Consts>
<useLimit/>
</Consts>
</resConst>
<aggrInfo>
<aggrDSName>
<resTitle>Região Funcional 1 - Lote 5</resTitle>
</aggrDSName>
</aggrInfo>
<dataScale>
<equScale>
<rfDenom>25000</rfDenom>
</equScale>
<equScale>
<rfDenom>25000</rfDenom>
</equScale>
</dataScale>
<dataLang>
<languageCode value="pt-BR">
</languageCode>
<countryCode Sync="TRUE" value="BRA">
</countryCode>
</dataLang>
<dataExt>
<geoEle>
<GeoBndBox>
<westBL>-51.62500001612901</westBL>
<eastBL>-51.50000019101341</eastBL>
<southBL>-31.374999970005035</southBL>
<northBL>-31.249999893432346</northBL>
</GeoBndBox>
</geoEle>
</dataExt>
<suppInfo>A definição deste tipo de produto encontra-se na Especificação Técnica para Produtos de Conjuntos de Dados Geoespaciais (ET-PCDG). A PCDG pode ser obtida no Geoportal do Exército Brasileiro (http://www.geoportal.eb.mil.br).</suppInfo>
<envirDesc Sync="FALSE">Esri ArcGIS 12.6.0.24783</envirDesc>
<spatRpType>
<SpatRepTypCd Sync="TRUE" value="002">
</SpatRepTypCd>
</spatRpType>
<dataExt>
<geoEle>
<GeoBndBox esriExtentType="search">
<exTypeCode Sync="TRUE">1</exTypeCode>
<westBL Sync="TRUE">-51.679141</westBL>
<eastBL Sync="TRUE">-51.446539</eastBL>
<northBL Sync="TRUE">-31.232733</northBL>
<southBL Sync="TRUE">-31.384945</southBL>
</GeoBndBox>
</geoEle>
</dataExt>
<idPurp>Base cartográfica digital da Região Funcional 1 (RF1), na escala de 1:25.000, com Padrão de Exatidão Cartográfica (PEC) Classe A, elaborada a partir de...</idPurp>
<idCredit>Governo do Estado do Rio Grande do Sul - Secretaria de Planejamento, Governança e Gestão; Exército Brasileiro - Diretoria de Serviço Geográfico - 1° Centro de Geoinformação</idCredit>
<tpCat>
<TopicCatCd value="003">
</TopicCatCd>
</tpCat>
<tpCat>
<TopicCatCd value="006">
</TopicCatCd>
</tpCat>
<tpCat>
<TopicCatCd value="010">
</TopicCatCd>
</tpCat>
<tpCat>
<TopicCatCd value="011">
</TopicCatCd>
</tpCat>
</dataIdInfo>
<dqInfo>
<dataLineage>
<prcStep>
<stepDesc>Coleta de Pontos de Apoio de campo realizada com o objetivo de orientar as imagens aéreas na etapa de aerotriangulação. Para realização desta etapa foram rastreados pontos de apoio suplementar, com tempo de ocupação mínima de 30 minutos e foram utilizadas como base as estações da RBMC.</stepDesc>
<stepDateTm>0001-01-01</stepDateTm>
</prcStep>
<prcStep>
<stepDesc>Voo fotogramétrico realizado utilizando aeronave Piper, camera digital Vexcel Ultracam LP, sistema de navegação inercial IMU e berço giro estabilizador.</stepDesc>
<stepDateTm>2018-07-14</stepDateTm>
<stepSrc>
<srcDesc>Fotografia Aerea</srcDesc>
<srcCitatn>
<resTitle>05_161_0193</resTitle>
</srcCitatn>
<srcExt>
<geoEle>
<GeoBndBox>
<westBL>-51.6575311098624</westBL>
<eastBL>-51.6281112640303</eastBL>
<southBL>-31.2697503832111</southBL>
<northBL>-31.2327439059483</northBL>
</GeoBndBox>
</geoEle>
</srcExt>
</stepSrc>
<stepSrc>
<srcDesc>Fotografia Aerea</srcDesc>
<srcCitatn>
<resTitle>05_162_0204</resTitle>
</srcCitatn>
<srcExt>
<geoEle>
<GeoBndBox>
<westBL>-51.6463140531908</westBL>
<eastBL>-51.6164336700228</eastBL>
<southBL>-31.2961656297513</southBL>
<northBL>-31.2589238767273</northBL>
</GeoBndBox>
</geoEle>
</srcExt>
</stepSrc>
<stepSrc>
<srcDesc>Fotografia Aerea</srcDesc>
<srcCitatn>
<resTitle>05_161_0194</resTitle>
</srcCitatn>
<srcExt>
<geoEle>
<GeoBndBox>
<westBL>-51.6461235446421</westBL>
<eastBL>-51.6162602162143</eastBL>
<southBL>-31.2698659234963</southBL>
<northBL>-31.232634627999</northBL>
</GeoBndBox>
</geoEle>
</srcExt>
</stepSrc>
<stepSrc>
<srcDesc>Fotografia Aerea</srcDesc>
<srcCitatn>
<resTitle>05_161_0195</resTitle>
</srcCitatn>
<srcExt>
<geoEle>
<GeoBndBox>
<westBL>-51.6341001042785</westBL>
<eastBL>-51.6050155286057</eastBL>
<southBL>-31.2697359025406</southBL>
<northBL>-31.2329765937479</northBL>
</GeoBndBox>
</geoEle>
</srcExt>
</stepSrc>
<stepSrc>
<srcDesc>Fotografia Aerea</srcDesc>
<srcCitatn>
<resTitle>05_162_0202</resTitle>
</srcCitatn>
<srcExt>
<geoEle>
<GeoBndBox>
<westBL>-51.6226481001665</westBL>
<eastBL>-51.5935368820196</eastBL>
<southBL>-31.2960871022365</southBL>
<northBL>-31.2593016189409</northBL>
</GeoBndBox>
</geoEle>
</srcExt>
</stepSrc>
<stepSrc>
<srcDesc>Fotografia Aerea</srcDesc>
<srcCitatn>
<resTitle>05_162_0203</resTitle>
</srcCitatn>
<srcExt>
<geoEle>
<GeoBndBox>
<westBL>-51.6342626813862</westBL>
<eastBL>-51.6052181229968</eastBL>
<southBL>-31.2959904020724</southBL>
<northBL>-31.2592923807115</northBL>
</GeoBndBox>
</geoEle>
</srcExt>
</stepSrc>
<stepSrc>
<srcDesc>Fotografia Aerea</srcDesc>
<srcCitatn>
<resTitle>05_162_0205</resTitle>
</srcCitatn>
<srcExt>
<geoEle>
<GeoBndBox>
<westBL>-51.657553663952</westBL>
<eastBL>-51.6284931666632</eastBL>
<southBL>-31.2958974321635</southBL>
<northBL>-31.2591852977731</northBL>
</GeoBndBox>
</geoEle>
</srcExt>
</stepSrc>
<stepSrc>
<srcDesc>Fotografia Aerea</srcDesc>
<srcCitatn>
<resTitle>05_160_2040</resTitle>
</srcCitatn>
<srcExt>
<geoEle>
<GeoBndBox>
<westBL>-51.657171260093</westBL>
<eastBL>-51.6280851361231</eastBL>
<southBL>-31.2429929241706</southBL>
<northBL>-31.2062268561967</northBL>
</GeoBndBox>
</geoEle>
</srcExt>
</stepSrc>
</prcStep>
<prcStep>
<stepDesc>Aerotriangulação gerada para o lote 05 utilizando as imagens aerofogrametricas e pontos de apoio citados anteriormente.</stepDesc>
<stepDateTm>2018-08-08</stepDateTm>
</prcStep>
<prcStep>
<stepDesc>Aquisição vetorial a partir da ortoimagem</stepDesc>
<stepDateTm>2018-09-28</stepDateTm>
</prcStep>
<prcStep>
<stepDesc>Modelo Digital de Terreno com resolução espacial de 40 metros por pixel, gerado através de correlação esteroscópica de fotografias aéreas com objetivo exclusivo de geração de Ortofotos.</stepDesc>
<stepDateTm>2018-10-10</stepDateTm>
</prcStep>
<prcStep>
<stepDesc>Reambulação</stepDesc>
<stepDateTm>2018-11-13</stepDateTm>
</prcStep>
<prcStep>
<stepDesc>ORTOIMAGEM com resolução espacial de 35cm, nas bandas R,G,B e IR, 8 bits.</stepDesc>
<stepDateTm>2019-09-13</stepDateTm>
</prcStep>
<prcStep>
<stepDesc>Modelo Digital de Superfície com resolução espacial de 2,5 metros por pixel, gerado através de correlação esteroscópica de fotografias aéreas.</stepDesc>
<stepDateTm>2020-08-12</stepDateTm>
</prcStep>
<prcStep>
<stepDesc>Restituição da Hidrografia realizada a partir de processos de restituição estereofotogrametrica na escala 1:25000, obtida seguindo as especificações técnicas da ET-ADGV e estruturada seguindo as especificações técnicas da ET-EDGV.</stepDesc>
<stepDateTm>2020-08-12</stepDateTm>
</prcStep>
<prcStep>
<stepDesc>Modelo Digital de Terreno com resolução espacial de 2,5 metros por pixel, gerado através de correlação esteroscópica de fotografias aéreas e processos de filtragem. Para melhor modelagem do MDT foram utilizadas as breaklines da hidrografia como injunção nos modelos.</stepDesc>
<stepDateTm>2020-08-12</stepDateTm>
</prcStep>
<prcStep>
<stepDesc>Curvas de Nível geradas com equidistância de 10 metros a partir do MDT.</stepDesc>
<stepDateTm>2020-08-12</stepDateTm>
</prcStep>
<prcStep>
<stepDesc>Pontos Cotados obtido a partir do Modelo Digital do Terreno.</stepDesc>
<stepDateTm>2020-08-12</stepDateTm>
</prcStep>
<prcStep>
<stepDesc>Validação</stepDesc>
<stepDateTm>2020-08-12</stepDateTm>
</prcStep>
<prcStep>
<stepDesc>Criacão da área contínua</stepDesc>
<stepDateTm>2020-11-25</stepDateTm>
</prcStep>
<prcStep>
<stepDesc>Edição</stepDesc>
<stepDateTm>2020-12-02</stepDateTm>
</prcStep>
<statement>Aquisição vetorial na escala 1:25.000, a partir da ortoimagem com resolução espacial de 35 cm, nas bandas R,G, B e IR, 8 bits seguindo as especificações de aquisição e estruturação contidas nas normas ET-ADGV e ET-EDGV.</statement>
</dataLineage>
</dqInfo>
<spatRepInfo>
<Georect>
<cellGeo>
<CellGeoCd Sync="TRUE" value="002">
</CellGeoCd>
</cellGeo>
<numDims Sync="TRUE">2</numDims>
<tranParaAv Sync="TRUE">1</tranParaAv>
<chkPtAv Sync="TRUE">0</chkPtAv>
<cornerPts>
<pos Sync="TRUE">-51.679141 -31.384945</pos>
</cornerPts>
<cornerPts>
<pos Sync="TRUE">-51.679141 -31.232733</pos>
</cornerPts>
<cornerPts>
<pos Sync="TRUE">-51.446539 -31.232733</pos>
</cornerPts>
<cornerPts>
<pos Sync="TRUE">-51.446539 -31.384945</pos>
</cornerPts>
<centerPt>
<pos Sync="TRUE">-51.562840 -31.308839</pos>
</centerPt>
<axisDimension type="002">
<dimSize Sync="TRUE">13943</dimSize>
<dimResol>
<value Sync="TRUE" uom="Grau">0.000017</value>
</dimResol>
</axisDimension>
<axisDimension type="001">
<dimSize Sync="TRUE">10627</dimSize>
<dimResol>
<value Sync="TRUE" uom="Grau">0.000014</value>
</dimResol>
</axisDimension>
<ptInPixel>
<PixOrientCd Sync="TRUE" value="001">
</PixOrientCd>
</ptInPixel>
</Georect>
</spatRepInfo>
<refSysInfo>
<RefSystem>
<refSysID>
<identCode code="4674">
</identCode>
<identVrsn>7.4</identVrsn>
<idCodeSpace Sync="TRUE">EPSG</idCodeSpace>
<idVersion Sync="TRUE">9.7(9.2.0)</idVersion>
</refSysID>
</RefSystem>
</refSysInfo>
<contInfo>
<ERROR>gmd:MD_FeatureCatalogueDescription</ERROR>
<ImgDesc>
<contentTyp>
<ContentTypCd Sync="TRUE" value="001">
</ContentTypCd>
</contentTyp>
<covDim>
<Band>
<dimDescrp Sync="TRUE">Band_1</dimDescrp>
<maxVal Sync="TRUE">255.000000</maxVal>
<minVal Sync="TRUE">0.000000</minVal>
<bitsPerVal Sync="TRUE">8</bitsPerVal>
<valUnit>
<UOM type="length">
</UOM>
</valUnit>
</Band>
<Band>
<dimDescrp Sync="TRUE">Band_2</dimDescrp>
<maxVal Sync="TRUE">255.000000</maxVal>
<minVal Sync="TRUE">0.000000</minVal>
<bitsPerVal Sync="TRUE">8</bitsPerVal>
<valUnit>
<UOM type="length">
</UOM>
</valUnit>
</Band>
<Band>
<dimDescrp Sync="TRUE">Band_3</dimDescrp>
<maxVal Sync="TRUE">255.000000</maxVal>
<minVal Sync="TRUE">0.000000</minVal>
<bitsPerVal Sync="TRUE">8</bitsPerVal>
<valUnit>
<UOM type="length">
</UOM>
</valUnit>
</Band>
</covDim>
</ImgDesc>
</contInfo>
<contInfo>
<ERROR>gmd:MD_ImageDescription</ERROR>
<ImgDesc>
<contentTyp>
<ContentTypCd Sync="TRUE" value="001">
</ContentTypCd>
</contentTyp>
<covDim>
<Band>
<dimDescrp Sync="TRUE">Band_1</dimDescrp>
<maxVal Sync="TRUE">255.000000</maxVal>
<minVal Sync="TRUE">0.000000</minVal>
<bitsPerVal Sync="TRUE">8</bitsPerVal>
<valUnit>
<UOM type="length">
</UOM>
</valUnit>
</Band>
<Band>
<dimDescrp Sync="TRUE">Band_2</dimDescrp>
<maxVal Sync="TRUE">255.000000</maxVal>
<minVal Sync="TRUE">0.000000</minVal>
<bitsPerVal Sync="TRUE">8</bitsPerVal>
<valUnit>
<UOM type="length">
</UOM>
</valUnit>
</Band>
<Band>
<dimDescrp Sync="TRUE">Band_3</dimDescrp>
<maxVal Sync="TRUE">255.000000</maxVal>
<minVal Sync="TRUE">0.000000</minVal>
<bitsPerVal Sync="TRUE">8</bitsPerVal>
<valUnit>
<UOM type="length">
</UOM>
</valUnit>
</Band>
</covDim>
</ImgDesc>
</contInfo>
<mdHrLvName Sync="TRUE">dataset</mdHrLvName>
</metadata>
