<?xml version="1.0" encoding="UTF-8" standalone="no"?>
<metadata xml:lang="pt">
<Esri>
<CreaDate>20210916</CreaDate>
<CreaTime>09350300</CreaTime>
<ArcGISFormat>1.0</ArcGISFormat>
<SyncOnce>FALSE</SyncOnce>
<scaleRange>
<minScale>25000</minScale>
<maxScale>25000</maxScale>
</scaleRange>
<DataProperties>
<itemProps>
<itemName Sync="TRUE">Carta_Topo_MI 3013-1-NO.tif</itemName>
<imsContentType Sync="TRUE" export="False">002</imsContentType>
<nativeExtBox>
<westBL Sync="TRUE">-51.553649</westBL>
<eastBL Sync="TRUE">-51.321854</eastBL>
<southBL Sync="TRUE">-31.134726</southBL>
<northBL Sync="TRUE">-30.982735</northBL>
<exTypeCode Sync="TRUE">1</exTypeCode>
</nativeExtBox>
</itemProps>
<coordRef>
<type Sync="TRUE">Geographic</type>
<geogcsn Sync="TRUE">GCS_SIRGAS_2000</geogcsn>
<csUnits Sync="TRUE">Angular Unit: Degree (0.017453)</csUnits>
<peXml Sync="TRUE">&lt;GeographicCoordinateSystem xsi:type='typens:GeographicCoordinateSystem' xmlns:xsi='http://www.w3.org/2001/XMLSchema-instance' xmlns:xs='http://www.w3.org/2001/XMLSchema' xmlns:typens='http://www.esri.com/schemas/ArcGIS/2.6.0'&gt;&lt;WKT&gt;GEOGCS[&amp;quot;GCS_SIRGAS_2000&amp;quot;,DATUM[&amp;quot;D_SIRGAS_2000&amp;quot;,SPHEROID[&amp;quot;GRS_1980&amp;quot;,6378137.0,298.257222101]],PRIMEM[&amp;quot;Greenwich&amp;quot;,0.0],UNIT[&amp;quot;Degree&amp;quot;,0.0174532925199433],AUTHORITY[&amp;quot;EPSG&amp;quot;,4674]]&lt;/WKT&gt;&lt;XOrigin&gt;-399.99999999999989&lt;/XOrigin&gt;&lt;YOrigin&gt;-399.99999999999989&lt;/YOrigin&gt;&lt;XYScale&gt;11258999068426.24&lt;/XYScale&gt;&lt;ZOrigin&gt;-100000&lt;/ZOrigin&gt;&lt;ZScale&gt;10000&lt;/ZScale&gt;&lt;MOrigin&gt;-100000&lt;/MOrigin&gt;&lt;MScale&gt;10000&lt;/MScale&gt;&lt;XYTolerance&gt;8.9831528411952117e-09&lt;/XYTolerance&gt;&lt;ZTolerance&gt;0.001&lt;/ZTolerance&gt;&lt;MTolerance&gt;0.001&lt;/MTolerance&gt;&lt;HighPrecision&gt;true&lt;/HighPrecision&gt;&lt;LeftLongitude&gt;-180&lt;/LeftLongitude&gt;&lt;WKID&gt;4674&lt;/WKID&gt;&lt;LatestWKID&gt;4674&lt;/LatestWKID&gt;&lt;/GeographicCoordinateSystem&gt;</peXml>
</coordRef>
<RasterProperties>
<General>
<PixelDepth Sync="TRUE">8</PixelDepth>
<HasColormap Sync="TRUE">FALSE</HasColormap>
<CompressionType Sync="TRUE">YCbCr JPEG</CompressionType>
<NumBands Sync="TRUE">3</NumBands>
<Format Sync="TRUE">TIFF</Format>
<HasPyramids Sync="TRUE">TRUE</HasPyramids>
<SourceType Sync="TRUE">continuous</SourceType>
<PixelType Sync="TRUE">unsigned integer</PixelType>
<NoDataValue Sync="TRUE">
</NoDataValue>
</General>
</RasterProperties>
</DataProperties>
<SyncDate>20210916</SyncDate>
<SyncTime>09350400</SyncTime>
<ModDate>20210916</ModDate>
<ModTime>11423500</ModTime>
</Esri>
<mdFileID>f2797226-db9c-47b4-8073-6a6bc93d6c95</mdFileID>
<mdLang>
<languageCode value="pt-BR">
</languageCode>
<countryCode Sync="TRUE" value="BRA">
</countryCode>
</mdLang>
<mdChar>
<CharSetCd value="004">
</CharSetCd>
</mdChar>
<mdHrLv>
<ScopeCd value="005">
</ScopeCd>
</mdHrLv>
<mdContact>
<rpIndName>Gabriel Thomé Brochado</rpIndName>
<rpOrgName>1º Centro de Geoinformação</rpOrgName>
<rpPosName>Responsável Técnico</rpPosName>
</mdContact>
<mdDateSt Sync="TRUE">20210916</mdDateSt>
<mdStanName>ArcGIS Metadata</mdStanName>
<mdStanVer>1.0</mdStanVer>
<distInfo>
<distFormat>
<formatName>Geo Tif</formatName>
<formatVer>1.8.2</formatVer>
</distFormat>
<distributor>
<distorCont>
<rpOrgName>Secretaria do Planejamento, Governança e Gestão do Estado do Rio Grande do Sul</rpOrgName>
<rpCntInfo>
<cntPhone>
<voiceNum>+55 (51) 3288-6700</voiceNum>
</cntPhone>
<cntAddress>
<delPoint>Av. Borges de Medeiros, 1501 - Porto Alegre/RS</delPoint>
</cntAddress>
</rpCntInfo>
</distorCont>
<distorOrdPrc>
<resFees>Gratuito</resFees>
</distorOrdPrc>
</distributor>
</distInfo>
<dataIdInfo>
<idCitation>
<resTitle>Carta Topográfica 1:25.000 – LAGOA GUARAXAIM - SH-22-Y-D-III-1-NO - 3013-1-NO</resTitle>
<resAltTitle>LAGOA GUARAXAIM</resAltTitle>
<resEd>1ª Edição</resEd>
<resEdDate>20201202</resEdDate>
<datasetSeries>
<seriesName>Projeto de Mapeamento do Rio Grande do Sul</seriesName>
</datasetSeries>
<presForm>
<PresFormCd Sync="TRUE" value="005">
</PresFormCd>
</presForm>
</idCitation>
<idAbs>&lt;DIV STYLE="text-align:Left;"&gt;&lt;P STYLE="text-align:Justify;margin:0 0 0 0;"&gt;&lt;SPAN&gt;Base cartográfica digital da Região Funcional 1 com geoinformações atualizadas, compatível à escala de 1:25.000, com Padrão de Exatidão Cartográfica (PEC) Classe A, a partir de ortoimagens digitais com resolução espacial de 35cm, datadas de 2019, contemplando classes das seguintes categorias de informação: Agricultura, Biota, Limites, Ciências Atmosféricas, Economia, Elevação, Ambiente, Geocientífico, Saúde, Imagens e Mapas Base, Exército &amp;amp; Inteligência, Águas Interiores, Local, Planejamento e Cadastro, Sociedade, Estrutura, Transporte, Utilitários e Comunicação. Foram geradas 174 cartas topográficas, 174 conjunto de dados geoespaciais vetoriais (CDGV) e uma base contínua vetorial, atendendo às seguintes normas técnicas da Infraestrutura Nacional de Dados Espaciais (INDE): Especificação Técnica para Estruturação de Dados Geoespaciais Vetoriais (ET-EDGV), Especificação Técnica para Aquisição de Dados Geoespaciais Vetoriais (ET-ADGV), Especificação Técnica para Produtos de Conjuntos de Dados Geoespaciais (ET-PCDG) e Especificação Técnica para Controle de Qualidade de Dados Geoespaciais (ET-CQDG).&lt;/SPAN&gt;&lt;/P&gt;&lt;/DIV&gt;</idAbs>
<idPoC>
<rpOrgName>Secretaria do Planejamento, Governança e Gestão do Estado do Rio Grande do Sul</rpOrgName>
<rpCntInfo>
<cntPhone>
<voiceNum>+55 (51) 3288-6700</voiceNum>
</cntPhone>
<cntAddress>
<delPoint>Av. Borges de Medeiros, 1501 - Porto Alegre/RS</delPoint>
</cntAddress>
</rpCntInfo>
</idPoC>
<otherKeys>
<keyword>Projeto de Mapeamento do Rio Grande do Sul</keyword>
</otherKeys>
<otherKeys>
<keyword>Região Funcional 1</keyword>
</otherKeys>
<searchKeys>
<keyword>Mapeamento do Rio Grande do Sul</keyword>
<keyword>Escala 1:25.000</keyword>
<keyword>Região Funcional 1</keyword>
<keyword>Carta Topográfica</keyword>
</searchKeys>
<resConst>
<LegConsts>
<useLimit>copyright</useLimit>
</LegConsts>
<Consts>
<useLimit/>
</Consts>
</resConst>
<aggrInfo>
<aggrDSName>
<resTitle>Região Funcional 1 - Lote 5</resTitle>
</aggrDSName>
</aggrInfo>
<dataScale>
<equScale>
<rfDenom>25000</rfDenom>
</equScale>
<equScale>
<rfDenom>25000</rfDenom>
</equScale>
</dataScale>
<dataLang>
<languageCode value="pt-BR">
</languageCode>
<countryCode Sync="TRUE" value="BRA">
</countryCode>
</dataLang>
<dataExt>
<geoEle>
<GeoBndBox>
<westBL>-51.50000019101341</westBL>
<eastBL>-51.37500011444075</eastBL>
<southBL>-31.124999816859656</southBL>
<northBL>-30.999999991744062</northBL>
</GeoBndBox>
</geoEle>
</dataExt>
<suppInfo>A definição deste tipo de produto encontra-se na Especificação Técnica para Produtos de Conjuntos de Dados Geoespaciais (ET-PCDG). A PCDG pode ser obtida no Geoportal do Exército Brasileiro (http://www.geoportal.eb.mil.br).</suppInfo>
<envirDesc Sync="FALSE">Esri ArcGIS 12.6.0.24783</envirDesc>
<spatRpType>
<SpatRepTypCd Sync="TRUE" value="002">
</SpatRepTypCd>
</spatRpType>
<dataExt>
<geoEle>
<GeoBndBox esriExtentType="search">
<exTypeCode Sync="TRUE">1</exTypeCode>
<westBL Sync="TRUE">-51.553649</westBL>
<eastBL Sync="TRUE">-51.321854</eastBL>
<northBL Sync="TRUE">-30.982735</northBL>
<southBL Sync="TRUE">-31.134726</southBL>
</GeoBndBox>
</geoEle>
</dataExt>
<idPurp>Base cartográfica digital da Região Funcional 1 (RF1), na escala de 1:25.000, com Padrão de Exatidão Cartográfica (PEC) Classe A, elaborada a partir de...</idPurp>
<idCredit>Governo do Estado do Rio Grande do Sul - Secretaria de Planejamento, Governança e Gestão; Exército Brasileiro - Diretoria de Serviço Geográfico - 1° Centro de Geoinformação</idCredit>
<tpCat>
<TopicCatCd value="003">
</TopicCatCd>
</tpCat>
<tpCat>
<TopicCatCd value="006">
</TopicCatCd>
</tpCat>
<tpCat>
<TopicCatCd value="010">
</TopicCatCd>
</tpCat>
<tpCat>
<TopicCatCd value="011">
</TopicCatCd>
</tpCat>
</dataIdInfo>
<dqInfo>
<dataLineage>
<prcStep>
<stepDesc>Voo fotogramétrico realizado utilizando aeronave Piper, camera digital Vexcel Ultracam LP, sistema de navegação inercial IMU e berço giro estabilizador.</stepDesc>
<stepDateTm>2018-05-13</stepDateTm>
<stepSrc>
<srcDesc>Fotografia Aerea</srcDesc>
<srcCitatn>
<resTitle>05_153_0067</resTitle>
</srcCitatn>
<srcExt>
<geoEle>
<GeoBndBox>
<westBL>-51.5280266344245</westBL>
<eastBL>-51.4994842781335</eastBL>
<southBL>-31.058404581017</southBL>
<northBL>-31.0222209583539</northBL>
</GeoBndBox>
</geoEle>
</srcExt>
</stepSrc>
<stepSrc>
<srcDesc>Fotografia Aerea</srcDesc>
<srcCitatn>
<resTitle>05_153_0068</resTitle>
</srcCitatn>
<srcExt>
<geoEle>
<GeoBndBox>
<westBL>-51.5167784399968</westBL>
<eastBL>-51.4874925551013</eastBL>
<southBL>-31.0586315523765</southBL>
<northBL>-31.0220400893187</northBL>
</GeoBndBox>
</geoEle>
</srcExt>
</stepSrc>
<stepSrc>
<srcDesc>Fotografia Aerea</srcDesc>
<srcCitatn>
<resTitle>05_153_0069</resTitle>
</srcCitatn>
<srcExt>
<geoEle>
<GeoBndBox>
<westBL>-51.5051421423082</westBL>
<eastBL>-51.475896917658</eastBL>
<southBL>-31.0587068091219</southBL>
<northBL>-31.0221630115987</northBL>
</GeoBndBox>
</geoEle>
</srcExt>
</stepSrc>
<stepSrc>
<srcDesc>Fotografia Aerea</srcDesc>
<srcCitatn>
<resTitle>05_153_0070</resTitle>
</srcCitatn>
<srcExt>
<geoEle>
<GeoBndBox>
<westBL>-51.4930911082256</westBL>
<eastBL>-51.4647176656189</eastBL>
<southBL>-31.0584249036225</southBL>
<northBL>-31.022446837832</northBL>
</GeoBndBox>
</geoEle>
</srcExt>
</stepSrc>
<stepSrc>
<srcDesc>Fotografia Aerea</srcDesc>
<srcCitatn>
<resTitle>05_152_0329</resTitle>
</srcCitatn>
<srcExt>
<geoEle>
<GeoBndBox>
<westBL>-51.505017490266</westBL>
<eastBL>-51.4756158882243</eastBL>
<southBL>-31.032753530226</southBL>
<northBL>-30.9956074169651</northBL>
</GeoBndBox>
</geoEle>
</srcExt>
</stepSrc>
<stepSrc>
<srcDesc>Fotografia Aerea</srcDesc>
<srcCitatn>
<resTitle>05_155_0654</resTitle>
</srcCitatn>
<srcExt>
<geoEle>
<GeoBndBox>
<westBL>-51.4819851708397</westBL>
<eastBL>-51.4529569601291</eastBL>
<southBL>-31.1116348919809</southBL>
<northBL>-31.0748441538056</northBL>
</GeoBndBox>
</geoEle>
</srcExt>
</stepSrc>
<stepSrc>
<srcDesc>Fotografia Aerea</srcDesc>
<srcCitatn>
<resTitle>05_155_0650</resTitle>
</srcCitatn>
<srcExt>
<geoEle>
<GeoBndBox>
<westBL>-51.528787192971</westBL>
<eastBL>-51.4991046896315</eastBL>
<southBL>-31.1115784140113</southBL>
<northBL>-31.074479626974</northBL>
</GeoBndBox>
</geoEle>
</srcExt>
</stepSrc>
<stepSrc>
<srcDesc>Fotografia Aerea</srcDesc>
<srcCitatn>
<resTitle>05_154_0077</resTitle>
</srcCitatn>
<srcExt>
<geoEle>
<GeoBndBox>
<westBL>-51.4703094916933</westBL>
<eastBL>-51.4410339304114</eastBL>
<southBL>-31.0854106313201</southBL>
<northBL>-31.0483049860317</northBL>
</GeoBndBox>
</geoEle>
</srcExt>
</stepSrc>
<stepSrc>
<srcDesc>Fotografia Aerea</srcDesc>
<srcCitatn>
<resTitle>05_154_0078</resTitle>
</srcCitatn>
<srcExt>
<geoEle>
<GeoBndBox>
<westBL>-51.4822351939866</westBL>
<eastBL>-51.4523435602237</eastBL>
<southBL>-31.0854537930769</southBL>
<northBL>-31.0480711621808</northBL>
</GeoBndBox>
</geoEle>
</srcExt>
</stepSrc>
<stepSrc>
<srcDesc>Fotografia Aerea</srcDesc>
<srcCitatn>
<resTitle>05_154_0079</resTitle>
</srcCitatn>
<srcExt>
<geoEle>
<GeoBndBox>
<westBL>-51.4935352801994</westBL>
<eastBL>-51.4642603945136</eastBL>
<southBL>-31.085294174812</southBL>
<northBL>-31.0481834216875</northBL>
</GeoBndBox>
</geoEle>
</srcExt>
</stepSrc>
<stepSrc>
<srcDesc>Fotografia Aerea</srcDesc>
<srcCitatn>
<resTitle>05_154_0080</resTitle>
</srcCitatn>
<srcExt>
<geoEle>
<GeoBndBox>
<westBL>-51.5051078169217</westBL>
<eastBL>-51.4759277294771</eastBL>
<southBL>-31.085204359431</southBL>
<northBL>-31.0482170390768</northBL>
</GeoBndBox>
</geoEle>
</srcExt>
</stepSrc>
<stepSrc>
<srcDesc>Fotografia Aerea</srcDesc>
<srcCitatn>
<resTitle>05_154_0081</resTitle>
</srcCitatn>
<srcExt>
<geoEle>
<GeoBndBox>
<westBL>-51.5171165176249</westBL>
<eastBL>-51.4871682010649</eastBL>
<southBL>-31.0853595515289</southBL>
<northBL>-31.0479151908384</northBL>
</GeoBndBox>
</geoEle>
</srcExt>
</stepSrc>
<stepSrc>
<srcDesc>Fotografia Aerea</srcDesc>
<srcCitatn>
<resTitle>05_154_0082</resTitle>
</srcCitatn>
<srcExt>
<geoEle>
<GeoBndBox>
<westBL>-51.5284228109274</westBL>
<eastBL>-51.4990707273371</eastBL>
<southBL>-31.0852153004863</southBL>
<northBL>-31.0480162719757</northBL>
</GeoBndBox>
</geoEle>
</srcExt>
</stepSrc>
<stepSrc>
<srcDesc>Fotografia Aerea</srcDesc>
<srcCitatn>
<resTitle>05_154_0083</resTitle>
</srcCitatn>
<srcExt>
<geoEle>
<GeoBndBox>
<westBL>-51.5399618304678</westBL>
<eastBL>-51.510775602383</eastBL>
<southBL>-31.0850198324201</southBL>
<northBL>-31.0480337883849</northBL>
</GeoBndBox>
</geoEle>
</srcExt>
</stepSrc>
<stepSrc>
<srcDesc>Fotografia Aerea</srcDesc>
<srcCitatn>
<resTitle>05_152_0330</resTitle>
</srcCitatn>
<srcExt>
<geoEle>
<GeoBndBox>
<westBL>-51.4934405914095</westBL>
<eastBL>-51.4639826005764</eastBL>
<southBL>-31.0328140634939</southBL>
<northBL>-30.9955986739745</northBL>
</GeoBndBox>
</geoEle>
</srcExt>
</stepSrc>
<stepSrc>
<srcDesc>Fotografia Aerea</srcDesc>
<srcCitatn>
<resTitle>05_156_0667</resTitle>
</srcCitatn>
<srcExt>
<geoEle>
<GeoBndBox>
<westBL>-51.5400772627674</westBL>
<eastBL>-51.5109273043996</eastBL>
<southBL>-31.1379128144493</southBL>
<northBL>-31.1009594024137</northBL>
</GeoBndBox>
</geoEle>
</srcExt>
</stepSrc>
<stepSrc>
<srcDesc>Fotografia Aerea</srcDesc>
<srcCitatn>
<resTitle>05_151_0340</resTitle>
</srcCitatn>
<srcExt>
<geoEle>
<GeoBndBox>
<westBL>-51.5278562716118</westBL>
<eastBL>-51.4987733076046</eastBL>
<southBL>-31.0056941066471</southBL>
<northBL>-30.9688043159123</northBL>
</GeoBndBox>
</geoEle>
</srcExt>
</stepSrc>
<stepSrc>
<srcDesc>Fotografia Aerea</srcDesc>
<srcCitatn>
<resTitle>05_152_0326</resTitle>
</srcCitatn>
<srcExt>
<geoEle>
<GeoBndBox>
<westBL>-51.5398470990112</westBL>
<eastBL>-51.5104598611536</eastBL>
<southBL>-31.0326184472784</southBL>
<northBL>-30.9954826459022</northBL>
</GeoBndBox>
</geoEle>
</srcExt>
</stepSrc>
<stepSrc>
<srcDesc>Fotografia Aerea</srcDesc>
<srcCitatn>
<resTitle>05_152_0327</resTitle>
</srcCitatn>
<srcExt>
<geoEle>
<GeoBndBox>
<westBL>-51.5282615774223</westBL>
<eastBL>-51.4988390584855</eastBL>
<southBL>-31.0327056174568</southBL>
<northBL>-30.9955273893361</northBL>
</GeoBndBox>
</geoEle>
</srcExt>
</stepSrc>
<stepSrc>
<srcDesc>Fotografia Aerea</srcDesc>
<srcCitatn>
<resTitle>05_152_0328</resTitle>
</srcCitatn>
<srcExt>
<geoEle>
<GeoBndBox>
<westBL>-51.5166848269483</westBL>
<eastBL>-51.4871917616198</eastBL>
<southBL>-31.0327402409355</southBL>
<northBL>-30.995474767472</northBL>
</GeoBndBox>
</geoEle>
</srcExt>
</stepSrc>
<stepSrc>
<srcDesc>Fotografia Aerea</srcDesc>
<srcCitatn>
<resTitle>05_151_0338</resTitle>
</srcCitatn>
<srcExt>
<geoEle>
<GeoBndBox>
<westBL>-51.5046092294711</westBL>
<eastBL>-51.4755703599782</eastBL>
<southBL>-31.0058010302636</southBL>
<northBL>-30.9689614095017</northBL>
</GeoBndBox>
</geoEle>
</srcExt>
</stepSrc>
<stepSrc>
<srcDesc>Fotografia Aerea</srcDesc>
<srcCitatn>
<resTitle>05_151_0339</resTitle>
</srcCitatn>
<srcExt>
<geoEle>
<GeoBndBox>
<westBL>-51.5162253557232</westBL>
<eastBL>-51.4871821918907</eastBL>
<southBL>-31.0057323314998</southBL>
<northBL>-30.96889004028</northBL>
</GeoBndBox>
</geoEle>
</srcExt>
</stepSrc>
<stepSrc>
<srcDesc>Fotografia Aerea</srcDesc>
<srcCitatn>
<resTitle>05_151_0341</resTitle>
</srcCitatn>
<srcExt>
<geoEle>
<GeoBndBox>
<westBL>-51.5394326678903</westBL>
<eastBL>-51.5103949146739</eastBL>
<southBL>-31.00564189241</southBL>
<northBL>-30.9688125131507</northBL>
</GeoBndBox>
</geoEle>
</srcExt>
</stepSrc>
<stepSrc>
<srcDesc>Fotografia Aerea</srcDesc>
<srcCitatn>
<resTitle>05_155_0651</resTitle>
</srcCitatn>
<srcExt>
<geoEle>
<GeoBndBox>
<westBL>-51.5168429064147</westBL>
<eastBL>-51.4878511468366</eastBL>
<southBL>-31.1114094247291</southBL>
<northBL>-31.074674000064</northBL>
</GeoBndBox>
</geoEle>
</srcExt>
</stepSrc>
<stepSrc>
<srcDesc>Fotografia Aerea</srcDesc>
<srcCitatn>
<resTitle>05_155_0652</resTitle>
</srcCitatn>
<srcExt>
<geoEle>
<GeoBndBox>
<westBL>-51.5055757272057</westBL>
<eastBL>-51.4758363721218</eastBL>
<southBL>-31.1116459104153</southBL>
<northBL>-31.0744701761741</northBL>
</GeoBndBox>
</geoEle>
</srcExt>
</stepSrc>
<stepSrc>
<srcDesc>Fotografia Aerea</srcDesc>
<srcCitatn>
<resTitle>05_155_0653</resTitle>
</srcCitatn>
<srcExt>
<geoEle>
<GeoBndBox>
<westBL>-51.49395056161</westBL>
<eastBL>-51.4642155287231</eastBL>
<southBL>-31.1117526883565</southBL>
<northBL>-31.0745794210728</northBL>
</GeoBndBox>
</geoEle>
</srcExt>
</stepSrc>
<stepSrc>
<srcDesc>Fotografia Aerea</srcDesc>
<srcCitatn>
<resTitle>05_155_0655</resTitle>
</srcCitatn>
<srcExt>
<geoEle>
<GeoBndBox>
<westBL>-51.4703888132805</westBL>
<eastBL>-51.4413129607386</eastBL>
<southBL>-31.1116390947886</southBL>
<northBL>-31.0747879776833</northBL>
</GeoBndBox>
</geoEle>
</srcExt>
</stepSrc>
<stepSrc>
<srcDesc>Fotografia Aerea</srcDesc>
<srcCitatn>
<resTitle>05_155_0656</resTitle>
</srcCitatn>
<srcExt>
<geoEle>
<GeoBndBox>
<westBL>-51.4587600098405</westBL>
<eastBL>-51.4296958058432</eastBL>
<southBL>-31.1117647615364</southBL>
<northBL>-31.0748907485854</northBL>
</GeoBndBox>
</geoEle>
</srcExt>
</stepSrc>
</prcStep>
<prcStep>
<stepDesc>Coleta de Pontos de Apoio de campo realizada com o objetivo de orientar as imagens aéreas na etapa de aerotriangulação. Para realização desta etapa foram rastreados pontos de apoio suplementar, com tempo de ocupação mínima de 30 minutos e foram utilizadas como base as estações da RBMC.</stepDesc>
<stepDateTm>2018-05-18</stepDateTm>
<stepSrc>
<srcDesc>Ponto de Apoio</srcDesc>
<srcCitatn>
<resTitle>P-025</resTitle>
</srcCitatn>
<srcExt>
<geoEle>
<GeoBndBox>
<westBL>-51.505886135491</westBL>
<eastBL>-51.505886135491</eastBL>
<southBL>-31.0628907272015</southBL>
<northBL>-31.0628907272015</northBL>
</GeoBndBox>
</geoEle>
</srcExt>
</stepSrc>
</prcStep>
<prcStep>
<stepDesc>Aerotriangulação gerada para o lote 05 utilizando as imagens aerofogrametricas e pontos de apoio citados anteriormente.</stepDesc>
<stepDateTm>2018-08-08</stepDateTm>
</prcStep>
<prcStep>
<stepDesc>Aquisição vetorial a partir da ortoimagem</stepDesc>
<stepDateTm>2018-09-28</stepDateTm>
</prcStep>
<prcStep>
<stepDesc>Modelo Digital de Terreno com resolução espacial de 40 metros por pixel, gerado através de correlação esteroscópica de fotografias aéreas com objetivo exclusivo de geração de Ortofotos.</stepDesc>
<stepDateTm>2018-10-10</stepDateTm>
</prcStep>
<prcStep>
<stepDesc>Reambulação</stepDesc>
<stepDateTm>2018-11-13</stepDateTm>
</prcStep>
<prcStep>
<stepDesc>ORTOIMAGEM com resolução espacial de 35cm, nas bandas R,G,B e IR, 8 bits.</stepDesc>
<stepDateTm>2019-09-13</stepDateTm>
</prcStep>
<prcStep>
<stepDesc>Modelo Digital de Superfície com resolução espacial de 2,5 metros por pixel, gerado através de correlação esteroscópica de fotografias aéreas.</stepDesc>
<stepDateTm>2020-08-12</stepDateTm>
</prcStep>
<prcStep>
<stepDesc>Restituição da Hidrografia realizada a partir de processos de restituição estereofotogrametrica na escala 1:25000, obtida seguindo as especificações técnicas da ET-ADGV e estruturada seguindo as especificações técnicas da ET-EDGV.</stepDesc>
<stepDateTm>2020-08-12</stepDateTm>
</prcStep>
<prcStep>
<stepDesc>Modelo Digital de Terreno com resolução espacial de 2,5 metros por pixel, gerado através de correlação esteroscópica de fotografias aéreas e processos de filtragem. Para melhor modelagem do MDT foram utilizadas as breaklines da hidrografia como injunção nos modelos.</stepDesc>
<stepDateTm>2020-08-12</stepDateTm>
</prcStep>
<prcStep>
<stepDesc>Curvas de Nível geradas com equidistância de 10 metros a partir do MDT.</stepDesc>
<stepDateTm>2020-08-12</stepDateTm>
</prcStep>
<prcStep>
<stepDesc>Pontos Cotados obtido a partir do Modelo Digital do Terreno.</stepDesc>
<stepDateTm>2020-08-12</stepDateTm>
</prcStep>
<prcStep>
<stepDesc>Validação</stepDesc>
<stepDateTm>2020-08-12</stepDateTm>
</prcStep>
<prcStep>
<stepDesc>Criacão da área contínua</stepDesc>
<stepDateTm>2020-11-25</stepDateTm>
</prcStep>
<prcStep>
<stepDesc>Edição</stepDesc>
<stepDateTm>2020-12-02</stepDateTm>
</prcStep>
<statement>Aquisição vetorial na escala 1:25.000, a partir da ortoimagem com resolução espacial de 35 cm, nas bandas R,G, B e IR, 8 bits seguindo as especificações de aquisição e estruturação contidas nas normas ET-ADGV e ET-EDGV.</statement>
</dataLineage>
</dqInfo>
<spatRepInfo>
<Georect>
<cellGeo>
<CellGeoCd Sync="TRUE" value="002">
</CellGeoCd>
</cellGeo>
<numDims Sync="TRUE">2</numDims>
<tranParaAv Sync="TRUE">1</tranParaAv>
<chkPtAv Sync="TRUE">0</chkPtAv>
<cornerPts>
<pos Sync="TRUE">-51.553649 -31.134726</pos>
</cornerPts>
<cornerPts>
<pos Sync="TRUE">-51.553649 -30.982735</pos>
</cornerPts>
<cornerPts>
<pos Sync="TRUE">-51.321854 -30.982735</pos>
</cornerPts>
<cornerPts>
<pos Sync="TRUE">-51.321854 -31.134726</pos>
</cornerPts>
<centerPt>
<pos Sync="TRUE">-51.437751 -31.058730</pos>
</centerPt>
<axisDimension type="002">
<dimSize Sync="TRUE">13931</dimSize>
<dimResol>
<value Sync="TRUE" uom="Grau">0.000017</value>
</dimResol>
</axisDimension>
<axisDimension type="001">
<dimSize Sync="TRUE">10611</dimSize>
<dimResol>
<value Sync="TRUE" uom="Grau">0.000014</value>
</dimResol>
</axisDimension>
<ptInPixel>
<PixOrientCd Sync="TRUE" value="001">
</PixOrientCd>
</ptInPixel>
</Georect>
</spatRepInfo>
<refSysInfo>
<RefSystem>
<refSysID>
<identCode code="4674">
</identCode>
<identVrsn>7.4</identVrsn>
<idCodeSpace Sync="TRUE">EPSG</idCodeSpace>
<idVersion Sync="TRUE">9.7(9.2.0)</idVersion>
</refSysID>
</RefSystem>
</refSysInfo>
<contInfo>
<ERROR>gmd:MD_FeatureCatalogueDescription</ERROR>
<ImgDesc>
<contentTyp>
<ContentTypCd Sync="TRUE" value="001">
</ContentTypCd>
</contentTyp>
<covDim>
<Band>
<dimDescrp Sync="TRUE">Band_1</dimDescrp>
<maxVal Sync="TRUE">255.000000</maxVal>
<minVal Sync="TRUE">0.000000</minVal>
<bitsPerVal Sync="TRUE">8</bitsPerVal>
<valUnit>
<UOM type="length">
</UOM>
</valUnit>
</Band>
<Band>
<dimDescrp Sync="TRUE">Band_2</dimDescrp>
<maxVal Sync="TRUE">255.000000</maxVal>
<minVal Sync="TRUE">0.000000</minVal>
<bitsPerVal Sync="TRUE">8</bitsPerVal>
<valUnit>
<UOM type="length">
</UOM>
</valUnit>
</Band>
<Band>
<dimDescrp Sync="TRUE">Band_3</dimDescrp>
<maxVal Sync="TRUE">255.000000</maxVal>
<minVal Sync="TRUE">0.000000</minVal>
<bitsPerVal Sync="TRUE">8</bitsPerVal>
<valUnit>
<UOM type="length">
</UOM>
</valUnit>
</Band>
</covDim>
</ImgDesc>
</contInfo>
<contInfo>
<ERROR>gmd:MD_ImageDescription</ERROR>
<ImgDesc>
<contentTyp>
<ContentTypCd Sync="TRUE" value="001">
</ContentTypCd>
</contentTyp>
<covDim>
<Band>
<dimDescrp Sync="TRUE">Band_1</dimDescrp>
<maxVal Sync="TRUE">255.000000</maxVal>
<minVal Sync="TRUE">0.000000</minVal>
<bitsPerVal Sync="TRUE">8</bitsPerVal>
<valUnit>
<UOM type="length">
</UOM>
</valUnit>
</Band>
<Band>
<dimDescrp Sync="TRUE">Band_2</dimDescrp>
<maxVal Sync="TRUE">255.000000</maxVal>
<minVal Sync="TRUE">0.000000</minVal>
<bitsPerVal Sync="TRUE">8</bitsPerVal>
<valUnit>
<UOM type="length">
</UOM>
</valUnit>
</Band>
<Band>
<dimDescrp Sync="TRUE">Band_3</dimDescrp>
<maxVal Sync="TRUE">255.000000</maxVal>
<minVal Sync="TRUE">0.000000</minVal>
<bitsPerVal Sync="TRUE">8</bitsPerVal>
<valUnit>
<UOM type="length">
</UOM>
</valUnit>
</Band>
</covDim>
</ImgDesc>
</contInfo>
<mdHrLvName Sync="TRUE">dataset</mdHrLvName>
</metadata>
