<?xml version="1.0" encoding="UTF-8" standalone="no"?>
<metadata xml:lang="pt">
<Esri>
<CreaDate>20260603</CreaDate>
<CreaTime>10434300</CreaTime>
<ArcGISFormat>1.0</ArcGISFormat>
<SyncOnce>FALSE</SyncOnce>
<DataProperties>
<itemProps>
<imsContentType>002</imsContentType>
<itemName Sync="TRUE">2913-2.tif</itemName>
<nativeExtBox>
<westBL Sync="TRUE">-54.770425</westBL>
<eastBL Sync="TRUE">-54.480435</eastBL>
<southBL Sync="TRUE">-28.310309</southBL>
<northBL Sync="TRUE">-27.980654</northBL>
<exTypeCode Sync="TRUE">1</exTypeCode>
</nativeExtBox>
</itemProps>
<coordRef>
<type Sync="TRUE">Geographic</type>
<geogcsn Sync="TRUE">GCS_SIRGAS_2000</geogcsn>
<csUnits Sync="TRUE">Angular Unit: Degree (0.017453)</csUnits>
<peXml Sync="TRUE">&lt;GeographicCoordinateSystem xsi:type='typens:GeographicCoordinateSystem' xmlns:xsi='http://www.w3.org/2001/XMLSchema-instance' xmlns:xs='http://www.w3.org/2001/XMLSchema' xmlns:typens='http://www.esri.com/schemas/ArcGIS/3.5.0'&gt;&lt;WKT&gt;GEOGCS[&amp;quot;GCS_SIRGAS_2000&amp;quot;,DATUM[&amp;quot;D_SIRGAS_2000&amp;quot;,SPHEROID[&amp;quot;Geodetic_Reference_System_of_1980&amp;quot;,6378137.0,298.257222100892]],PRIMEM[&amp;quot;Greenwich&amp;quot;,0.0],UNIT[&amp;quot;Degree&amp;quot;,0.0174532925199433]]&lt;/WKT&gt;&lt;XOrigin&gt;-400&lt;/XOrigin&gt;&lt;YOrigin&gt;-400&lt;/YOrigin&gt;&lt;XYScale&gt;11258999068426.238&lt;/XYScale&gt;&lt;ZOrigin&gt;-100000&lt;/ZOrigin&gt;&lt;ZScale&gt;10000&lt;/ZScale&gt;&lt;MOrigin&gt;-100000&lt;/MOrigin&gt;&lt;MScale&gt;10000&lt;/MScale&gt;&lt;XYTolerance&gt;8.983152841195215e-09&lt;/XYTolerance&gt;&lt;ZTolerance&gt;0.001&lt;/ZTolerance&gt;&lt;MTolerance&gt;0.001&lt;/MTolerance&gt;&lt;HighPrecision&gt;true&lt;/HighPrecision&gt;&lt;LeftLongitude&gt;-180&lt;/LeftLongitude&gt;&lt;/GeographicCoordinateSystem&gt;</peXml>
</coordRef>
<RasterProperties>
<General>
<PixelDepth Sync="TRUE">8</PixelDepth>
<HasColormap Sync="TRUE">TRUE</HasColormap>
<CompressionType Sync="TRUE">None</CompressionType>
<NumBands Sync="TRUE">1</NumBands>
<Format Sync="TRUE">TIFF</Format>
<HasPyramids Sync="TRUE">TRUE</HasPyramids>
<SourceType Sync="TRUE">discrete</SourceType>
<PixelType Sync="TRUE">unsigned integer</PixelType>
<NoDataValue Sync="TRUE">
</NoDataValue>
</General>
</RasterProperties>
</DataProperties>
<locales>
</locales>
<SyncDate>20260603</SyncDate>
<SyncTime>17210000</SyncTime>
<ModDate>20260603</ModDate>
<ModTime>17210000</ModTime>
</Esri>
<mdFileID>3dece7c5-bac7-4abf-897f-c2a9092c05cb</mdFileID>
<metadataID>
</metadataID>
<mdLang>
<languageCode value="por">
</languageCode>
<countryCode value="BR">
</countryCode>
</mdLang>
<mdChar>
<CharSetCd value="004">
</CharSetCd>
</mdChar>
<mdHrLv>
<ScopeCd value="005">
</ScopeCd>
</mdHrLv>
<mdHrLvName>dataset</mdHrLvName>
<mdContact>
<role>
<RoleCd value="011">
</RoleCd>
</role>
<rpOrgName>Exército Brasileiro - Diretoria de Serviço Geográfico - 1º Centro de Geoinformação</rpOrgName>
<individual>
<rpIndName>Felipe de Carvalho Diniz</rpIndName>
</individual>
</mdContact>
<mdDateSt>20260603</mdDateSt>
<mdTimeSt>000000</mdTimeSt>
<mdStanName>ArcGIS Metadata</mdStanName>
<mdStanVer>1.0</mdStanVer>
<distInfo>
<distFormat>
<formatName>Conjunto de Dados Raster</formatName>
</distFormat>
</distInfo>
<dataIdInfo>
<idCitation>
<resTitle>Carta Topográfica 1:50.000 - Cerro Largo - SH-21-X-B-II-2 - 2913-2</resTitle>
<date>
<createDate>1975-01-01T00:00:00</createDate>
</date>
<citRespParty>
<role>
<RoleCd value="011">
</RoleCd>
</role>
<rpOrgName>Exército Brasileiro - Diretoria de Serviço Geográfico - 1º Centro de Geoinformação</rpOrgName>
<individual>
<rpIndName>Felipe de Carvalho Diniz</rpIndName>
</individual>
</citRespParty>
<presForm>
<PresFormCd value="005">
</PresFormCd>
</presForm>
</idCitation>
<idAbs>Base histórica matricial 1:50.000 do Rio Grande do Sul da década 1970</idAbs>
<idPurp>Base histórica matricial 1:50.000 do Rio Grande do Sul da década 1970</idPurp>
<idCredit>Exército Brasileiro - Diretoria de Serviço Geográfico - 1º Centro de Geoinformação</idCredit>
<idPoC>
<role>
<RoleCd value="011">
</RoleCd>
</role>
<rpOrgName>Exército Brasileiro - Diretoria de Serviço Geográfico - 1º Centro de Geoinformação</rpOrgName>
<rpCntInfo>
<cntAddress>
<eMailAdd>diniz.felipe@eb.mil.br</eMailAdd>
</cntAddress>
</rpCntInfo>
<individual>
<rpIndName>Felipe de Carvalho Diniz</rpIndName>
</individual>
</idPoC>
<otherKeys>
<keyword>Carta Topográfica</keyword>
</otherKeys>
<searchKeys>
<keyword>Carta Topográfica</keyword>
<keyword>Cartografia</keyword>
<keyword>Base50</keyword>
</searchKeys>
<resConst>
<Consts>
<useLimit>&lt;span style='font-family:&amp;quot;Avenir Next W01&amp;quot;, &amp;quot;Avenir Next W00&amp;quot;, &amp;quot;Avenir Next&amp;quot;, Avenir, &amp;quot;Helvetica Neue&amp;quot;, sans-serif; font-size:16px;'&gt;Limitação de Acesso: Sem restrições. Limitação de Uso: uso não-comercial (CC BY-NC 4.0 BR). Permite remixar, adaptar e criar a partir do trabalho para fins não comerciais. Novos trabalhos derivados têm que atribuir o devido crédito e não podem ser usados para fins comerciais, mas os usuários não são obrigados a licenciar os trabalhos derivados sob os mesmos termos. (https://creativecommons.org/licenses/by-nc/4.0/deed.pt)&lt;/span&gt;</useLimit>
</Consts>
</resConst>
<spatRpType>
<SpatRepTypCd value="002">
</SpatRepTypCd>
</spatRpType>
<tpCat>
<TopicCatCd value="010">
</TopicCatCd>
</tpCat>
<tpCat>
<TopicCatCd value="003">
</TopicCatCd>
</tpCat>
<dataExt>
<geoEle>
<GeoBndBox>
<exTypeCode>true</exTypeCode>
<westBL>-54.7499999187893</westBL>
<eastBL>-54.499999765644</eastBL>
<southBL>-28.2499998158876</southBL>
<northBL>-27.9999999141993</northBL>
</GeoBndBox>
</geoEle>
</dataExt>
<dataExt>
<geoEle>
<GeoBndBox>
<exTypeCode>true</exTypeCode>
<westBL>-54.770425</westBL>
<eastBL>-54.480435</eastBL>
<southBL>-28.310309</southBL>
<northBL>-27.980654</northBL>
</GeoBndBox>
</geoEle>
</dataExt>
<dataExt>
<geoEle>
<GeoBndBox>
<exTypeCode>true</exTypeCode>
<westBL>-54.770425</westBL>
<eastBL>-54.480435</eastBL>
<southBL>-28.310309</southBL>
<northBL>-27.980654</northBL>
</GeoBndBox>
</geoEle>
</dataExt>
<dataLang>
<languageCode value="por">
</languageCode>
<countryCode value="BR">
</countryCode>
</dataLang>
<dataChar>
<CharSetCd value="004">
</CharSetCd>
</dataChar>
<envirDesc> Version 6.2 (Build 9200) ; Esri ArcGIS 10.7.1.11595</envirDesc>
<dataExt>
<geoEle>
<GeoBndBox esriExtentType="search">
<exTypeCode Sync="TRUE">1</exTypeCode>
<westBL Sync="TRUE">-54.770425</westBL>
<eastBL Sync="TRUE">-54.480435</eastBL>
<northBL Sync="TRUE">-27.980654</northBL>
<southBL Sync="TRUE">-28.310309</southBL>
</GeoBndBox>
</geoEle>
</dataExt>
</dataIdInfo>
<mdConst>
<Consts>
<useLimit>Limitação de Acesso: Sem restrições. Limitação de Uso: uso não-comercial (CC BY-NC 4.0 BR). Permite remixar, adaptar e criar a partir do trabalho para fins não comerciais. Novos trabalhos derivados têm que atribuir o devido crédito e não podem ser usados para fins comerciais, mas os usuários não são obrigados a licenciar os trabalhos derivados sob os mesmos termos. (https://creativecommons.org/licenses/by-nc/4.0/deed.pt)</useLimit>
</Consts>
</mdConst>
<dqInfo>
<dataLineage>
<statement>A base foi obtida a partir do escaneamento das cartas históricas na escala 1:50.000 da década de 1970, de seu georreferenciamento no Datum nativo da carta, com a posterior mudança do sistema de referência para EPSG:4674 utilizando os parâmetros de conversão fornecidos pelo IBGE.</statement>
<dqScope>
<scpLvl>
<ScopeCd value="019">
</ScopeCd>
</scpLvl>
</dqScope>
</dataLineage>
</dqInfo>
<spatRepInfo>
<Georect>
<numDims>2</numDims>
<axisDimension type="001">
<dimSize>8639</dimSize>
<dimResol>
<value uom="Grau">0.000038</value>
</dimResol>
</axisDimension>
<axisDimension type="002">
<dimSize>6736</dimSize>
<dimResol>
<value uom="Grau">0.000043</value>
</dimResol>
</axisDimension>
<cellGeo>
<CellGeoCd Sync="TRUE" value="002">
</CellGeoCd>
</cellGeo>
<tranParaAv>true</tranParaAv>
<chkPtAv>false</chkPtAv>
<cornerPts>
<pos>-54.770425 -28.310309</pos>
</cornerPts>
<cornerPts>
<pos>-54.770425 -27.980654</pos>
</cornerPts>
<cornerPts>
<pos>-54.480435 -27.980654</pos>
</cornerPts>
<cornerPts>
<pos>-54.480435 -28.310309</pos>
</cornerPts>
<centerPt>
<pos>-54.625430 -28.145482</pos>
</centerPt>
<ptInPixel>
<PixOrientCd Sync="TRUE" value="001">
</PixOrientCd>
</ptInPixel>
</Georect>
</spatRepInfo>
<refSysInfo>
<RefSystem>
<refSysID>
<identCode code="4674">
</identCode>
<idCodeSpace>EPSG</idCodeSpace>
<idVersion>7.8.3(9.2.0)</idVersion>
</refSysID>
</RefSystem>
</refSysInfo>
<contInfo>
<CovDesc>
<contentTyp>
<ContentTypCd value="002">
</ContentTypCd>
</contentTyp>
<covDim>
<Band>
<dimDescrp>Band_2</dimDescrp>
<maxVal>255</maxVal>
<minVal>0</minVal>
<valUnit>
<UOM gmlID="ID0ESFAC">
<gmlIdent codeSpace="GML_UomSymbol">Unified Code of Units of Measure</gmlIdent>
</UOM>
</valUnit>
<bitsPerVal>8</bitsPerVal>
</Band>
</covDim>
<covDim>
<Band>
<dimDescrp>Band_3</dimDescrp>
<maxVal>255</maxVal>
<minVal>0</minVal>
<valUnit>
<UOM gmlID="ID0ESFAC">
<gmlIdent codeSpace="GML_UomSymbol">Unified Code of Units of Measure</gmlIdent>
</UOM>
</valUnit>
<bitsPerVal>8</bitsPerVal>
</Band>
</covDim>
<covDim>
<Band>
<dimDescrp>Band_1</dimDescrp>
<maxVal>255</maxVal>
<minVal>0</minVal>
<valUnit>
<UOM gmlID="ID0ESFAC">
<gmlIdent codeSpace="GML_UomSymbol">Unified Code of Units of Measure</gmlIdent>
</UOM>
</valUnit>
<bitsPerVal>8</bitsPerVal>
</Band>
</covDim>
</CovDesc>
</contInfo>
<contInfo>
<ImgDesc>
<contentTyp>
<ContentTypCd Sync="TRUE" value="002">
</ContentTypCd>
</contentTyp>
<covDim>
<Band>
<dimDescrp>Band_1</dimDescrp>
<maxVal>255</maxVal>
<minVal>0</minVal>
<valUnit>
<UOM type="length">
<gmlIdent codeSpace="GML_UomSymbol">Unified Code of Units of Measure</gmlIdent>
</UOM>
</valUnit>
<bitsPerVal>8</bitsPerVal>
</Band>
</covDim>
</ImgDesc>
</contInfo>
</metadata>
