{
 "currentVersion": 11.5,
 "serviceDescription": "Base histórica matricial 1:50.000 do Rio Grande do Sul da década de 1970.",
 "serviceItemId": "a499051f3f9646f28029dfc037e6e6cb",
 "name": "CARTAS_BASE50/3008-3",
 "description": "Base histórica matricial 1:50.000 do Rio Grande do Sul da década de 1970.",
 "extent": {
  "xmin": -54.03230851965003,
  "ymin": -31.565739713407257,
  "xmax": -53.71825412337232,
  "ymax": -31.22275477894778,
  "spatialReference": {
   "wkt2": "GEOGCRS[\"GCS_SIRGAS_2000\",DATUM[\"D_SIRGAS_2000\",ELLIPSOID[\"Geodetic_Reference_System_of_1980\",6378137.0,298.257222100892,LENGTHUNIT[\"Meter\",1.0]]],PRIMEM[\"Greenwich\",0.0,ANGLEUNIT[\"Degree\",0.0174532925199433]],CS[ellipsoidal,2],AXIS[\"Longitude (lon)\",east,ORDER[1]],AXIS[\"Latitude (lat)\",north,ORDER[2]],ANGLEUNIT[\"Degree\",0.0174532925199433]]",
   "wkt": "GEOGCS[\"GCS_SIRGAS_2000\",DATUM[\"D_SIRGAS_2000\",SPHEROID[\"Geodetic_Reference_System_of_1980\",6378137.0,298.257222100892]],PRIMEM[\"Greenwich\",0.0],UNIT[\"Degree\",0.0174532925199433]]"
  }
 },
 "initialExtent": {
  "xmin": -54.03230851965003,
  "ymin": -31.565739713407257,
  "xmax": -53.71825412337232,
  "ymax": -31.22275477894778,
  "spatialReference": {
   "wkt2": "GEOGCRS[\"GCS_SIRGAS_2000\",DATUM[\"D_SIRGAS_2000\",ELLIPSOID[\"Geodetic_Reference_System_of_1980\",6378137.0,298.257222100892,LENGTHUNIT[\"Meter\",1.0]]],PRIMEM[\"Greenwich\",0.0,ANGLEUNIT[\"Degree\",0.0174532925199433]],CS[ellipsoidal,2],AXIS[\"Longitude (lon)\",east,ORDER[1]],AXIS[\"Latitude (lat)\",north,ORDER[2]],ANGLEUNIT[\"Degree\",0.0174532925199433]]",
   "wkt": "GEOGCS[\"GCS_SIRGAS_2000\",DATUM[\"D_SIRGAS_2000\",SPHEROID[\"Geodetic_Reference_System_of_1980\",6378137.0,298.257222100892]],PRIMEM[\"Greenwich\",0.0],UNIT[\"Degree\",0.0174532925199433]]"
  }
 },
 "fullExtent": {
  "xmin": -54.03230851965003,
  "ymin": -31.565739713407257,
  "xmax": -53.71825412337232,
  "ymax": -31.22275477894778,
  "spatialReference": {
   "wkt2": "GEOGCRS[\"GCS_SIRGAS_2000\",DATUM[\"D_SIRGAS_2000\",ELLIPSOID[\"Geodetic_Reference_System_of_1980\",6378137.0,298.257222100892,LENGTHUNIT[\"Meter\",1.0]]],PRIMEM[\"Greenwich\",0.0,ANGLEUNIT[\"Degree\",0.0174532925199433]],CS[ellipsoidal,2],AXIS[\"Longitude (lon)\",east,ORDER[1]],AXIS[\"Latitude (lat)\",north,ORDER[2]],ANGLEUNIT[\"Degree\",0.0174532925199433]]",
   "wkt": "GEOGCS[\"GCS_SIRGAS_2000\",DATUM[\"D_SIRGAS_2000\",SPHEROID[\"Geodetic_Reference_System_of_1980\",6378137.0,298.257222100892]],PRIMEM[\"Greenwich\",0.0],UNIT[\"Degree\",0.0174532925199433]]"
  }
 },
 "sortableFields": "",
 "bandCount": 3,
 "pixelType": "U8",
 "minValues": [],
 "maxValues": [],
 "meanValues": [],
 "stdvValues": [],
 "serviceProperties": "Center<\/MosaicMethod>First<\/MosaicOperator>true<\/SortAscending><\/LockImageID><\/TileOrderField>0<\/TileOrderBase>0.000000<\/AvgImageSpacingX>0.000000<\/AvgImageSpacingY>0.0<\/ViewPointX>0.0<\/ViewPointY>0.0<\/ViewPointDefShiftX>0.0<\/ViewPointDefShiftY>None<\/CompressionMethod>75<\/CompressionQuality>0.010000<\/CompressionTolerance>Nearest<\/SamplingMethod><\/ImageServiceProperties><\/ImageServer>",
 "allowedFields": "",
 "hasMultidimensions": false,
 "pixelSizeX": 4.445214384680985E-5,
 "pixelSizeY": 3.813062084040872E-5,
 "meanPixelSize": 4.5965356566409525,
 "datasetFormat": "TIFF",
 "uncompressedSize": 190649025,
 "blockWidth": 7065,
 "blockHeight": 149,
 "compressionType": "None",
 "bandNames": [
  "Band_1"
 ],
 "allowCopy": true,
 "allowAnalysis": true,
 "itemAccess": false,
 "inspectionCapabilities": "",
 "noDataValue": 256,
 "noDataValues": [
  256,
  256,
  256
 ],
 "minPixelSize": 0,
 "maxPixelSize": 0,
 "copyrightText": " Exército Brasileiro - Diretoria de Serviço Geográfico - 1º Centro de Geoinformação",
 "serviceDataType": "esriImageServiceDataTypeThematic",
 "serviceSourceType": "esriImageServiceSourceTypeDataset",
 "objectIdField": "",
 "fields": [],
 "capabilities": "Mensuration,Image,Metadata",
 "defaultMosaicMethod": "Center",
 "allowedMosaicMethods": "",
 "sortField": "",
 "sortValue": null,
 "sortAscending": true,
 "mosaicOperator": "First",
 "maxDownloadSizeLimit": 2097196,
 "defaultCompressionQuality": 75,
 "defaultResamplingMethod": "Nearest",
 "maxImageHeight": 4100,
 "maxImageWidth": 15000,
 "allowRasterFunction": true,
 "rasterFunctionInfos": [
  {
   "name": "None",
   "description": "",
   "help": ""
  }
 ],
 "rasterTypeInfos": [
  {
   "name": "Raster Dataset",
   "description": "Supports all ArcGIS Raster Datasets",
   "help": ""
  }
 ],
 "mensurationCapabilities": "Basic",
 "hasHistograms": false,
 "hasColormap": false,
 "hasRasterAttributeTable": false,
 "minScale": 0,
 "maxScale": 0,
 "exportTilesAllowed": false,
 "supportsStatistics": false,
 "supportsAdvancedQueries": false,
 "editFieldsInfo": null,
 "ownershipBasedAccessControlForRasters": null,
 "allowComputeTiePoints": false,
 "useStandardizedQueries": true,
 "advancedQueryCapabilities": {
  "useStandardizedQueries": true,
  "supportsStatistics": false,
  "supportsOrderBy": false,
  "supportsDistinct": false,
  "supportsPagination": false
 },
 "spatialReference": {
  "wkt2": "GEOGCRS[\"GCS_SIRGAS_2000\",DATUM[\"D_SIRGAS_2000\",ELLIPSOID[\"Geodetic_Reference_System_of_1980\",6378137.0,298.257222100892,LENGTHUNIT[\"Meter\",1.0]]],PRIMEM[\"Greenwich\",0.0,ANGLEUNIT[\"Degree\",0.0174532925199433]],CS[ellipsoidal,2],AXIS[\"Longitude (lon)\",east,ORDER[1]],AXIS[\"Latitude (lat)\",north,ORDER[2]],ANGLEUNIT[\"Degree\",0.0174532925199433]]",
  "wkt": "GEOGCS[\"GCS_SIRGAS_2000\",DATUM[\"D_SIRGAS_2000\",SPHEROID[\"Geodetic_Reference_System_of_1980\",6378137.0,298.257222100892]],PRIMEM[\"Greenwich\",0.0],UNIT[\"Degree\",0.0174532925199433]]"
 }
}
