<?xml version="1.0" encoding="UTF-8" standalone="no"?>
<metadata xml:lang="pt">
<Esri>
<CreaDate>20190410</CreaDate>
<CreaTime>11193300</CreaTime>
<ArcGISFormat>1.0</ArcGISFormat>
<ArcGISstyle>North American Profile of ISO19115 2003</ArcGISstyle>
<SyncOnce>FALSE</SyncOnce>
<DataProperties>
<itemProps>
<itemName Sync="TRUE">3026-3.tif</itemName>
<nativeExtBox>
<westBL Sync="TRUE">-52.519809</westBL>
<eastBL Sync="TRUE">-52.206410</eastBL>
<southBL Sync="TRUE">-32.567520</southBL>
<northBL Sync="TRUE">-32.232507</northBL>
<exTypeCode Sync="TRUE">1</exTypeCode>
</nativeExtBox>
<imsContentType Sync="TRUE">002</imsContentType>
</itemProps>
<coordRef>
<type Sync="TRUE">Geographic</type>
<geogcsn Sync="TRUE">GCS_SIRGAS_2000</geogcsn>
<csUnits Sync="TRUE">Angular Unit: Degree (0.017453)</csUnits>
<peXml Sync="TRUE">&lt;GeographicCoordinateSystem xsi:type='typens:GeographicCoordinateSystem' xmlns:xsi='http://www.w3.org/2001/XMLSchema-instance' xmlns:xs='http://www.w3.org/2001/XMLSchema' xmlns:typens='http://www.esri.com/schemas/ArcGIS/10.6'&gt;&lt;WKT&gt;GEOGCS[&amp;quot;GCS_SIRGAS_2000&amp;quot;,DATUM[&amp;quot;D_SIRGAS2000&amp;quot;,SPHEROID[&amp;quot;Geodetic_Reference_System_of_1980&amp;quot;,6378137.0,298.2572221008916]],PRIMEM[&amp;quot;Greenwich&amp;quot;,0.0],UNIT[&amp;quot;Degree&amp;quot;,0.0174532925199433]]&lt;/WKT&gt;&lt;XOrigin&gt;-400&lt;/XOrigin&gt;&lt;YOrigin&gt;-400&lt;/YOrigin&gt;&lt;XYScale&gt;11258999068426.238&lt;/XYScale&gt;&lt;ZOrigin&gt;-100000&lt;/ZOrigin&gt;&lt;ZScale&gt;10000&lt;/ZScale&gt;&lt;MOrigin&gt;-100000&lt;/MOrigin&gt;&lt;MScale&gt;10000&lt;/MScale&gt;&lt;XYTolerance&gt;8.983152841195215e-09&lt;/XYTolerance&gt;&lt;ZTolerance&gt;0.001&lt;/ZTolerance&gt;&lt;MTolerance&gt;0.001&lt;/MTolerance&gt;&lt;HighPrecision&gt;true&lt;/HighPrecision&gt;&lt;LeftLongitude&gt;-180&lt;/LeftLongitude&gt;&lt;/GeographicCoordinateSystem&gt;</peXml>
</coordRef>
<RasterProperties>
<General>
<PixelDepth Sync="TRUE">8</PixelDepth>
<HasColormap Sync="TRUE">TRUE</HasColormap>
<CompressionType Sync="TRUE">None</CompressionType>
<NumBands Sync="TRUE">1</NumBands>
<Format Sync="TRUE">TIFF</Format>
<HasPyramids Sync="TRUE">FALSE</HasPyramids>
<SourceType Sync="TRUE">discrete</SourceType>
<PixelType Sync="TRUE">unsigned integer</PixelType>
<NoDataValue Sync="TRUE">
</NoDataValue>
</General>
</RasterProperties>
</DataProperties>
<SyncDate>20190422</SyncDate>
<SyncTime>10514900</SyncTime>
<ModDate>20260603</ModDate>
<ModTime>16485500</ModTime>
<scaleRange>
<minScale>150000000</minScale>
<maxScale>5000</maxScale>
</scaleRange>
<ArcGISProfile>NAP</ArcGISProfile>
</Esri>
<mdFileID>c7a89002-e878-457d-b384-40b876baa535</mdFileID>
<mdLang>
<languageCode value="por">
</languageCode>
<countryCode Sync="TRUE" value="BRA">
</countryCode>
</mdLang>
<mdChar>
<CharSetCd value="004">
</CharSetCd>
</mdChar>
<mdHrLv>
<ScopeCd value="005">
</ScopeCd>
</mdHrLv>
<mdContact>
<rpIndName>Felipe de Carvalho Diniz</rpIndName>
<rpOrgName>Exército Brasileiro - Diretoria de Serviço Geográfico - 1º Centro de Geoinformação</rpOrgName>
<role>
<RoleCd value="011">
</RoleCd>
</role>
</mdContact>
<mdDateSt Sync="TRUE">20260603</mdDateSt>
<mdStanName>ArcGIS Metadata</mdStanName>
<mdStanVer>1.0</mdStanVer>
<distInfo>
<distFormat>
<formatName Sync="TRUE">Raster Dataset</formatName>
</distFormat>
</distInfo>
<dataIdInfo>
<idCitation>
<resTitle Sync="FALSE">Carta Topográfica 1:50.000 - Arroio do Marisco - SI-22-V-B-I-3 - 3026-3</resTitle>
<date>
<createDate>1975-01-01T00:00:00</createDate>
</date>
<presForm>
<PresFormCd value="005">
</PresFormCd>
</presForm>
<citRespParty>
<rpIndName>Secretaria do Planejamento, Orçamento e Gestão do Estado do Rio Grande do Sul</rpIndName>
<rpOrgName>Secretaria do Planejamento, Orçamento e Gestão do Estado do Rio Grande do Sul</rpOrgName>
<role>
<RoleCd value="010">
</RoleCd>
</role>
</citRespParty>
</idCitation>
<idAbs>Base histórica matricial 1:50.000 do Rio Grande do Sul da década 1970.Acesso aos metadados da camada</idAbs>
<idCredit>Exército Brasileiro - Diretoria de Serviço Geográfico - 1º Centro de Geoinformação</idCredit>
<idPoC>
<rpIndName>Felipe de Carvalho Diniz</rpIndName>
<rpOrgName>Exército Brasileiro - Diretoria de Serviço Geográfico - 1º Centro de Geoinformação</rpOrgName>
<rpCntInfo>
<cntAddress>
<eMailAdd>diniz.felipe@eb.mil.br</eMailAdd>
</cntAddress>
</rpCntInfo>
<role>
<RoleCd value="011">
</RoleCd>
</role>
</idPoC>
<otherKeys>
<keyword>Carta Topográfica</keyword>
</otherKeys>
<searchKeys>
<keyword>Carta Topográfica</keyword>
<keyword>Base50</keyword>
<keyword>Cartografia</keyword>
</searchKeys>
<spatRpType>
<SpatRepTypCd value="002">
</SpatRepTypCd>
</spatRpType>
<dataLang>
<languageCode value="por">
</languageCode>
<countryCode Sync="TRUE" value="BRA">
</countryCode>
</dataLang>
<dataChar>
<CharSetCd value="004">
</CharSetCd>
</dataChar>
<envirDesc Sync="TRUE"> Version 6.2 (Build 9200) ; Esri ArcGIS 10.6.1.9270</envirDesc>
<dataExt>
<geoEle>
<GeoBndBox>
<exTypeCode>true</exTypeCode>
<westBL>-52.5000000492236</westBL>
<eastBL>-52.2500001475353</eastBL>
<southBL>-32.4999999047879</southBL>
<northBL>-32.2500000030996</northBL>
</GeoBndBox>
</geoEle>
</dataExt>
<dataExt>
<geoEle>
<GeoBndBox esriExtentType="search">
<exTypeCode Sync="TRUE">1</exTypeCode>
<westBL Sync="TRUE">-52.519809</westBL>
<eastBL Sync="TRUE">-52.206410</eastBL>
<northBL Sync="TRUE">-32.232507</northBL>
<southBL Sync="TRUE">-32.567520</southBL>
</GeoBndBox>
</geoEle>
</dataExt>
<idPurp>Base histórica matricial 1:50.000 do Rio Grande do Sul da década de 1970.</idPurp>
<resConst>
<Consts>
<useLimit>&lt;span style='font-family:&amp;quot;Avenir Next W01&amp;quot;, &amp;quot;Avenir Next W00&amp;quot;, &amp;quot;Avenir Next&amp;quot;, Avenir, &amp;quot;Helvetica Neue&amp;quot;, sans-serif; font-size:16px;'&gt;Limitação de Acesso: Sem restrições. Limitação de Uso: uso não-comercial (CC BY-NC 4.0 BR). Permite remixar, adaptar e criar a partir do trabalho para fins não comerciais. Novos trabalhos derivados têm que atribuir o devido crédito e não podem ser usados para fins comerciais, mas os usuários não são obrigados a licenciar os trabalhos derivados sob os mesmos termos. (https://creativecommons.org/licenses/by-nc/4.0/deed.pt)&lt;/span&gt;</useLimit>
</Consts>
</resConst>
<tpCat>
<TopicCatCd value="010">
</TopicCatCd>
</tpCat>
</dataIdInfo>
<dqInfo>
<dataLineage>
<statement>A base foi obtida a partir do escaneamento das cartas históricas na escala 1:50.000 da década de 1970, de seu georreferenciamento no Datum nativo da carta, com a posterior mudança do sistema de referência para EPSG:4674 utilizando os parâmetros de conversão fornecidos pelo IBGE.</statement>
</dataLineage>
<dqScope>
<scpLvl>
<ScopeCd value="019">
</ScopeCd>
</scpLvl>
</dqScope>
</dqInfo>
<spatRepInfo>
<Georect>
<numDims Sync="TRUE">2</numDims>
<axisDimension type="001">
<dimSize Sync="TRUE">8781</dimSize>
<dimResol>
<value Sync="TRUE" uom="deg">0.000038</value>
</dimResol>
</axisDimension>
<axisDimension type="002">
<dimSize Sync="TRUE">6969</dimSize>
<dimResol>
<value Sync="TRUE" uom="deg">0.000045</value>
</dimResol>
</axisDimension>
<cellGeo>
<CellGeoCd Sync="TRUE" value="002">
</CellGeoCd>
</cellGeo>
<tranParaAv Sync="TRUE">1</tranParaAv>
<chkPtAv Sync="TRUE">0</chkPtAv>
<ptInPixel>
<PixOrientCd Sync="TRUE" value="001">
</PixOrientCd>
</ptInPixel>
<cornerPts>
<pos Sync="TRUE">-52.519809 -32.567520</pos>
</cornerPts>
<cornerPts>
<pos Sync="TRUE">-52.519809 -32.232507</pos>
</cornerPts>
<cornerPts>
<pos Sync="TRUE">-52.206410 -32.232507</pos>
</cornerPts>
<cornerPts>
<pos Sync="TRUE">-52.206410 -32.567520</pos>
</cornerPts>
<centerPt>
<pos Sync="TRUE">-52.363109 -32.400013</pos>
</centerPt>
</Georect>
</spatRepInfo>
<refSysInfo>
<RefSystem>
<refSysID>
<identCode code="4674">
</identCode>
<idCodeSpace>EPSG</idCodeSpace>
<idVersion>7.8.3(9.2.0)</idVersion>
</refSysID>
</RefSystem>
</refSysInfo>
<contInfo>
<CovDesc>
<contentTyp>
<ContentTypCd value="002">
</ContentTypCd>
</contentTyp>
<covDim>
<Band>
<dimDescrp>Band_2</dimDescrp>
<maxVal>255</maxVal>
<minVal>0</minVal>
<valUnit>
<UOM gmlID="ID0ESFAC">
<gmlIdent codeSpace="GML_UomSymbol">Unified Code of Units of Measure</gmlIdent>
</UOM>
</valUnit>
<bitsPerVal>8</bitsPerVal>
</Band>
</covDim>
<covDim>
<Band>
<dimDescrp>Band_3</dimDescrp>
<maxVal>255</maxVal>
<minVal>0</minVal>
<valUnit>
<UOM gmlID="ID0ESFAC">
<gmlIdent codeSpace="GML_UomSymbol">Unified Code of Units of Measure</gmlIdent>
</UOM>
</valUnit>
<bitsPerVal>8</bitsPerVal>
</Band>
</covDim>
<covDim>
<Band>
<dimDescrp>Band_1</dimDescrp>
<maxVal>255</maxVal>
<minVal>0</minVal>
<valUnit>
<UOM gmlID="ID0ESFAC">
<gmlIdent codeSpace="GML_UomSymbol">Unified Code of Units of Measure</gmlIdent>
</UOM>
</valUnit>
<bitsPerVal>8</bitsPerVal>
</Band>
</covDim>
</CovDesc>
<ImgDesc>
<contentTyp>
<ContentTypCd Sync="TRUE" value="002">
</ContentTypCd>
</contentTyp>
<covDim>
<Band>
<dimDescrp Sync="TRUE">Band_1</dimDescrp>
<bitsPerVal Sync="TRUE">8</bitsPerVal>
<valUnit>
<UOM type="length">
</UOM>
</valUnit>
</Band>
</covDim>
</ImgDesc>
</contInfo>
<mdHrLvName Sync="TRUE">dataset</mdHrLvName>
<mdConst>
<Consts>
<useLimit>&lt;DIV STYLE="text-align:Left;"&gt;&lt;DIV&gt;&lt;P&gt;&lt;SPAN&gt;Limitação de Acesso: Sem restrições. Limitação de Uso: uso não-comercial (CC BY-NC 4.0 BR). Permite remixar, adaptar e criar a partir do trabalho para fins não comerciais. Novos trabalhos derivados têm que atribuir o devido crédito e não podem ser usados para fins comerciais, mas os usuários não são obrigados a licenciar os trabalhos derivados sob os mesmos termos. (https://creativecommons.org/licenses/by-nc/4.0/deed.pt)&lt;/SPAN&gt;&lt;/P&gt;&lt;/DIV&gt;&lt;/DIV&gt;</useLimit>
</Consts>
</mdConst>
</metadata>
