{
 "currentVersion": 11.5,
 "serviceDescription": "Elaboração da base cartográfica digital da RF-1, atrave´s da geração dos produtos de Ortoimagem Digital, Feições de Hidrografia, MDE e Curvas de Nível, visando a obtenção de informações geográficas atualizadas compatível à escala de 1:25.000",
 "serviceItemId": "b4a21449468d4404893981b378b1ebe4",
 "name": "ORTOIMG_RF1/Ortoimagem_MI_2952_4_NE",
 "description": "Elaboração da base cartográfica digital da RF-1, atrave´s da geração dos produtos de Ortoimagem Digital, Feições de Hidrografia, MDE e Curvas de Nível, visando a obtenção de informações geográficas atualizadas compatível à escala de 1:25.000",
 "extent": {
  "xmin": -51.645666245608275,
  "ymin": -29.38459119658676,
  "xmax": -51.4896187963636,
  "ymax": -29.231328218605743,
  "spatialReference": {
   "wkid": 4674,
   "latestWkid": 4674
  }
 },
 "initialExtent": {
  "xmin": -51.645666245608275,
  "ymin": -29.38459119658676,
  "xmax": -51.4896187963636,
  "ymax": -29.231328218605743,
  "spatialReference": {
   "wkid": 4674,
   "latestWkid": 4674
  }
 },
 "fullExtent": {
  "xmin": -51.645666245608275,
  "ymin": -29.38459119658676,
  "xmax": -51.4896187963636,
  "ymax": -29.231328218605743,
  "spatialReference": {
   "wkid": 4674,
   "latestWkid": 4674
  }
 },
 "sortableFields": "",
 "bandCount": 4,
 "pixelType": "U8",
 "minValues": [],
 "maxValues": [],
 "meanValues": [],
 "stdvValues": [],
 "serviceProperties": "Center<\/MosaicMethod>First<\/MosaicOperator>true<\/SortAscending><\/LockImageID><\/TileOrderField>0<\/TileOrderBase>0.000000<\/AvgImageSpacingX>0.000000<\/AvgImageSpacingY>0.0<\/ViewPointX>0.0<\/ViewPointY>0.0<\/ViewPointDefShiftX>0.0<\/ViewPointDefShiftY>None<\/CompressionMethod>75<\/CompressionQuality>0.010000<\/CompressionTolerance>Nearest<\/SamplingMethod><\/ImageServiceProperties><\/ImageServer>",
 "allowedFields": "",
 "hasMultidimensions": false,
 "pixelSizeX": 3.604033656165975E-6,
 "pixelSizeY": 3.1588239242568607E-6,
 "meanPixelSize": 0.3764189310800501,
 "datasetFormat": "TIFF",
 "uncompressedSize": 8403102648,
 "blockWidth": 43298,
 "blockHeight": 25,
 "compressionType": "None",
 "bandNames": [
  "Layer_1",
  "Layer_2",
  "Layer_3",
  "Layer_4"
 ],
 "allowCopy": true,
 "allowAnalysis": true,
 "itemAccess": false,
 "inspectionCapabilities": "",
 "noDataValue": 2,
 "noDataValues": [
  2,
  2,
  2,
  2
 ],
 "minPixelSize": 0,
 "maxPixelSize": 0,
 "copyrightText": "Secretaria de Planejamento Orçamento e Gestão-RS/Departamento de Planejamento Governamental",
 "serviceDataType": "esriImageServiceDataTypeGeneric",
 "serviceSourceType": "esriImageServiceSourceTypeDataset",
 "objectIdField": "",
 "fields": [],
 "capabilities": "Image,Metadata,Mensuration",
 "defaultMosaicMethod": "Center",
 "allowedMosaicMethods": "",
 "sortField": "",
 "sortValue": null,
 "sortAscending": true,
 "mosaicOperator": "First",
 "defaultCompressionQuality": 75,
 "defaultResamplingMethod": "Nearest",
 "maxImageHeight": 4100,
 "maxImageWidth": 15000,
 "allowRasterFunction": true,
 "rasterFunctionInfos": [
  {
   "name": "None",
   "description": "Make a Raster or Raster Dataset into a Function Raster Dataset.",
   "help": ""
  },
  {
   "name": "MI 2952-4-NE",
   "description": "Um modelo de função do raster.",
   "help": ""
  }
 ],
 "rasterTypeInfos": [
  {
   "name": "Raster Dataset",
   "description": "Supports all ArcGIS Raster Datasets",
   "help": ""
  }
 ],
 "mensurationCapabilities": "Basic",
 "hasHistograms": false,
 "hasColormap": false,
 "hasRasterAttributeTable": false,
 "minScale": 0,
 "maxScale": 0,
 "exportTilesAllowed": false,
 "supportsStatistics": false,
 "supportsAdvancedQueries": false,
 "editFieldsInfo": null,
 "ownershipBasedAccessControlForRasters": null,
 "allowComputeTiePoints": false,
 "useStandardizedQueries": true,
 "advancedQueryCapabilities": {
  "useStandardizedQueries": true,
  "supportsStatistics": false,
  "supportsOrderBy": false,
  "supportsDistinct": false,
  "supportsPagination": false
 },
 "spatialReference": {
  "wkid": 4674,
  "latestWkid": 4674
 }
}
