Elaboração de base cartográfica digital da região RF-1, através da geração dos produtos de Ortoimagem Digital, Feições de Hidrografia, MDE e Curvas de Nível, visando a obtenção de informações geográficas atualizadas compatível a escala de 1:25.000.<\/SPAN><\/P><\/DIV><\/DIV><\/DIV>",
"serviceItemId": "ca3fa39f88ca4db1946f574d653f1829",
"name": "ORTOIMG_RF1/Ortoimagem_MI_2985_3_SE_",
"description": "Elaboração de base cartográfica digital da região RF-1, através da geração dos produtos de Ortoimagem Digital, Feições de Hidrografia, MDE e Curvas de Nível, visando a obtenção de informações geográficas atualizadas compatível a escala de 1:25.000.<\/SPAN><\/P><\/DIV><\/DIV><\/DIV>",
"extent": {
"xmin": -52.38648055654189,
"ymin": -30.511116835709103,
"xmax": -52.238631651568824,
"ymax": -30.36383470308775,
"spatialReference": {
"wkid": 4674,
"latestWkid": 4674
}
},
"initialExtent": {
"xmin": -52.38648055654189,
"ymin": -30.511116835709103,
"xmax": -52.238631651568824,
"ymax": -30.36383470308775,
"spatialReference": {
"wkid": 4674,
"latestWkid": 4674
}
},
"fullExtent": {
"xmin": -52.38648055654189,
"ymin": -30.511116835709103,
"xmax": -52.238631651568824,
"ymax": -30.36383470308775,
"spatialReference": {
"wkid": 4674,
"latestWkid": 4674
}
},
"sortableFields": "",
"bandCount": 4,
"pixelType": "U8",
"minValues": [
0,
0,
0,
9
],
"maxValues": [
255,
255,
255,
255
],
"meanValues": [
65.980674420794,
75.99982280702,
67.43941872429,
149.71969152653
],
"stdvValues": [
26.370564135202,
24.024692157272,
18.455801917735,
36.160002354219
],
"serviceProperties": "Center<\/MosaicMethod>First<\/MosaicOperator>true<\/SortAscending><\/LockImageID><\/TileOrderField>0<\/TileOrderBase>0.000000<\/AvgImageSpacingX>0.000000<\/AvgImageSpacingY>0.0<\/ViewPointX>0.0<\/ViewPointY>0.0<\/ViewPointDefShiftX>0.0<\/ViewPointDefShiftY>None<\/CompressionMethod>75<\/CompressionQuality>0.010000<\/CompressionTolerance>Nearest<\/SamplingMethod><\/ImageServiceProperties><\/ImageServer>",
"allowedFields": "",
"hasMultidimensions": false,
"pixelSizeX": 3.6442914708668207E-6,
"pixelSizeY": 3.1577824793926524E-6,
"meanPixelSize": 0.3786017042405377,
"datasetFormat": "TIFF",
"uncompressedSize": 7568901480,
"blockWidth": 40570,
"blockHeight": 26,
"compressionType": "None",
"bandNames": [
"Band_1",
"Band_2",
"Band_3",
"Band_4"
],
"allowCopy": true,
"allowAnalysis": true,
"itemAccess": false,
"inspectionCapabilities": "",
"noDataValue": 2,
"noDataValues": [
2,
2,
2,
2
],
"minPixelSize": 0,
"maxPixelSize": 0,
"copyrightText": "Secretaria de Planejamento, Orçamento e Gestão-RS/Departamento de Planejamento Governamental",
"serviceDataType": "esriImageServiceDataTypeGeneric",
"serviceSourceType": "esriImageServiceSourceTypeDataset",
"objectIdField": "",
"fields": [],
"capabilities": "Image,Metadata,Mensuration",
"defaultMosaicMethod": "Center",
"allowedMosaicMethods": "",
"sortField": "",
"sortValue": null,
"sortAscending": true,
"mosaicOperator": "First",
"defaultCompressionQuality": 75,
"defaultResamplingMethod": "Nearest",
"maxImageHeight": 4100,
"maxImageWidth": 15000,
"allowRasterFunction": true,
"rasterFunctionInfos": [
{
"name": "None",
"description": "Make a Raster or Raster Dataset into a Function Raster Dataset.",
"help": ""
},
{
"name": "MI 2985-3-SE",
"description": "Um modelo de função do raster.",
"help": ""
}
],
"rasterTypeInfos": [
{
"name": "Raster Dataset",
"description": "Supports all ArcGIS Raster Datasets",
"help": ""
}
],
"mensurationCapabilities": "Basic",
"hasHistograms": true,
"hasColormap": false,
"hasRasterAttributeTable": false,
"minScale": 0,
"maxScale": 0,
"exportTilesAllowed": false,
"supportsStatistics": false,
"supportsAdvancedQueries": false,
"editFieldsInfo": null,
"ownershipBasedAccessControlForRasters": null,
"allowComputeTiePoints": false,
"useStandardizedQueries": true,
"advancedQueryCapabilities": {
"useStandardizedQueries": true,
"supportsStatistics": false,
"supportsOrderBy": false,
"supportsDistinct": false,
"supportsPagination": false
},
"spatialReference": {
"wkid": 4674,
"latestWkid": 4674
}
}