<?xml version="1.0" encoding="UTF-8" standalone="no"?>
<metadata xml:lang="pt">
<Esri>
<CreaDate>20200204</CreaDate>
<CreaTime>16322300</CreaTime>
<ArcGISFormat>1.0</ArcGISFormat>
<ArcGISstyle>North American Profile of ISO19115 2003</ArcGISstyle>
<SyncOnce>FALSE</SyncOnce>
<DataProperties>
<itemProps>
<itemName Sync="TRUE">Ortoimagem_MI 2987-4-SE.tif</itemName>
<nativeExtBox>
<westBL Sync="TRUE">-51.146004</westBL>
<eastBL Sync="TRUE">-50.989521</eastBL>
<southBL Sync="TRUE">-30.519458</southBL>
<northBL Sync="TRUE">-30.364501</northBL>
<exTypeCode Sync="TRUE">1</exTypeCode>
</nativeExtBox>
<imsContentType Sync="TRUE">002</imsContentType>
</itemProps>
<coordRef>
<type Sync="TRUE">Geographic</type>
<geogcsn Sync="TRUE">GCS_SIRGAS_2000</geogcsn>
<csUnits Sync="TRUE">Angular Unit: Degree (0.017453)</csUnits>
<peXml Sync="TRUE">&lt;GeographicCoordinateSystem xsi:type='typens:GeographicCoordinateSystem' xmlns:xsi='http://www.w3.org/2001/XMLSchema-instance' xmlns:xs='http://www.w3.org/2001/XMLSchema' xmlns:typens='http://www.esri.com/schemas/ArcGIS/10.7'&gt;&lt;WKT&gt;GEOGCS[&amp;quot;GCS_SIRGAS_2000&amp;quot;,DATUM[&amp;quot;D_SIRGAS_2000&amp;quot;,SPHEROID[&amp;quot;GRS_1980&amp;quot;,6378137.0,298.257222101]],PRIMEM[&amp;quot;Greenwich&amp;quot;,0.0],UNIT[&amp;quot;Degree&amp;quot;,0.0174532925199433],AUTHORITY[&amp;quot;EPSG&amp;quot;,4674]]&lt;/WKT&gt;&lt;XOrigin&gt;-400&lt;/XOrigin&gt;&lt;YOrigin&gt;-400&lt;/YOrigin&gt;&lt;XYScale&gt;11258999068426.238&lt;/XYScale&gt;&lt;ZOrigin&gt;-100000&lt;/ZOrigin&gt;&lt;ZScale&gt;10000&lt;/ZScale&gt;&lt;MOrigin&gt;-100000&lt;/MOrigin&gt;&lt;MScale&gt;10000&lt;/MScale&gt;&lt;XYTolerance&gt;8.9831528411952133e-09&lt;/XYTolerance&gt;&lt;ZTolerance&gt;0.001&lt;/ZTolerance&gt;&lt;MTolerance&gt;0.001&lt;/MTolerance&gt;&lt;HighPrecision&gt;true&lt;/HighPrecision&gt;&lt;LeftLongitude&gt;-180&lt;/LeftLongitude&gt;&lt;WKID&gt;4674&lt;/WKID&gt;&lt;LatestWKID&gt;4674&lt;/LatestWKID&gt;&lt;/GeographicCoordinateSystem&gt;</peXml>
</coordRef>
<RasterProperties>
<General>
<PixelDepth Sync="TRUE">8</PixelDepth>
<HasColormap Sync="TRUE">FALSE</HasColormap>
<CompressionType Sync="TRUE">None</CompressionType>
<NumBands Sync="TRUE">4</NumBands>
<Format Sync="TRUE">TIFF</Format>
<HasPyramids Sync="TRUE">TRUE</HasPyramids>
<SourceType Sync="TRUE">continuous</SourceType>
<PixelType Sync="TRUE">unsigned integer</PixelType>
<NoDataValue Sync="TRUE">2</NoDataValue>
</General>
</RasterProperties>
</DataProperties>
<SyncDate>20200204</SyncDate>
<SyncTime>16354700</SyncTime>
<ModDate>20200204</ModDate>
<ModTime>16354700</ModTime>
<scaleRange>
<minScale>50000</minScale>
<maxScale>5000</maxScale>
</scaleRange>
</Esri>
<mdFileID>69e146428dfc49c4acc34d664c5d8f48</mdFileID>
<mdLang>
<languageCode value="pt-BR">
</languageCode>
<countryCode Sync="TRUE" value="BRA">
</countryCode>
</mdLang>
<mdChar>
<CharSetCd value="004">
</CharSetCd>
</mdChar>
<mdHrLv>
<ScopeCd value="005">
</ScopeCd>
</mdHrLv>
<mdContact>
<rpIndName>João Paulo Carvalho Raivel - CREARJ-158869/D</rpIndName>
<rpOrgName>Hiparc Geotecnologia, Projetos e Aerolevantamentos LTDA</rpOrgName>
<rpPosName>Responsável Técnico</rpPosName>
<rpCntInfo>
<cntOnlineRes>
</cntOnlineRes>
</rpCntInfo>
<role>
<RoleCd value="007">
</RoleCd>
</role>
</mdContact>
<mdDateSt Sync="TRUE">20200204</mdDateSt>
<mdStanName>ArcGIS Metadata</mdStanName>
<mdStanVer>1.0</mdStanVer>
<distInfo>
<distributor>
<distorCont>
<rpOrgName>Secretaria do Planejamento, Orçamento e Gestão do Estado do Rio Grande do Sul</rpOrgName>
<rpCntInfo>
<cntPhone>
<voiceNum>+55 (51) 3288-1499</voiceNum>
</cntPhone>
<cntAddress>
<delPoint>Av. Borges de Medeiros, 1501 - Porto Alegre/RS</delPoint>
</cntAddress>
</rpCntInfo>
<role>
<RoleCd value="005">
</RoleCd>
</role>
</distorCont>
<distorOrdPrc>
<resFees>Gratuito</resFees>
</distorOrdPrc>
</distributor>
<distFormat>
<formatName Sync="TRUE">Conjunto de Dados Raster</formatName>
<formatVer>1.0</formatVer>
</distFormat>
<distTranOps>
<transSize>13900522345</transSize>
<offLineMed>
</offLineMed>
</distTranOps>
</distInfo>
<dataIdInfo>
<idCitation>
<resTitle Sync="TRUE">Ortoimagem_MI 2987-4-SE.tif</resTitle>
<resAltTitle>ORTOIMAGEM</resAltTitle>
<resEd>1ª Edição</resEd>
<resEdDate>20190913</resEdDate>
<datasetSeries>
<seriesName>Projeto de Mapeamento do Rio Grande do Sul</seriesName>
</datasetSeries>
<presForm>
<PresFormCd Sync="TRUE" value="005">
</PresFormCd>
</presForm>
</idCitation>
<idAbs>Elaboração de base cartográfica digital da região RF-1, através da geração dos produtos de Ortoimagem Digital, Feições de Hidrografia, MDE e Curvas de Nível, visando a obtenção de informações geográficas atualizadas compatível a escala de 1:25.000.</idAbs>
<idPoC>
<rpOrgName>Secretaria do Planejamento, Orçamento e Gestão do Estado do Rio Grande do Sul</rpOrgName>
<rpCntInfo>
<cntPhone>
<voiceNum>+55 (51) 3288-1499</voiceNum>
</cntPhone>
<cntAddress>
<delPoint>Av. Borges de Medeiros, 1501 - Porto Alegre/RS</delPoint>
</cntAddress>
<cntOnlineRes>
</cntOnlineRes>
</rpCntInfo>
<role>
<RoleCd value="007">
</RoleCd>
</role>
</idPoC>
<resMaint>
</resMaint>
<searchKeys>
<keyword>Região Funcional 1</keyword>
<keyword>ortoimagens</keyword>
<keyword>ortoimagens RF1</keyword>
<keyword>RF1</keyword>
<keyword>Projeto de Mapeamento do Rio grande do Sul</keyword>
<keyword>ortoimagem Lote 2</keyword>
<keyword>L2</keyword>
<keyword>2987-4-SE</keyword>
</searchKeys>
<resConst>
<LegConsts>
<useLimit>copyright</useLimit>
</LegConsts>
<Consts>
<useLimit/>
</Consts>
</resConst>
<resConst>
<SecConsts>
</SecConsts>
<Consts>
<useLimit/>
</Consts>
</resConst>
<aggrInfo>
<aggrDSName>
<resTitle>Região Funcional 1 - Lote 02</resTitle>
</aggrDSName>
</aggrInfo>
<dataScale>
<equScale>
<rfDenom>25000</rfDenom>
</equScale>
</dataScale>
<dataLang>
<languageCode value="pt-BR">
</languageCode>
<countryCode Sync="TRUE" value="BRA">
</countryCode>
</dataLang>
<dataExt>
<geoEle>
<GeoBndBox>
<westBL>-51.1460023128037</westBL>
<eastBL>-50.9895256967222</eastBL>
<southBL>-30.5194546779116</southBL>
<northBL>-30.3645026462059</northBL>
</GeoBndBox>
</geoEle>
</dataExt>
<suppInfo>A definição deste tipo de produto encontra-se na Especificação Técnica para Produtos de Conjuntos de Dados Geoespaciais (ET-PCDG). A PCDG pode ser obtida no Geoportal do Exército Brasileiro (http://www.geoportal.eb.mil.br).</suppInfo>
<envirDesc Sync="TRUE"> Version 6.2 (Build 9200) ; Esri ArcGIS 10.7.0.10450</envirDesc>
<spatRpType>
<SpatRepTypCd Sync="TRUE" value="002">
</SpatRepTypCd>
</spatRpType>
<dataExt>
<geoEle>
<GeoBndBox esriExtentType="search">
<exTypeCode Sync="TRUE">1</exTypeCode>
<westBL Sync="TRUE">-51.146004</westBL>
<eastBL Sync="TRUE">-50.989521</eastBL>
<northBL Sync="TRUE">-30.364501</northBL>
<southBL Sync="TRUE">-30.519458</southBL>
</GeoBndBox>
</geoEle>
</dataExt>
<idPurp>Elaboração da base cartográfica digital da RF-1, através da geração dos produtos de Ortoimagem Digital</idPurp>
<idCredit>Secretaria de Planejamento, Orçamento e Gestão-RS/Departamento de Planejamento Governamental</idCredit>
</dataIdInfo>
<mdMaint>
</mdMaint>
<dqInfo>
<dqScope>
</dqScope>
<dataLineage>
<statement>Ortoimagem com resolução espacial de 35cm, nas bandas R,G,B e IR, 8 bits.</statement>
<prcStep>
<stepDesc>ORTOIMAGEM com resolução espacial de 35cm, nas bandas R,G,B e IR, 8 bits.</stepDesc>
<stepDateTm>2019-09-13T00:00:00</stepDateTm>
</prcStep>
<prcStep>
<stepDesc>Coleta de Pontos de Apoio de campo realizada com o objetivo de orientar as imagens aéreas na etapa de aerotriangulação. Para realização desta etapa foram rastreados pontos de apoio suplementar, com tempo de ocupação mínima de 30 minutos e foram utilizadas como base as estações da RBMC.</stepDesc>
<stepDateTm>2018-03-14T00:00:00</stepDateTm>
<stepSrc>
<srcDesc>Ponto de Apoio</srcDesc>
<srcCitatn>
<resTitle>P-1124</resTitle>
</srcCitatn>
<srcExt>
<geoEle>
<GeoBndBox>
<westBL>-51.0204133760974</westBL>
<eastBL>-51.0204133760974</eastBL>
<southBL>-30.384927198543</southBL>
<northBL>-30.384927198543</northBL>
</GeoBndBox>
</geoEle>
</srcExt>
</stepSrc>
</prcStep>
<prcStep>
<stepDesc>Aerotriangulação gerada para os lotes 2, 4 e 4B utilizando as imagens aerofogrametricas e pontos de apoio citados anteriormente.</stepDesc>
<stepDateTm>2018-08-21T00:00:00</stepDateTm>
</prcStep>
<prcStep>
<stepDesc>Voo fotogramétrico realizado utilizando aeronave Piper, camera digital Vexcel Ultracam LP, sistema de navegação inercial IMU e berço giro estabilizador.</stepDesc>
<stepDateTm>2018-07-22T00:00:00</stepDateTm>
<stepSrc>
<srcDesc>Fotografia Aerea</srcDesc>
<srcCitatn>
<resTitle>02_69_1464</resTitle>
</srcCitatn>
<srcExt>
<geoEle>
<GeoBndBox>
<westBL>-51.0755750724606</westBL>
<eastBL>-51.0464819223867</eastBL>
<southBL>-30.3694769229482</southBL>
<northBL>-30.3323877207729</northBL>
</GeoBndBox>
</geoEle>
</srcExt>
</stepSrc>
<stepSrc>
<srcDesc>Fotografia Aerea</srcDesc>
<srcCitatn>
<resTitle>04_126_1325</resTitle>
</srcCitatn>
<srcExt>
<geoEle>
<GeoBndBox>
<westBL>-51.1691918486299</westBL>
<eastBL>-51.1403318679648</eastBL>
<southBL>-30.3928949491193</southBL>
<northBL>-30.3559802994533</northBL>
</GeoBndBox>
</geoEle>
</srcExt>
</stepSrc>
<stepSrc>
<srcDesc>Fotografia Aerea</srcDesc>
<srcCitatn>
<resTitle>02_70_1494</resTitle>
</srcCitatn>
<srcExt>
<geoEle>
<GeoBndBox>
<westBL>-50.9946766633288</westBL>
<eastBL>-50.9659361100384</eastBL>
<southBL>-30.3955071502995</southBL>
<northBL>-30.3587950271584</northBL>
</GeoBndBox>
</geoEle>
</srcExt>
</stepSrc>
<stepSrc>
<srcDesc>Fotografia Aerea</srcDesc>
<srcCitatn>
<resTitle>02_69_1471</resTitle>
</srcCitatn>
<srcExt>
<geoEle>
<GeoBndBox>
<westBL>-50.9952061549127</westBL>
<eastBL>-50.9655891267812</eastBL>
<southBL>-30.3697208141931</southBL>
<northBL>-30.3322674899073</northBL>
</GeoBndBox>
</geoEle>
</srcExt>
</stepSrc>
<stepSrc>
<srcDesc>Fotografia Aerea</srcDesc>
<srcCitatn>
<resTitle>04_131_0875</resTitle>
</srcCitatn>
<srcExt>
<geoEle>
<GeoBndBox>
<westBL>-51.1548876897362</westBL>
<eastBL>-51.1255822259077</eastBL>
<southBL>-30.5257090287656</southBL>
<northBL>-30.483982539309</northBL>
</GeoBndBox>
</geoEle>
</srcExt>
</stepSrc>
<stepSrc>
<srcDesc>Fotografia Aerea</srcDesc>
<srcCitatn>
<resTitle>02_70_1496</resTitle>
</srcCitatn>
<srcExt>
<geoEle>
<GeoBndBox>
<westBL>-51.0178059609545</westBL>
<eastBL>-50.9889674673887</eastBL>
<southBL>-30.3955771523966</southBL>
<northBL>-30.3587430376276</northBL>
</GeoBndBox>
</geoEle>
</srcExt>
</stepSrc>
<stepSrc>
<srcDesc>Fotografia Aerea</srcDesc>
<srcCitatn>
<resTitle>04_126_1324</resTitle>
</srcCitatn>
<srcExt>
<geoEle>
<GeoBndBox>
<westBL>-51.157670258009</westBL>
<eastBL>-51.128803617709</eastBL>
<southBL>-30.3928291842174</southBL>
<northBL>-30.355908057568</northBL>
</GeoBndBox>
</geoEle>
</srcExt>
</stepSrc>
<stepSrc>
<srcDesc>Fotografia Aerea</srcDesc>
<srcCitatn>
<resTitle>02_69_1468</resTitle>
</srcCitatn>
<srcExt>
<geoEle>
<GeoBndBox>
<westBL>-51.029399919056</westBL>
<eastBL>-51.0004186016586</eastBL>
<southBL>-30.3694181366997</southBL>
<northBL>-30.3324825335928</northBL>
</GeoBndBox>
</geoEle>
</srcExt>
</stepSrc>
<stepSrc>
<srcDesc>Fotografia Aerea</srcDesc>
<srcCitatn>
<resTitle>04_128_1126</resTitle>
</srcCitatn>
<srcExt>
<geoEle>
<GeoBndBox>
<westBL>-51.1574734161107</westBL>
<eastBL>-51.1281929228278</eastBL>
<southBL>-30.4445025462713</southBL>
<northBL>-30.4075779087516</northBL>
</GeoBndBox>
</geoEle>
</srcExt>
</stepSrc>
<stepSrc>
<srcDesc>Fotografia Aerea</srcDesc>
<srcCitatn>
<resTitle>04_131_0874</resTitle>
</srcCitatn>
<srcExt>
<geoEle>
<GeoBndBox>
<westBL>-51.1667179292606</westBL>
<eastBL>-51.1374077627916</eastBL>
<southBL>-30.5249807559387</southBL>
<northBL>-30.4832517457688</northBL>
</GeoBndBox>
</geoEle>
</srcExt>
</stepSrc>
<stepSrc>
<srcDesc>Fotografia Aerea</srcDesc>
<srcCitatn>
<resTitle>02_70_1499</resTitle>
</srcCitatn>
<srcExt>
<geoEle>
<GeoBndBox>
<westBL>-51.0524064271245</westBL>
<eastBL>-51.0235679555955</eastBL>
<southBL>-30.3956659443983</southBL>
<northBL>-30.3588242274644</northBL>
</GeoBndBox>
</geoEle>
</srcExt>
</stepSrc>
<stepSrc>
<srcDesc>Fotografia Aerea</srcDesc>
<srcCitatn>
<resTitle>02_70_1501</resTitle>
</srcCitatn>
<srcExt>
<geoEle>
<GeoBndBox>
<westBL>-51.0758456232015</westBL>
<eastBL>-51.0463562844034</eastBL>
<southBL>-30.3958785077365</southBL>
<northBL>-30.35862910323</northBL>
</GeoBndBox>
</geoEle>
</srcExt>
</stepSrc>
<stepSrc>
<srcDesc>Fotografia Aerea</srcDesc>
<srcCitatn>
<resTitle>02_69_1470</resTitle>
</srcCitatn>
<srcExt>
<geoEle>
<GeoBndBox>
<westBL>-51.0063432459234</westBL>
<eastBL>-50.9773339336994</eastBL>
<southBL>-30.3694363927507</southBL>
<northBL>-30.3324662486249</northBL>
</GeoBndBox>
</geoEle>
</srcExt>
</stepSrc>
<stepSrc>
<srcDesc>Fotografia Aerea</srcDesc>
<srcCitatn>
<resTitle>04_126_1322</resTitle>
</srcCitatn>
<srcExt>
<geoEle>
<GeoBndBox>
<westBL>-51.1345707030725</westBL>
<eastBL>-51.105746026099</eastBL>
<southBL>-30.3926277665231</southBL>
<northBL>-30.3557655204757</northBL>
</GeoBndBox>
</geoEle>
</srcExt>
</stepSrc>
<stepSrc>
<srcDesc>Fotografia Aerea</srcDesc>
<srcCitatn>
<resTitle>04_126_1320</resTitle>
</srcCitatn>
<srcExt>
<geoEle>
<GeoBndBox>
<westBL>-51.1115085123208</westBL>
<eastBL>-51.0827048101174</eastBL>
<southBL>-30.3925460774573</southBL>
<northBL>-30.3556894940216</northBL>
</GeoBndBox>
</geoEle>
</srcExt>
</stepSrc>
<stepSrc>
<srcDesc>Fotografia Aerea</srcDesc>
<srcCitatn>
<resTitle>02_69_1467</resTitle>
</srcCitatn>
<srcExt>
<geoEle>
<GeoBndBox>
<westBL>-51.0412674478808</westBL>
<eastBL>-51.0117565119405</eastBL>
<southBL>-30.3696345393234</southBL>
<northBL>-30.3323037163622</northBL>
</GeoBndBox>
</geoEle>
</srcExt>
</stepSrc>
<stepSrc>
<srcDesc>Fotografia Aerea</srcDesc>
<srcCitatn>
<resTitle>04_126_1321</resTitle>
</srcCitatn>
<srcExt>
<geoEle>
<GeoBndBox>
<westBL>-51.1229964231247</westBL>
<eastBL>-51.0942765994465</eastBL>
<southBL>-30.3925325171939</southBL>
<northBL>-30.3557810642837</northBL>
</GeoBndBox>
</geoEle>
</srcExt>
</stepSrc>
<stepSrc>
<srcDesc>Fotografia Aerea</srcDesc>
<srcCitatn>
<resTitle>02_69_1463</resTitle>
</srcCitatn>
<srcExt>
<geoEle>
<GeoBndBox>
<westBL>-51.087283741671</westBL>
<eastBL>-51.0576828671226</eastBL>
<southBL>-30.3696118419067</southBL>
<northBL>-30.3322143127354</northBL>
</GeoBndBox>
</geoEle>
</srcExt>
</stepSrc>
<stepSrc>
<srcDesc>Fotografia Aerea</srcDesc>
<srcCitatn>
<resTitle>04_130_0880</resTitle>
</srcCitatn>
<srcExt>
<geoEle>
<GeoBndBox>
<westBL>-51.1662584382177</westBL>
<eastBL>-51.1369565200528</eastBL>
<southBL>-30.4982563530682</southBL>
<northBL>-30.4565272943167</northBL>
</GeoBndBox>
</geoEle>
</srcExt>
</stepSrc>
<stepSrc>
<srcDesc>Fotografia Aerea</srcDesc>
<srcCitatn>
<resTitle>04_127_2283</resTitle>
</srcCitatn>
<srcExt>
<geoEle>
<GeoBndBox>
<westBL>-51.1461360438306</westBL>
<eastBL>-51.1167208182143</eastBL>
<southBL>-30.4186865198033</southBL>
<northBL>-30.3814859994701</northBL>
</GeoBndBox>
</geoEle>
</srcExt>
</stepSrc>
<stepSrc>
<srcDesc>Fotografia Aerea</srcDesc>
<srcCitatn>
<resTitle>02_70_1495</resTitle>
</srcCitatn>
<srcExt>
<geoEle>
<GeoBndBox>
<westBL>-51.0062477791546</westBL>
<eastBL>-50.9774232997288</eastBL>
<southBL>-30.3956287227457</southBL>
<northBL>-30.3588115362137</northBL>
</GeoBndBox>
</geoEle>
</srcExt>
</stepSrc>
<stepSrc>
<srcDesc>Fotografia Aerea</srcDesc>
<srcCitatn>
<resTitle>04_128_1124</resTitle>
</srcCitatn>
<srcExt>
<geoEle>
<GeoBndBox>
<westBL>-51.1343223768221</westBL>
<eastBL>-51.1051602142042</eastBL>
<southBL>-30.4443674712867</southBL>
<northBL>-30.407526381152</northBL>
</GeoBndBox>
</geoEle>
</srcExt>
</stepSrc>
<stepSrc>
<srcDesc>Fotografia Aerea</srcDesc>
<srcCitatn>
<resTitle>04_130_0879</resTitle>
</srcCitatn>
<srcExt>
<geoEle>
<GeoBndBox>
<westBL>-51.1545477469797</westBL>
<eastBL>-51.1252438375327</eastBL>
<southBL>-30.4980294405811</southBL>
<northBL>-30.4572255298241</northBL>
</GeoBndBox>
</geoEle>
</srcExt>
</stepSrc>
<stepSrc>
<srcDesc>Fotografia Aerea</srcDesc>
<srcCitatn>
<resTitle>02_71_1523</resTitle>
</srcCitatn>
<srcExt>
<geoEle>
<GeoBndBox>
<westBL>-50.9948199628691</westBL>
<eastBL>-50.9657724233539</eastBL>
<southBL>-30.4216677301955</southBL>
<northBL>-30.3848096746557</northBL>
</GeoBndBox>
</geoEle>
</srcExt>
</stepSrc>
<stepSrc>
<srcDesc>Fotografia Aerea</srcDesc>
<srcCitatn>
<resTitle>02_70_1498</resTitle>
</srcCitatn>
<srcExt>
<geoEle>
<GeoBndBox>
<westBL>-51.0408347421255</westBL>
<eastBL>-51.0120592783157</eastBL>
<southBL>-30.395585380707</southBL>
<northBL>-30.3588267927625</northBL>
</GeoBndBox>
</geoEle>
</srcExt>
</stepSrc>
<stepSrc>
<srcDesc>Fotografia Aerea</srcDesc>
<srcCitatn>
<resTitle>02_70_1500</resTitle>
</srcCitatn>
<srcExt>
<geoEle>
<GeoBndBox>
<westBL>-51.0639355993863</westBL>
<eastBL>-51.0351250981044</eastBL>
<southBL>-30.395565422828</southBL>
<northBL>-30.3587568560501</northBL>
</GeoBndBox>
</geoEle>
</srcExt>
</stepSrc>
<stepSrc>
<srcDesc>Fotografia Aerea</srcDesc>
<srcCitatn>
<resTitle>02_70_1497</resTitle>
</srcCitatn>
<srcExt>
<geoEle>
<GeoBndBox>
<westBL>-51.0296032922385</westBL>
<eastBL>-51.0001348358575</eastBL>
<southBL>-30.3958419585194</southBL>
<northBL>-30.358599637033</northBL>
</GeoBndBox>
</geoEle>
</srcExt>
</stepSrc>
<stepSrc>
<srcDesc>Fotografia Aerea</srcDesc>
<srcCitatn>
<resTitle>02_71_1522</resTitle>
</srcCitatn>
<srcExt>
<geoEle>
<GeoBndBox>
<westBL>-51.0064769480299</westBL>
<eastBL>-50.9769110006438</eastBL>
<southBL>-30.4219054921971</southBL>
<northBL>-30.3845561625731</northBL>
</GeoBndBox>
</geoEle>
</srcExt>
</stepSrc>
<stepSrc>
<srcDesc>Fotografia Aerea</srcDesc>
<srcCitatn>
<resTitle>02_69_1469</resTitle>
</srcCitatn>
<srcExt>
<geoEle>
<GeoBndBox>
<westBL>-51.0180475208736</westBL>
<eastBL>-50.9885512004525</eastBL>
<southBL>-30.3695606180331</southBL>
<northBL>-30.3322558226661</northBL>
</GeoBndBox>
</geoEle>
</srcExt>
</stepSrc>
<stepSrc>
<srcDesc>Fotografia Aerea</srcDesc>
<srcCitatn>
<resTitle>04_126_1323</resTitle>
</srcCitatn>
<srcExt>
<geoEle>
<GeoBndBox>
<westBL>-51.1460880876898</westBL>
<eastBL>-51.1173123312577</eastBL>
<southBL>-30.3926726211305</southBL>
<northBL>-30.3558706647141</northBL>
</GeoBndBox>
</geoEle>
</srcExt>
</stepSrc>
<stepSrc>
<srcDesc>Fotografia Aerea</srcDesc>
<srcCitatn>
<resTitle>04_128_1127</resTitle>
</srcCitatn>
<srcExt>
<geoEle>
<GeoBndBox>
<westBL>-51.1689792681254</westBL>
<eastBL>-51.1397863230274</eastBL>
<southBL>-30.4445375316905</southBL>
<northBL>-30.407648874459</northBL>
</GeoBndBox>
</geoEle>
</srcExt>
</stepSrc>
<stepSrc>
<srcDesc>Fotografia Aerea</srcDesc>
<srcCitatn>
<resTitle>04_128_1125</resTitle>
</srcCitatn>
<srcExt>
<geoEle>
<GeoBndBox>
<westBL>-51.1459209448761</westBL>
<eastBL>-51.1166373516604</eastBL>
<southBL>-30.4445108868868</southBL>
<northBL>-30.4075796202618</northBL>
</GeoBndBox>
</geoEle>
</srcExt>
</stepSrc>
<stepSrc>
<srcDesc>Fotografia Aerea</srcDesc>
<srcCitatn>
<resTitle>04_127_2285</resTitle>
</srcCitatn>
<srcExt>
<geoEle>
<GeoBndBox>
<westBL>-51.1692317807822</westBL>
<eastBL>-51.1397749246057</eastBL>
<southBL>-30.4188627173832</southBL>
<northBL>-30.381603785355</northBL>
</GeoBndBox>
</geoEle>
</srcExt>
</stepSrc>
<stepSrc>
<srcDesc>Fotografia Aerea</srcDesc>
<srcCitatn>
<resTitle>02_71_1521</resTitle>
</srcCitatn>
<srcExt>
<geoEle>
<GeoBndBox>
<westBL>-51.0182565145851</westBL>
<eastBL>-50.9887855250061</eastBL>
<southBL>-30.4218190367832</southBL>
<northBL>-30.3845885435888</northBL>
</GeoBndBox>
</geoEle>
</srcExt>
</stepSrc>
<stepSrc>
<srcDesc>Fotografia Aerea</srcDesc>
<srcCitatn>
<resTitle>02_69_1465</resTitle>
</srcCitatn>
<srcExt>
<geoEle>
<GeoBndBox>
<westBL>-51.0643469928507</westBL>
<eastBL>-51.0348201867901</eastBL>
<southBL>-30.3695636150936</southBL>
<northBL>-30.3322286575304</northBL>
</GeoBndBox>
</geoEle>
</srcExt>
</stepSrc>
<stepSrc>
<srcDesc>Fotografia Aerea</srcDesc>
<srcCitatn>
<resTitle>04_127_2284</resTitle>
</srcCitatn>
<srcExt>
<geoEle>
<GeoBndBox>
<westBL>-51.1574460394496</westBL>
<eastBL>-51.1286239283701</eastBL>
<southBL>-30.4186217497689</southBL>
<northBL>-30.3817816634817</northBL>
</GeoBndBox>
</geoEle>
</srcExt>
</stepSrc>
<stepSrc>
<srcDesc>Fotografia Aerea</srcDesc>
<srcCitatn>
<resTitle>02_69_1466</resTitle>
</srcCitatn>
<srcExt>
<geoEle>
<GeoBndBox>
<westBL>-51.0526880983252</westBL>
<eastBL>-51.0230785347759</eastBL>
<southBL>-30.36963977416</southBL>
<northBL>-30.3322224358652</northBL>
</GeoBndBox>
</geoEle>
</srcExt>
</stepSrc>
<stepSrc>
<srcDesc>Fotografia Aerea</srcDesc>
<srcCitatn>
<resTitle>04_127_2282</resTitle>
</srcCitatn>
<srcExt>
<geoEle>
<GeoBndBox>
<westBL>-51.1343176846544</westBL>
<eastBL>-51.1055795507922</eastBL>
<southBL>-30.4184314097989</southBL>
<northBL>-30.3817039917275</northBL>
</GeoBndBox>
</geoEle>
</srcExt>
</stepSrc>
</prcStep>
<prcStep>
<stepDesc>Modelo Digital de Terreno com resolução espacial de 40 metros por pixel, gerado através de correlação esteroscópica de fotografias aéreas com objetivo exclusivo de geração de Ortofotos.</stepDesc>
<stepDateTm>2018-11-06T00:00:00</stepDateTm>
</prcStep>
</dataLineage>
</dqInfo>
<spatRepInfo>
<Georect>
<numDims Sync="TRUE">2</numDims>
<axisDimension>
<dimSize>42895</dimSize>
<dimResol>
<value>0.00000315</value>
</dimResol>
</axisDimension>
<axisDimension>
<dimSize>49036</dimSize>
<dimResol>
<value>0.00000315</value>
</dimResol>
</axisDimension>
<tranParaAv Sync="TRUE">1</tranParaAv>
<chkPtAv Sync="TRUE">0</chkPtAv>
<cellGeo>
<CellGeoCd Sync="TRUE" value="002">
</CellGeoCd>
</cellGeo>
<cornerPts>
<pos Sync="TRUE">-51.146004 -30.519458</pos>
</cornerPts>
<cornerPts>
<pos Sync="TRUE">-51.146004 -30.364501</pos>
</cornerPts>
<cornerPts>
<pos Sync="TRUE">-50.989521 -30.364501</pos>
</cornerPts>
<cornerPts>
<pos Sync="TRUE">-50.989521 -30.519458</pos>
</cornerPts>
<centerPt>
<pos Sync="TRUE">-51.067762 -30.441980</pos>
</centerPt>
<axisDimension type="002">
<dimSize Sync="TRUE">42929</dimSize>
<dimResol>
<value Sync="TRUE" uom="deg">0.000004</value>
</dimResol>
</axisDimension>
<axisDimension type="001">
<dimSize Sync="TRUE">49062</dimSize>
<dimResol>
<value Sync="TRUE" uom="deg">0.000003</value>
</dimResol>
</axisDimension>
<ptInPixel>
<PixOrientCd Sync="TRUE" value="001">
</PixOrientCd>
</ptInPixel>
</Georect>
</spatRepInfo>
<refSysInfo>
<RefSystem>
<refSysID>
<identCode code="4674">
</identCode>
<idCodeSpace Sync="TRUE">EPSG</idCodeSpace>
<idVersion Sync="TRUE">7.8.3(9.2.0)</idVersion>
</refSysID>
</RefSystem>
</refSysInfo>
<contInfo>
<ImgDesc>
<covDim>
<Band>
<dimDescrp Sync="TRUE">Layer_1</dimDescrp>
<maxVal>255</maxVal>
<minVal>1</minVal>
<bitsPerVal Sync="TRUE">8</bitsPerVal>
<valUnit>
<UOM type="length">
</UOM>
</valUnit>
</Band>
<Band>
<dimDescrp Sync="TRUE">Layer_2</dimDescrp>
<bitsPerVal Sync="TRUE">8</bitsPerVal>
<valUnit>
<UOM type="length">
</UOM>
</valUnit>
</Band>
<Band>
<dimDescrp Sync="TRUE">Layer_3</dimDescrp>
<bitsPerVal Sync="TRUE">8</bitsPerVal>
<valUnit>
<UOM type="length">
</UOM>
</valUnit>
</Band>
<Band>
<dimDescrp Sync="TRUE">Layer_4</dimDescrp>
<bitsPerVal Sync="TRUE">8</bitsPerVal>
<valUnit>
<UOM type="length">
</UOM>
</valUnit>
</Band>
</covDim>
<covDim>
<Band>
<dimDescrp Sync="TRUE">Layer_1</dimDescrp>
<maxVal>255</maxVal>
<minVal>1</minVal>
<bitsPerVal Sync="TRUE">8</bitsPerVal>
<valUnit>
<UOM type="length">
</UOM>
</valUnit>
</Band>
<Band>
<dimDescrp Sync="TRUE">Layer_2</dimDescrp>
<bitsPerVal Sync="TRUE">8</bitsPerVal>
<valUnit>
<UOM type="length">
</UOM>
</valUnit>
</Band>
<Band>
<dimDescrp Sync="TRUE">Layer_3</dimDescrp>
<bitsPerVal Sync="TRUE">8</bitsPerVal>
<valUnit>
<UOM type="length">
</UOM>
</valUnit>
</Band>
<Band>
<dimDescrp Sync="TRUE">Layer_4</dimDescrp>
<bitsPerVal Sync="TRUE">8</bitsPerVal>
<valUnit>
<UOM type="length">
</UOM>
</valUnit>
</Band>
</covDim>
<covDim>
<Band>
<dimDescrp Sync="TRUE">Layer_1</dimDescrp>
<maxVal>255</maxVal>
<minVal>1</minVal>
<bitsPerVal Sync="TRUE">8</bitsPerVal>
<valUnit>
<UOM type="length">
</UOM>
</valUnit>
</Band>
<Band>
<dimDescrp Sync="TRUE">Layer_2</dimDescrp>
<bitsPerVal Sync="TRUE">8</bitsPerVal>
<valUnit>
<UOM type="length">
</UOM>
