Elaboração de base cartográfica digital da região RF-1, através da geração dos produtos de Ortoimagem Digital, Feições de Hidrografia, MDE e Curvas de Nível, visando a obtenção de informações geográficas atualizadas compatível a escala de 1:25.000.<\/SPAN><\/P><\/DIV><\/DIV>",
"serviceItemId": "67525e373514495c89d43b93f7865247",
"name": "ORTOIMG_RF1/Ortoimagem_MI_2999_1_NE",
"description": "Elaboração de base cartográfica digital da região RF-1, através da geração dos produtos de Ortoimagem Digital, Feições de Hidrografia, MDE e Curvas de Nível, visando a obtenção de informações geográficas atualizadas compatível a escala de 1:25.000.<\/SPAN><\/P><\/DIV><\/DIV>",
"extent": {
"xmin": -51.88629893632326,
"ymin": -30.644868235225324,
"xmax": -51.73889298665081,
"ymax": -30.489101170259545,
"spatialReference": {
"wkid": 4674,
"latestWkid": 4674
}
},
"initialExtent": {
"xmin": -51.88629893632326,
"ymin": -30.644868235225324,
"xmax": -51.73889298665081,
"ymax": -30.489101170259545,
"spatialReference": {
"wkid": 4674,
"latestWkid": 4674
}
},
"fullExtent": {
"xmin": -51.88629893632326,
"ymin": -30.644868235225324,
"xmax": -51.73889298665081,
"ymax": -30.489101170259545,
"spatialReference": {
"wkid": 4674,
"latestWkid": 4674
}
},
"sortableFields": "",
"bandCount": 4,
"pixelType": "U8",
"minValues": [],
"maxValues": [],
"meanValues": [],
"stdvValues": [],
"serviceProperties": "Center<\/MosaicMethod>First<\/MosaicOperator>true<\/SortAscending><\/LockImageID><\/TileOrderField>0<\/TileOrderBase>0.000000<\/AvgImageSpacingX>0.000000<\/AvgImageSpacingY>0.0<\/ViewPointX>0.0<\/ViewPointY>0.0<\/ViewPointDefShiftX>0.0<\/ViewPointDefShiftY>None<\/CompressionMethod>75<\/CompressionQuality>0.010000<\/CompressionTolerance>Nearest<\/SamplingMethod><\/ImageServiceProperties><\/ImageServer>",
"allowedFields": "",
"hasMultidimensions": false,
"pixelSizeX": 3.649565478396793E-6,
"pixelSizeY": 3.158102000401018E-6,
"meanPixelSize": 0.3789130386148504,
"datasetFormat": "TIFF",
"uncompressedSize": 7968623880,
"blockWidth": 40390,
"blockHeight": 26,
"compressionType": "None",
"bandNames": [
"Layer_1",
"Layer_2",
"Layer_3",
"Layer_4"
],
"allowCopy": true,
"allowAnalysis": true,
"itemAccess": false,
"inspectionCapabilities": "",
"noDataValue": 2,
"noDataValues": [
2,
2,
2,
2
],
"minPixelSize": 0,
"maxPixelSize": 0,
"copyrightText": "Secretaria de Planejamento, Orçamento e Gestão-RS/Departamento de Planejamento Governamental",
"serviceDataType": "esriImageServiceDataTypeGeneric",
"serviceSourceType": "esriImageServiceSourceTypeDataset",
"objectIdField": "",
"fields": [],
"capabilities": "Image,Metadata,Mensuration",
"defaultMosaicMethod": "Center",
"allowedMosaicMethods": "",
"sortField": "",
"sortValue": null,
"sortAscending": true,
"mosaicOperator": "First",
"defaultCompressionQuality": 75,
"defaultResamplingMethod": "Nearest",
"maxImageHeight": 4100,
"maxImageWidth": 15000,
"allowRasterFunction": true,
"rasterFunctionInfos": [
{
"name": "None",
"description": "Make a Raster or Raster Dataset into a Function Raster Dataset.",
"help": ""
}
],
"rasterTypeInfos": [
{
"name": "Raster Dataset",
"description": "Supports all ArcGIS Raster Datasets",
"help": ""
}
],
"mensurationCapabilities": "Basic",
"hasHistograms": false,
"hasColormap": false,
"hasRasterAttributeTable": false,
"minScale": 0,
"maxScale": 0,
"exportTilesAllowed": false,
"supportsStatistics": false,
"supportsAdvancedQueries": false,
"editFieldsInfo": null,
"ownershipBasedAccessControlForRasters": null,
"allowComputeTiePoints": false,
"useStandardizedQueries": true,
"advancedQueryCapabilities": {
"useStandardizedQueries": true,
"supportsStatistics": false,
"supportsOrderBy": false,
"supportsDistinct": false,
"supportsPagination": false
},
"spatialReference": {
"wkid": 4674,
"latestWkid": 4674
}
}