<?xml version="1.0" encoding="UTF-8" standalone="no"?>
<metadata xml:lang="pt">
<Esri>
<CreaDate>20200217</CreaDate>
<CreaTime>18232300</CreaTime>
<ArcGISFormat>1.0</ArcGISFormat>
<SyncOnce>FALSE</SyncOnce>
<scaleRange>
<minScale>50000</minScale>
<maxScale>5000</maxScale>
</scaleRange>
<DataProperties>
<itemProps>
<itemName Sync="TRUE">Ortoimagem_MI 3012-4-NO.tif</itemName>
<imsContentType Sync="TRUE">002</imsContentType>
<nativeExtBox>
<westBL Sync="TRUE">-51.761057</westBL>
<eastBL Sync="TRUE">-51.613357</eastBL>
<southBL Sync="TRUE">-31.309286</southBL>
<northBL Sync="TRUE">-31.239192</northBL>
<exTypeCode Sync="TRUE">1</exTypeCode>
</nativeExtBox>
</itemProps>
<coordRef>
<type Sync="TRUE">Geographic</type>
<geogcsn Sync="TRUE">GCS_SIRGAS_2000</geogcsn>
<csUnits Sync="TRUE">Angular Unit: Degree (0.017453)</csUnits>
<peXml Sync="TRUE">&lt;GeographicCoordinateSystem xsi:type='typens:GeographicCoordinateSystem' xmlns:xsi='http://www.w3.org/2001/XMLSchema-instance' xmlns:xs='http://www.w3.org/2001/XMLSchema' xmlns:typens='http://www.esri.com/schemas/ArcGIS/10.7'&gt;&lt;WKT&gt;GEOGCS[&amp;quot;GCS_SIRGAS_2000&amp;quot;,DATUM[&amp;quot;D_SIRGAS_2000&amp;quot;,SPHEROID[&amp;quot;GRS_1980&amp;quot;,6378137.0,298.257222101]],PRIMEM[&amp;quot;Greenwich&amp;quot;,0.0],UNIT[&amp;quot;Degree&amp;quot;,0.0174532925199433],AUTHORITY[&amp;quot;EPSG&amp;quot;,4674]]&lt;/WKT&gt;&lt;XOrigin&gt;-400&lt;/XOrigin&gt;&lt;YOrigin&gt;-400&lt;/YOrigin&gt;&lt;XYScale&gt;11258999068426.238&lt;/XYScale&gt;&lt;ZOrigin&gt;-100000&lt;/ZOrigin&gt;&lt;ZScale&gt;10000&lt;/ZScale&gt;&lt;MOrigin&gt;-100000&lt;/MOrigin&gt;&lt;MScale&gt;10000&lt;/MScale&gt;&lt;XYTolerance&gt;8.9831528411952133e-09&lt;/XYTolerance&gt;&lt;ZTolerance&gt;0.001&lt;/ZTolerance&gt;&lt;MTolerance&gt;0.001&lt;/MTolerance&gt;&lt;HighPrecision&gt;true&lt;/HighPrecision&gt;&lt;LeftLongitude&gt;-180&lt;/LeftLongitude&gt;&lt;WKID&gt;4674&lt;/WKID&gt;&lt;LatestWKID&gt;4674&lt;/LatestWKID&gt;&lt;/GeographicCoordinateSystem&gt;</peXml>
</coordRef>
<RasterProperties>
<General>
<PixelDepth Sync="TRUE">8</PixelDepth>
<HasColormap Sync="TRUE">FALSE</HasColormap>
<CompressionType Sync="TRUE">None</CompressionType>
<NumBands Sync="TRUE">4</NumBands>
<Format Sync="TRUE">TIFF</Format>
<HasPyramids Sync="TRUE">TRUE</HasPyramids>
<SourceType Sync="TRUE">continuous</SourceType>
<PixelType Sync="TRUE">unsigned integer</PixelType>
<NoDataValue Sync="TRUE">2</NoDataValue>
</General>
</RasterProperties>
</DataProperties>
<SyncDate>20200220</SyncDate>
<SyncTime>09473700</SyncTime>
<ModDate>20200220</ModDate>
<ModTime>09473700</ModTime>
</Esri>
<mdFileID>292f5e08f51f4b40b96084336b9aef2f</mdFileID>
<mdLang>
<languageCode value="pt-BR">
</languageCode>
<countryCode Sync="TRUE" value="BRA">
</countryCode>
</mdLang>
<mdChar>
<CharSetCd value="004">
</CharSetCd>
</mdChar>
<mdHrLv>
<ScopeCd value="005">
</ScopeCd>
</mdHrLv>
<mdContact>
<rpIndName>João Paulo Carvalho Raivel - CREARJ-158869/D</rpIndName>
<rpOrgName>Hiparc Geotecnologia, Projetos e Aerolevantamentos LTDA</rpOrgName>
<rpPosName>Responsável Técnico</rpPosName>
<rpCntInfo>
<cntOnlineRes>
</cntOnlineRes>
</rpCntInfo>
<role>
<RoleCd value="007">
</RoleCd>
</role>
</mdContact>
<mdDateSt Sync="TRUE">20200220</mdDateSt>
<mdStanName>ArcGIS Metadata</mdStanName>
<mdStanVer>1.0</mdStanVer>
<distInfo>
<distributor>
<distorCont>
<rpOrgName>Secretaria do Planejamento, Orçamento e Gestão do Estado do Rio Grande do Sul</rpOrgName>
<rpCntInfo>
<cntPhone>
<voiceNum>+55 (51) 3288-1499</voiceNum>
</cntPhone>
<cntAddress>
<delPoint>Av. Borges de Medeiros, 1501 - Porto Alegre/RS</delPoint>
</cntAddress>
</rpCntInfo>
<role>
<RoleCd value="005">
</RoleCd>
</role>
</distorCont>
<distorOrdPrc>
<resFees>Gratuito</resFees>
</distorOrdPrc>
</distributor>
<distFormat>
<formatName Sync="TRUE">Conjunto de Dados Raster</formatName>
<formatVer>1.0</formatVer>
</distFormat>
<distTranOps>
<transSize>4700320932</transSize>
<offLineMed>
</offLineMed>
</distTranOps>
</distInfo>
<dataIdInfo>
<idCitation>
<resTitle Sync="TRUE">Ortoimagem_MI 3012-4-NO.tif</resTitle>
<resAltTitle>ORTOIMAGEM</resAltTitle>
<resEd>1ª Edição</resEd>
<resEdDate>20190913</resEdDate>
<datasetSeries>
<seriesName>Projeto de Mapeamento do Rio Grande do Sul</seriesName>
</datasetSeries>
<presForm>
<PresFormCd Sync="TRUE" value="005">
</PresFormCd>
</presForm>
</idCitation>
<idAbs>Elaboração de base cartográfica digital da região RF-1, através da geração dos produtos de Ortoimagem Digital, Feições de Hidrografia, MDE e Curvas de Nível, visando a obtenção de informações geográficas atualizadas compatível a escala de 1:25.000.</idAbs>
<idPoC>
<rpOrgName>Secretaria do Planejamento, Orçamento e Gestão do Estado do Rio Grande do Sul</rpOrgName>
<rpCntInfo>
<cntPhone>
<voiceNum>+55 (51) 3288-1499</voiceNum>
</cntPhone>
<cntAddress>
<delPoint>Av. Borges de Medeiros, 1501 - Porto Alegre/RS</delPoint>
</cntAddress>
<cntOnlineRes>
</cntOnlineRes>
</rpCntInfo>
<role>
<RoleCd value="007">
</RoleCd>
</role>
</idPoC>
<resMaint>
</resMaint>
<searchKeys>
<keyword>Região Funcional 1</keyword>
<keyword>Região Funcional 1</keyword>
<keyword>ortoimagens</keyword>
<keyword>ortoimagens RF1</keyword>
<keyword>RF1</keyword>
<keyword>Projeto de Mapeamento do Rio grande do Sul</keyword>
<keyword>ortoimagem Lote 5</keyword>
<keyword>L5</keyword>
<keyword>MI 3012-4-NO</keyword>
</searchKeys>
<resConst>
<LegConsts>
<useLimit>copyright</useLimit>
</LegConsts>
<Consts>
<useLimit/>
</Consts>
</resConst>
<resConst>
<SecConsts>
</SecConsts>
<Consts>
<useLimit/>
</Consts>
</resConst>
<aggrInfo>
<aggrDSName>
<resTitle>Região Funcional 1 - Lote 05</resTitle>
</aggrDSName>
</aggrInfo>
<dataScale>
<equScale>
<rfDenom>25000</rfDenom>
</equScale>
</dataScale>
<dataLang>
<languageCode value="pt-BR">
</languageCode>
<countryCode Sync="TRUE" value="BRA">
</countryCode>
</dataLang>
<dataExt>
<geoEle>
<GeoBndBox>
<westBL>-51.7617443967074</westBL>
<eastBL>-51.6133594376822</eastBL>
<southBL>-31.3948204978248</southBL>
<northBL>-31.2391930918253</northBL>
</GeoBndBox>
</geoEle>
</dataExt>
<suppInfo>A definição deste tipo de produto encontra-se na Especificação Técnica para Produtos de Conjuntos de Dados Geoespaciais (ET-PCDG). A PCDG pode ser obtida no Geoportal do Exército Brasileiro (http://www.geoportal.eb.mil.br).</suppInfo>
<envirDesc Sync="TRUE"> Version 6.2 (Build 9200) ; Esri ArcGIS 10.7.0.10450</envirDesc>
<spatRpType>
<SpatRepTypCd Sync="TRUE" value="002">
</SpatRepTypCd>
</spatRpType>
<dataExt>
<geoEle>
<GeoBndBox esriExtentType="search">
<exTypeCode Sync="TRUE">1</exTypeCode>
<westBL Sync="TRUE">-51.761057</westBL>
<eastBL Sync="TRUE">-51.613357</eastBL>
<northBL Sync="TRUE">-31.239192</northBL>
<southBL Sync="TRUE">-31.309286</southBL>
</GeoBndBox>
</geoEle>
</dataExt>
<idPurp>Elaboração da base cartográfica digital da RF-1, através da geração dos produtos de Ortoimagem Digital</idPurp>
<idCredit>Secretaria de Planejamento, Orçamento e Gestão-RS/Departamento de Planejamento Governamental</idCredit>
</dataIdInfo>
<mdMaint>
</mdMaint>
<dqInfo>
<dqScope>
</dqScope>
<dataLineage>
<statement>Ortoimagem com resolução espacial de 35cm, nas bandas R,G,B e IR, 8 bits.</statement>
<prcStep>
<stepDesc>ORTOIMAGEM com resolução espacial de 35cm, nas bandas R,G,B e IR, 8 bits.</stepDesc>
<stepDateTm>2019-09-13T00:00:00</stepDateTm>
</prcStep>
<prcStep>
<stepDesc>Modelo Digital de Terreno com resolução espacial de 40 metros por pixel, gerado através de correlação esteroscópica de fotografias aéreas com objetivo exclusivo de geração de Ortofotos.</stepDesc>
<stepDateTm>2018-10-10T00:00:00</stepDateTm>
</prcStep>
<prcStep>
<stepDesc>Coleta de Pontos de Apoio de campo realizada com o objetivo de orientar as imagens aéreas na etapa de aerotriangulação. Para realização desta etapa foram rastreados pontos de apoio suplementar, com tempo de ocupação mínima de 30 minutos e foram utilizadas como base as estações da RBMC.</stepDesc>
<stepDateTm>2018-05-18T00:00:00</stepDateTm>
<stepSrc>
<srcDesc>Ponto de Apoio</srcDesc>
<srcCitatn>
<resTitle>P-026</resTitle>
</srcCitatn>
<srcExt>
<geoEle>
<GeoBndBox>
<westBL>-51.6480956225054</westBL>
<eastBL>-51.6480956225054</eastBL>
<southBL>-31.2675037851718</southBL>
<northBL>-31.2675037851718</northBL>
</GeoBndBox>
</geoEle>
</srcExt>
</stepSrc>
<stepSrc>
<srcDesc>Ponto de Apoio</srcDesc>
<srcCitatn>
<resTitle>P-167</resTitle>
</srcCitatn>
<srcExt>
<geoEle>
<GeoBndBox>
<westBL>-51.7427139627981</westBL>
<eastBL>-51.7427139627981</eastBL>
<southBL>-31.2447543366104</southBL>
<northBL>-31.2447543366104</northBL>
</GeoBndBox>
</geoEle>
</srcExt>
</stepSrc>
</prcStep>
<prcStep>
<stepDesc>Aerotriangulação gerada para o lote 05 utilizando as imagens aerofogrametricas e pontos de apoio citados anteriormente.</stepDesc>
<stepDateTm>2018-08-08T00:00:00</stepDateTm>
</prcStep>
<prcStep>
<stepDesc>Voo fotogramétrico realizado utilizando aeronave Piper, camera digital Vexcel Ultracam LP, sistema de navegação inercial IMU e berço giro estabilizador.</stepDesc>
<stepDateTm>2018-07-14T00:00:00</stepDateTm>
<stepSrc>
<srcDesc>Fotografia Aerea</srcDesc>
<srcCitatn>
<resTitle>05_160_2035</resTitle>
</srcCitatn>
<srcExt>
<geoEle>
<GeoBndBox>
<westBL>-51.7157267729601</westBL>
<eastBL>-51.6859249244258</eastBL>
<southBL>-31.2428755636114</southBL>
<northBL>-31.2057281758882</northBL>
</GeoBndBox>
</geoEle>
</srcExt>
</stepSrc>
<stepSrc>
<srcDesc>Fotografia Aerea</srcDesc>
<srcCitatn>
<resTitle>05_160_2030</resTitle>
</srcCitatn>
<srcExt>
<geoEle>
<GeoBndBox>
<westBL>-51.7735513724953</westBL>
<eastBL>-51.7444069788496</eastBL>
<southBL>-31.2423626469719</southBL>
<northBL>-31.2055532757832</northBL>
</GeoBndBox>
</geoEle>
</srcExt>
</stepSrc>
<stepSrc>
<srcDesc>Fotografia Aerea</srcDesc>
<srcCitatn>
<resTitle>05_160_2038</resTitle>
</srcCitatn>
<srcExt>
<geoEle>
<GeoBndBox>
<westBL>-51.6808383713222</westBL>
<eastBL>-51.6509912644732</eastBL>
<southBL>-31.2431632690955</southBL>
<northBL>-31.2059504799846</northBL>
</GeoBndBox>
</geoEle>
</srcExt>
</stepSrc>
<stepSrc>
<srcDesc>Fotografia Aerea</srcDesc>
<srcCitatn>
<resTitle>05_161_0187</resTitle>
</srcCitatn>
<srcExt>
<geoEle>
<GeoBndBox>
<westBL>-51.7272561976221</westBL>
<eastBL>-51.6980794194096</eastBL>
<southBL>-31.2692390080416</southBL>
<northBL>-31.232387433301</northBL>
</GeoBndBox>
</geoEle>
</srcExt>
</stepSrc>
<stepSrc>
<srcDesc>Fotografia Aerea</srcDesc>
<srcCitatn>
<resTitle>05_161_0192</resTitle>
</srcCitatn>
<srcExt>
<geoEle>
<GeoBndBox>
<westBL>-51.6690552682231</westBL>
<eastBL>-51.6398863908132</eastBL>
<southBL>-31.2695517768084</southBL>
<northBL>-31.2326948648162</northBL>
</GeoBndBox>
</geoEle>
</srcExt>
</stepSrc>
<stepSrc>
<srcDesc>Fotografia Aerea</srcDesc>
<srcCitatn>
<resTitle>05_160_2039</resTitle>
</srcCitatn>
<srcExt>
<geoEle>
<GeoBndBox>
<westBL>-51.6688253283543</westBL>
<eastBL>-51.6397489956151</eastBL>
<southBL>-31.2430182623279</southBL>
<northBL>-31.2062677816351</northBL>
</GeoBndBox>
</geoEle>
</srcExt>
</stepSrc>
<stepSrc>
<srcDesc>Fotografia Aerea</srcDesc>
<srcCitatn>
<resTitle>05_162_0206</resTitle>
</srcCitatn>
<srcExt>
<geoEle>
<GeoBndBox>
<westBL>-51.6693291692434</westBL>
<eastBL>-51.6399477172382</eastBL>
<southBL>-31.2959504521992</southBL>
<northBL>-31.2589650344854</northBL>
</GeoBndBox>
</geoEle>
</srcExt>
</stepSrc>
<stepSrc>
<srcDesc>Fotografia Aerea</srcDesc>
<srcCitatn>
<resTitle>05_161_0189</resTitle>
</srcCitatn>
<srcExt>
<geoEle>
<GeoBndBox>
<westBL>-51.7040034573729</westBL>
<eastBL>-51.6747642791536</eastBL>
<southBL>-31.2694353998058</southBL>
<northBL>-31.2324988402254</northBL>
</GeoBndBox>
</geoEle>
</srcExt>
</stepSrc>
<stepSrc>
<srcDesc>Fotografia Aerea</srcDesc>
<srcCitatn>
<resTitle>05_160_2033</resTitle>
</srcCitatn>
<srcExt>
<geoEle>
<GeoBndBox>
<westBL>-51.7386634801931</westBL>
<eastBL>-51.7095108745953</eastBL>
<southBL>-31.2426183448315</southBL>
<northBL>-31.2057897484657</northBL>
</GeoBndBox>
</geoEle>
</srcExt>
</stepSrc>
<stepSrc>
<srcDesc>Fotografia Aerea</srcDesc>
<srcCitatn>
<resTitle>05_161_0183</resTitle>
</srcCitatn>
<srcExt>
<geoEle>
<GeoBndBox>
<westBL>-51.7742661967827</westBL>
<eastBL>-51.7441575843746</eastBL>
<southBL>-31.2693503057749</southBL>
<northBL>-31.2318461844117</northBL>
</GeoBndBox>
</geoEle>
</srcExt>
</stepSrc>
<stepSrc>
<srcDesc>Fotografia Aerea</srcDesc>
<srcCitatn>
<resTitle>05_162_0208</resTitle>
</srcCitatn>
<srcExt>
<geoEle>
<GeoBndBox>
<westBL>-51.6929594871629</westBL>
<eastBL>-51.6630141771786</eastBL>
<southBL>-31.2959327737253</southBL>
<northBL>-31.2587267388974</northBL>
</GeoBndBox>
</geoEle>
</srcExt>
</stepSrc>
<stepSrc>
<srcDesc>Fotografia Aerea</srcDesc>
<srcCitatn>
<resTitle>05_162_0214</resTitle>
</srcCitatn>
<srcExt>
<geoEle>
<GeoBndBox>
<westBL>-51.7629327289662</westBL>
<eastBL>-51.7329606178926</eastBL>
<southBL>-31.2959790802669</southBL>
<northBL>-31.2584276143822</northBL>
</GeoBndBox>
</geoEle>
</srcExt>
</stepSrc>
<stepSrc>
<srcDesc>Fotografia Aerea</srcDesc>
<srcCitatn>
<resTitle>05_160_2036</resTitle>
</srcCitatn>
<srcExt>
<geoEle>
<GeoBndBox>
<westBL>-51.7037193281669</westBL>
<eastBL>-51.6746369621797</eastBL>
<southBL>-31.2427425051241</southBL>
<northBL>-31.2059933858553</northBL>
</GeoBndBox>
</geoEle>
</srcExt>
</stepSrc>
<stepSrc>
<srcDesc>Fotografia Aerea</srcDesc>
<srcCitatn>
<resTitle>05_161_0194</resTitle>
</srcCitatn>
<srcExt>
<geoEle>
<GeoBndBox>
<westBL>-51.6461235446421</westBL>
<eastBL>-51.6162602162143</eastBL>
<southBL>-31.2698659234963</southBL>
<northBL>-31.232634627999</northBL>
</GeoBndBox>
</geoEle>
</srcExt>
</stepSrc>
<stepSrc>
<srcDesc>Fotografia Aerea</srcDesc>
<srcCitatn>
<resTitle>05_162_0202</resTitle>
</srcCitatn>
<srcExt>
<geoEle>
<GeoBndBox>
<westBL>-51.6226481001665</westBL>
<eastBL>-51.5935368820196</eastBL>
<southBL>-31.2960871022365</southBL>
<northBL>-31.2593016189409</northBL>
</GeoBndBox>
</geoEle>
</srcExt>
</stepSrc>
<stepSrc>
<srcDesc>Fotografia Aerea</srcDesc>
<srcCitatn>
<resTitle>05_160_2037</resTitle>
</srcCitatn>
<srcExt>
<geoEle>
<GeoBndBox>
<westBL>-51.6924931427748</westBL>
<eastBL>-51.6625906028839</eastBL>
<southBL>-31.243012252355</southBL>
<northBL>-31.2057334611551</northBL>
</GeoBndBox>
</geoEle>
</srcExt>
</stepSrc>
<stepSrc>
<srcDesc>Fotografia Aerea</srcDesc>
<srcCitatn>
<resTitle>05_162_0216</resTitle>
</srcCitatn>
<srcExt>
<geoEle>
<GeoBndBox>
<westBL>-51.7865860066132</westBL>
<eastBL>-51.7560782698477</eastBL>
<southBL>-31.2961267791647</southBL>
<northBL>-31.2581400258385</northBL>
</GeoBndBox>
</geoEle>
</srcExt>
</stepSrc>
<stepSrc>
<srcDesc>Fotografia Aerea</srcDesc>
<srcCitatn>
<resTitle>05_161_0193</resTitle>
</srcCitatn>
<srcExt>
<geoEle>
<GeoBndBox>
<westBL>-51.6575311098624</westBL>
<eastBL>-51.6281112640303</eastBL>
<southBL>-31.2697503832111</southBL>
<northBL>-31.2327439059483</northBL>
</GeoBndBox>
</geoEle>
</srcExt>
</stepSrc>
<stepSrc>
<srcDesc>Fotografia Aerea</srcDesc>
<srcCitatn>
<resTitle>05_161_0195</resTitle>
</srcCitatn>
<srcExt>
<geoEle>
<GeoBndBox>
<westBL>-51.6341001042785</westBL>
<eastBL>-51.6050155286057</eastBL>
<southBL>-31.2697359025406</southBL>
<northBL>-31.2329765937479</northBL>
</GeoBndBox>
</geoEle>
</srcExt>
</stepSrc>
<stepSrc>
<srcDesc>Fotografia Aerea</srcDesc>
<srcCitatn>
<resTitle>05_162_0212</resTitle>
</srcCitatn>
<srcExt>
<geoEle>
<GeoBndBox>
<westBL>-51.7395684772861</westBL>
<eastBL>-51.7099499774063</eastBL>
<southBL>-31.2959094825022</southBL>
<northBL>-31.2586486841759</northBL>
</GeoBndBox>
</geoEle>
</srcExt>
</stepSrc>
<stepSrc>
<srcDesc>Fotografia Aerea</srcDesc>
<srcCitatn>
<resTitle>05_161_0182</resTitle>
</srcCitatn>
<srcExt>
<geoEle>
<GeoBndBox>
<westBL>-51.7858648156296</westBL>
<eastBL>-51.7558469189674</eastBL>
<southBL>-31.2691992267273</southBL>
<northBL>-31.2318113102716</northBL>
</GeoBndBox>
</geoEle>
</srcExt>
</stepSrc>
<stepSrc>
<srcDesc>Fotografia Aerea</srcDesc>
<srcCitatn>
<resTitle>05_162_0213</resTitle>
</srcCitatn>
<srcExt>
<geoEle>
<GeoBndBox>
<westBL>-51.7516316364231</westBL>
<eastBL>-51.721172409641</eastBL>
<southBL>-31.296234819262</southBL>
<northBL>-31.2583692392551</northBL>
</GeoBndBox>
</geoEle>
</srcExt>
</stepSrc>
<stepSrc>
<srcDesc>Fotografia Aerea</srcDesc>
<srcCitatn>
<resTitle>05_161_0184</resTitle>
</srcCitatn>
<srcExt>
<geoEle>
<GeoBndBox>
<westBL>-51.7621539075268</westBL>
<eastBL>-51.7330137652549</eastBL>
<southBL>-31.2689923157198</southBL>
<northBL>-31.2321961962231</northBL>
</GeoBndBox>
</geoEle>
</srcExt>
</stepSrc>
<stepSrc>
<srcDesc>Fotografia Aerea</srcDesc>
<srcCitatn>
<resTitle>05_160_2032</resTitle>
</srcCitatn>
<srcExt>
<geoEle>
<GeoBndBox>
<westBL>-51.7503040148505</westBL>
<eastBL>-51.721168393996</eastBL>
<southBL>-31.2424830837342</southBL>
<northBL>-31.2056790135628</northBL>
</GeoBndBox>
</geoEle>
</srcExt>
</stepSrc>
<stepSrc>
<srcDesc>Fotografia Aerea</srcDesc>
<srcCitatn>
<resTitle>05_160_2029</resTitle>
</srcCitatn>
<srcExt>
<geoEle>
<GeoBndBox>
<westBL>-51.7851660624381</westBL>
<eastBL>-51.7560743197695</eastBL>
<southBL>-31.2422967672944</southBL>
<northBL>-31.2055571171428</northBL>
</GeoBndBox>
</geoEle>
</srcExt>
</stepSrc>
<stepSrc>
<srcDesc>Fotografia Aerea</srcDesc>
<srcCitatn>
<resTitle>05_161_0188</resTitle>
</srcCitatn>
<srcExt>
<geoEle>
<GeoBndBox>
<westBL>-51.7160377419311</westBL>
<eastBL>-51.6860240161215</eastBL>
<southBL>-31.2696146359645</southBL>
<northBL>-31.2322140061155</northBL>
</GeoBndBox>
</geoEle>
</srcExt>
</stepSrc>
<stepSrc>
<srcDesc>Fotografia Aerea</srcDesc>
<srcCitatn>
<resTitle>05_162_0209</resTitle>
</srcCitatn>
<srcExt>
<geoEle>
<GeoBndBox>
<westBL>-51.7043480334859</westBL>
<eastBL>-51.6750218774908</eastBL>
<southBL>-31.2957462713958</southBL>
<northBL>-31.2588682803195</northBL>
</GeoBndBox>
</geoEle>
</srcExt>
</stepSrc>
<stepSrc>
<srcDesc>Fotografia Aerea</srcDesc>
<srcCitatn>
<resTitle>05_162_0203</resTitle>
</srcCitatn>
<srcExt>
<geoEle>
<GeoBndBox>
<westBL>-51.6342626813862</westBL>
<eastBL>-51.6052181229968</eastBL>
<southBL>-31.2959904020724</southBL>
<northBL>-31.2592923807115</northBL>
</GeoBndBox>
</geoEle>
</srcExt>
</stepSrc>
<stepSrc>
<srcDesc>Fotografia Aerea</srcDesc>
<srcCitatn>
<resTitle>05_161_0191</resTitle>
</srcCitatn>
<srcExt>
<geoEle>
<GeoBndBox>
<westBL>-51.6807495223194</westBL>
<eastBL>-51.6514622353589</eastBL>
<southBL>-31.2696008477073</southBL>
<northBL>-31.2325974499976</northBL>
</GeoBndBox>
</geoEle>
</srcExt>
</stepSrc>
<stepSrc>
<srcDesc>Fotografia Aerea</srcDesc>
<srcCitatn>
<resTitle>05_161_0190</resTitle>
</srcCitatn>
<srcExt>
<geoEle>
<GeoBndBox>
<westBL>-51.6927407351807</westBL>
<eastBL>-51.6627430461508</eastBL>
<southBL>-31.2696985587817</southBL>
<northBL>-31.2323120627199</northBL>
</GeoBndBox>
</geoEle>
</srcExt>
</stepSrc>
<stepSrc>
<srcDesc>Fotografia Aerea</srcDesc>
<srcCitatn>
<resTitle>05_162_0205</resTitle>
</srcCitatn>
<srcExt>
<geoEle>
<GeoBndBox>
<westBL>-51.657553663952</westBL>
<eastBL>-51.6284931666632</eastBL>
<southBL>-31.2958974321635</southBL>
<northBL>-31.2591852977731</northBL>
</GeoBndBox>
</geoEle>
</srcExt>
</stepSrc>
<stepSrc>
<srcDesc>Fotografia Aerea</srcDesc>
<srcCitatn>
<resTitle>05_161_0185</resTitle>
</srcCitatn>
<srcExt>
<geoEle>
<GeoBndBox>
<westBL>-51.7509243912584</westBL>
<eastBL>-51.720963344784</eastBL>
<southBL>-31.2693473160834</southBL>
<northBL>-31.2320211353459</northBL>
</GeoBndBox>
</geoEle>
</srcExt>
</stepSrc>
<stepSrc>
<srcDesc>Fotografia Aerea</srcDesc>
<srcCitatn>
<resTitle>05_160_2040</resTitle>
</srcCitatn>
<srcExt>
<geoEle>
<GeoBndBox>
<westBL>-51.657171260093</westBL>
<eastBL>-51.6280851361231</eastBL>
<southBL>-31.2429929241706</southBL>
<northBL>-31.2062268561967</northBL>
</GeoBndBox>
</geoEle>
</srcExt>
</stepSrc>
<stepSrc>
<srcDesc>Fotografia Aerea</srcDesc>
<srcCitatn>
<resTitle>05_162_0211</resTitle>
</srcCitatn>
<srcExt>
<geoEle>
<GeoBndBox>
<westBL>-51.7278814606149</westBL>
<eastBL>-51.6983376190771</eastBL>
<southBL>-31.2959218279711</southBL>
<northBL>-31.258748841415</northBL>
</GeoBndBox>
</geoEle>
</srcExt>
</stepSrc>
<stepSrc>
<srcDesc>Fotografia Aerea</srcDesc>
<srcCitatn>
<resTitle>05_162_0210</resTitle>
</srcCitatn>
<srcExt>
<geoEle>
<GeoBndBox>
<westBL>-51.7165375024694</westBL>
<eastBL>-51.6862961667826</eastBL>
<southBL>-31.2958894832985</southBL>
<northBL>-31.2585996946031</northBL>
</GeoBndBox>
</geoEle>
</srcExt>
</stepSrc>
<stepSrc>
<srcDesc>Fotografia Aerea</srcDesc>
<srcCitatn>
<resTitle>05_160_2031</resTitle>
</srcCitatn>
<srcExt>
<geoEle>
<GeoBndBox>
<westBL>-51.7618970491461</westBL>
<eastBL>-51.7328212773575</eastBL>
<southBL>-31.2423998007946</southBL>
<northBL>-31.2056740835825</northBL>
</GeoBndBox>
</geoEle>
</srcExt>
</stepSrc>
<stepSrc>
<srcDesc>Fotografia Aerea</srcDesc>
<srcCitatn>
<resTitle>05_161_0186</resTitle>
</srcCitatn>
<srcExt>
<geoEle>
<GeoBndBox>
<westBL>-51.7389209101863</westBL>
<eastBL>-51.7096827256114</eastBL>
<southBL>-31.2692351735147</southBL>
<northBL>-31.2323091451234</northBL>
</GeoBndBox>
</geoEle>
</srcExt>
</stepSrc>
<stepSrc>
<srcDesc>Fotografia Aerea</srcDesc>
<srcCitatn>
<resTitle>05_162_0215</resTitle>
</srcCitatn>
<srcExt>
<geoEle>
<GeoBndBox>
<westBL>-51.7745570459951</westBL>
<eastBL>-51.744607705551</eastBL>
<southBL>-31.2959622746999</southBL>
<northBL>-31.2584368503313</northBL>
</GeoBndBox>
</geoEle>
</srcExt>
</stepSrc>
<stepSrc>
<srcDesc>Fotografia Aerea</srcDesc>
<srcCitatn>
<resTitle>05_162_0207</resTitle>
</srcCitatn>
<srcExt>
<geoEle>
<GeoBndBox>
<westBL>-51.6809072082919</westBL>
<eastBL>-51.6517250428489</eastBL>
<southBL>-31.2958091974786</southBL>
<northBL>-31.258983870914</northBL>
</GeoBndBox>
</geoEle>
</srcExt>
</stepSrc>
<stepSrc>
<srcDesc>Fotografia Aerea</srcDesc>
<srcCitatn>
<resTitle>05_162_0204</resTitle>
</srcCitatn>
<srcExt>
<geoEle>
<GeoBndBox>
<westBL>-51.6463140531908</westBL>
<eastBL>-51.6164336700228</eastBL>
<southBL>-31.2961656297513</southBL>
<northBL>-31.2589238767273</northBL>
</GeoBndBox>
</geoEle>
</srcExt>
</stepSrc>
<stepSrc>
<srcDesc>Fotografia Aerea</srcDesc>
<srcCitatn>
<resTitle>05_160_2034</resTitle>
</srcCitatn>
<srcExt>
<geoEle>
<GeoBndBox>
<westBL>-51.727014556935</westBL>
<eastBL>-51.6978878105825</eastBL>
<southBL>-31.2426175899186</southBL>
<northBL>-31.2058184135632</northBL>
</GeoBndBox>
</geoEle>
</srcExt>
</stepSrc>
</prcStep>
</dataLineage>
</dqInfo>
<spatRepInfo>
<Georect>
<numDims Sync="TRUE">2</numDims>
<axisDimension>
<dimSize>40037</dimSize>
<dimResol>
<value>0.00000315</value>
</dimResol>
</axisDimension>
<axisDimension>
<dimSize>21948</dimSize>
<dimResol>
<value>0.00000315</value>
</dimResol>
</axisDimension>
<tranParaAv Sync="TRUE">1</tranParaAv>
<chkPtAv Sync="TRUE">0</chkPtAv>
<cellGeo>
<CellGeoCd Sync="TRUE" value="002">
</CellGeoCd>
</cellGeo>
<cornerPts>
<pos Sync="TRUE">-51.761057 -31.309286</pos>
</cornerPts>
<cornerPts>
<pos Sync="TRUE">-51.761057 -31.239192</pos>
</cornerPts>
<cornerPts>
<pos Sync="TRUE">-51.613357 -31.239192</pos>
</cornerPts>
<cornerPts>
<pos Sync="TRUE">-51.613357 -31.309286</pos>
</cornerPts>
<centerPt>
<pos Sync="TRUE">-51.687207 -31.274239</pos>
</centerPt>
<axisDimension type="002">
<dimSize Sync="TRUE">40173</dimSize>
<dimResol>
<value Sync="TRUE" uom="deg">0.000004</value>
</dimResol>
</axisDimension>
<axisDimension type="001">
<dimSize Sync="TRUE">22197</dimSize>
<dimResol>
<value Sync="TRUE" uom="deg">0.000003</value>
</dimResol>
</axisDimension>
<ptInPixel>
<PixOrientCd Sync="TRUE" value="001">
</PixOrientCd>
</ptInPixel>
</Georect>
</spatRepInfo>
<refSysInfo>
<RefSystem>
<refSysID>
<identCode code="4674">
</identCode>
<idCodeSpace Sync="TRUE">EPSG</idCodeSpace>
<idVersion Sync="TRUE">7.8.3(9.2.0)</idVersion>
</refSysID>
</RefSystem>
</refSysInfo>
<contInfo>
<ImgDesc>
<covDim>
<Band>
<dimDescrp Sync="TRUE">Layer_1</dimDescrp>
<maxVal>255</maxVal>
<minVal>1</minVal>
<bitsPerVal Sync="TRUE">8</bitsPerVal>
<valUnit>
<UOM type="length">
</UOM>
</valUnit>
</Band>
<Band>
<dimDescrp Sync="TRUE">Layer_2</dimDescrp>
<bitsPerVal Sync="TRUE">8</bitsPerVal>
<valUnit>
<UOM type="length">
</UOM>
</valUnit>
