<?xml version="1.0" encoding="UTF-8" standalone="no"?>
<metadata xml:lang="pt">
<Esri>
<CreaDate>20200304</CreaDate>
<CreaTime>15283200</CreaTime>
<ArcGISFormat>1.0</ArcGISFormat>
<ArcGISstyle>North American Profile of ISO19115 2003</ArcGISstyle>
<SyncOnce>FALSE</SyncOnce>
<DataProperties>
<itemProps>
<itemName Sync="TRUE">Ortoimagem_MI 3013-1-NO.tif</itemName>
<nativeExtBox>
<westBL Sync="TRUE">-51.511227</westBL>
<eastBL Sync="TRUE">-51.418851</eastBL>
<southBL Sync="TRUE">-31.124380</southBL>
<northBL Sync="TRUE">-30.989962</northBL>
<exTypeCode Sync="TRUE">1</exTypeCode>
</nativeExtBox>
<imsContentType Sync="TRUE">002</imsContentType>
</itemProps>
<coordRef>
<type Sync="TRUE">Geographic</type>
<geogcsn Sync="TRUE">GCS_SIRGAS_2000</geogcsn>
<csUnits Sync="TRUE">Angular Unit: Degree (0.017453)</csUnits>
<peXml Sync="TRUE">&lt;GeographicCoordinateSystem xsi:type='typens:GeographicCoordinateSystem' xmlns:xsi='http://www.w3.org/2001/XMLSchema-instance' xmlns:xs='http://www.w3.org/2001/XMLSchema' xmlns:typens='http://www.esri.com/schemas/ArcGIS/10.7'&gt;&lt;WKT&gt;GEOGCS[&amp;quot;GCS_SIRGAS_2000&amp;quot;,DATUM[&amp;quot;D_SIRGAS2000&amp;quot;,SPHEROID[&amp;quot;Geodetic_Reference_System_of_1980&amp;quot;,6378137.0,298.2572221008916]],PRIMEM[&amp;quot;Greenwich&amp;quot;,0.0],UNIT[&amp;quot;Degree&amp;quot;,0.0174532925199433]]&lt;/WKT&gt;&lt;XOrigin&gt;-400&lt;/XOrigin&gt;&lt;YOrigin&gt;-400&lt;/YOrigin&gt;&lt;XYScale&gt;11258999068426.238&lt;/XYScale&gt;&lt;ZOrigin&gt;-100000&lt;/ZOrigin&gt;&lt;ZScale&gt;10000&lt;/ZScale&gt;&lt;MOrigin&gt;-100000&lt;/MOrigin&gt;&lt;MScale&gt;10000&lt;/MScale&gt;&lt;XYTolerance&gt;8.983152841195215e-09&lt;/XYTolerance&gt;&lt;ZTolerance&gt;0.001&lt;/ZTolerance&gt;&lt;MTolerance&gt;0.001&lt;/MTolerance&gt;&lt;HighPrecision&gt;true&lt;/HighPrecision&gt;&lt;LeftLongitude&gt;-180&lt;/LeftLongitude&gt;&lt;/GeographicCoordinateSystem&gt;</peXml>
</coordRef>
<RasterProperties>
<General>
<PixelDepth Sync="TRUE">8</PixelDepth>
<HasColormap Sync="TRUE">FALSE</HasColormap>
<CompressionType Sync="TRUE">None</CompressionType>
<NumBands Sync="TRUE">4</NumBands>
<Format Sync="TRUE">TIFF</Format>
<HasPyramids Sync="TRUE">FALSE</HasPyramids>
<SourceType Sync="TRUE">continuous</SourceType>
<PixelType Sync="TRUE">unsigned integer</PixelType>
<NoDataValue Sync="TRUE">2</NoDataValue>
</General>
</RasterProperties>
</DataProperties>
<SyncDate>20200304</SyncDate>
<SyncTime>15313000</SyncTime>
<ModDate>20200304</ModDate>
<ModTime>15320600</ModTime>
<scaleRange>
<minScale>50000</minScale>
<maxScale>5000</maxScale>
</scaleRange>
<ArcGISProfile>NAP</ArcGISProfile>
</Esri>
<mdFileID>7a7facb31eeb4afc8ad85af71c419f4a</mdFileID>
<mdLang>
<languageCode value="pt-BR">
</languageCode>
<countryCode Sync="TRUE" value="BRA">
</countryCode>
</mdLang>
<mdChar>
<CharSetCd value="004">
</CharSetCd>
</mdChar>
<mdHrLv>
<ScopeCd value="005">
</ScopeCd>
</mdHrLv>
<mdContact>
<rpIndName>João Paulo Carvalho Raivel - CREARJ-158869/D</rpIndName>
<rpOrgName>Hiparc Geotecnologia, Projetos e Aerolevantamentos LTDA</rpOrgName>
<rpPosName>Responsável Técnico</rpPosName>
<role>
<RoleCd value="007">
</RoleCd>
</role>
</mdContact>
<mdDateSt Sync="TRUE">20200304</mdDateSt>
<mdStanName>ArcGIS Metadata</mdStanName>
<mdStanVer>1.0</mdStanVer>
<distInfo>
<distributor>
<distorCont>
<rpOrgName>Secretaria do Planejamento, Orçamento e Gestão do Estado do Rio Grande do Sul</rpOrgName>
<rpCntInfo>
<cntPhone>
<voiceNum>+55 (51) 3288-1499</voiceNum>
</cntPhone>
<cntAddress>
<delPoint>Av. Borges de Medeiros, 1501 - Porto Alegre/RS</delPoint>
</cntAddress>
</rpCntInfo>
<role>
<RoleCd value="005">
</RoleCd>
</role>
</distorCont>
<distorOrdPrc>
<resFees>Gratuito</resFees>
</distorOrdPrc>
</distributor>
<distFormat>
<formatName Sync="TRUE">Conjunto de Dados Raster</formatName>
<formatVer>1.0</formatVer>
</distFormat>
<distTranOps>
<transSize>5681384046</transSize>
</distTranOps>
</distInfo>
<dataIdInfo>
<idCitation>
<resTitle Sync="TRUE">Ortoimagem_MI 3013-1-NO.tif</resTitle>
<resAltTitle>ORTOIMAGEM</resAltTitle>
<resEd>1ª Edição</resEd>
<resEdDate>20190913</resEdDate>
<datasetSeries>
<seriesName>Projeto de Mapeamento do Rio Grande do Sul</seriesName>
</datasetSeries>
<presForm>
<PresFormCd Sync="TRUE" value="005">
</PresFormCd>
</presForm>
</idCitation>
<idAbs>&lt;DIV STYLE="text-align:Left;"&gt;&lt;DIV&gt;&lt;DIV&gt;&lt;P&gt;&lt;SPAN&gt;Elaboração de base cartográfica digital da região RF-1, através da geração dos produtos de Ortoimagem Digital, Feições de Hidrografia, MDE e Curvas de Nível, visando a obtenção de informações geográficas atualizadas compatível a escala de 1:25.000.&lt;/SPAN&gt;&lt;/P&gt;&lt;/DIV&gt;&lt;/DIV&gt;&lt;/DIV&gt;</idAbs>
<idPoC>
<rpOrgName>Secretaria do Planejamento, Orçamento e Gestão do Estado do Rio Grande do Sul</rpOrgName>
<rpCntInfo>
<cntPhone>
<voiceNum>+55 (51) 3288-1499</voiceNum>
</cntPhone>
<cntAddress>
<delPoint>Av. Borges de Medeiros, 1501 - Porto Alegre/RS</delPoint>
</cntAddress>
</rpCntInfo>
<role>
<RoleCd value="007">
</RoleCd>
</role>
</idPoC>
<searchKeys>
<keyword>Região Funcional 1</keyword>
<keyword>ortoimagens</keyword>
<keyword>ortoimagens RF1</keyword>
<keyword>RF1</keyword>
<keyword>Projeto de Mapeamento do Rio grande do Sul</keyword>
<keyword>ortoimagem Lote 5</keyword>
<keyword>L5</keyword>
<keyword>MI 3013-1-NO</keyword>
</searchKeys>
<resConst>
<LegConsts>
<useLimit>copyright</useLimit>
</LegConsts>
<Consts>
<useLimit/>
</Consts>
</resConst>
<aggrInfo>
<aggrDSName>
<resTitle>Região Funcional 1 - Lote 05</resTitle>
</aggrDSName>
</aggrInfo>
<dataScale>
<equScale>
<rfDenom>25000</rfDenom>
</equScale>
</dataScale>
<dataLang>
<languageCode value="pt-BR">
</languageCode>
<countryCode Sync="TRUE" value="BRA">
</countryCode>
</dataLang>
<dataExt>
<geoEle>
<GeoBndBox>
<westBL>-51.5113366400807</westBL>
<eastBL>-51.3532733703253</eastBL>
<southBL>-31.1453427274084</southBL>
<northBL>-30.9899637216806</northBL>
</GeoBndBox>
</geoEle>
</dataExt>
<suppInfo>A definição deste tipo de produto encontra-se na Especificação Técnica para Produtos de Conjuntos de Dados Geoespaciais (ET-PCDG). A PCDG pode ser obtida no Geoportal do Exército Brasileiro (http://www.geoportal.eb.mil.br).</suppInfo>
<envirDesc Sync="FALSE">Esri ArcGIS 10.7.0.10450</envirDesc>
<spatRpType>
<SpatRepTypCd Sync="TRUE" value="002">
</SpatRepTypCd>
</spatRpType>
<dataExt>
<geoEle>
<GeoBndBox esriExtentType="search">
<exTypeCode Sync="TRUE">1</exTypeCode>
<westBL Sync="TRUE">-51.511227</westBL>
<eastBL Sync="TRUE">-51.418851</eastBL>
<northBL Sync="TRUE">-30.989962</northBL>
<southBL Sync="TRUE">-31.124380</southBL>
</GeoBndBox>
</geoEle>
</dataExt>
<idPurp>Elaboração de base cartográfica digital da região RF-1, através da geração dos produtos de Ortoimagem Digital.</idPurp>
<idCredit>Secretaria de Planejamento, Orçamento e Gestão-RS/Departamento de Planejamento Governamental</idCredit>
</dataIdInfo>
<dqInfo>
<dataLineage>
<statement>Ortoimagem com resolução espacial de 35cm, nas bandas R,G,B e IR, 8 bits.</statement>
<prcStep>
<stepDesc>Voo fotogramétrico realizado utilizando aeronave Piper, camera digital Vexcel Ultracam LP, sistema de navegação inercial IMU e berço giro estabilizador.</stepDesc>
<stepDateTm>2018-05-13T00:00:00</stepDateTm>
<stepSrc>
<srcDesc>Fotografia Aerea</srcDesc>
<srcCitatn>
<resTitle>05_155_0651</resTitle>
</srcCitatn>
<srcExt>
<geoEle>
<GeoBndBox>
<westBL>-51.5168429064147</westBL>
<eastBL>-51.4878511468366</eastBL>
<southBL>-31.1114094247291</southBL>
<northBL>-31.074674000064</northBL>
</GeoBndBox>
</geoEle>
</srcExt>
</stepSrc>
<stepSrc>
<srcDesc>Fotografia Aerea</srcDesc>
<srcCitatn>
<resTitle>05_151_0338</resTitle>
</srcCitatn>
<srcExt>
<geoEle>
<GeoBndBox>
<westBL>-51.5046092294711</westBL>
<eastBL>-51.4755703599782</eastBL>
<southBL>-31.0058010302636</southBL>
<northBL>-30.9689614095017</northBL>
</GeoBndBox>
</geoEle>
</srcExt>
</stepSrc>
<stepSrc>
<srcDesc>Fotografia Aerea</srcDesc>
<srcCitatn>
<resTitle>05_153_0067</resTitle>
</srcCitatn>
<srcExt>
<geoEle>
<GeoBndBox>
<westBL>-51.5280266344245</westBL>
<eastBL>-51.4994842781335</eastBL>
<southBL>-31.058404581017</southBL>
<northBL>-31.0222209583539</northBL>
</GeoBndBox>
</geoEle>
</srcExt>
</stepSrc>
<stepSrc>
<srcDesc>Fotografia Aerea</srcDesc>
<srcCitatn>
<resTitle>05_155_0656</resTitle>
</srcCitatn>
<srcExt>
<geoEle>
<GeoBndBox>
<westBL>-51.4587600098405</westBL>
<eastBL>-51.4296958058432</eastBL>
<southBL>-31.1117647615364</southBL>
<northBL>-31.0748907485854</northBL>
</GeoBndBox>
</geoEle>
</srcExt>
</stepSrc>
<stepSrc>
<srcDesc>Fotografia Aerea</srcDesc>
<srcCitatn>
<resTitle>05_153_0069</resTitle>
</srcCitatn>
<srcExt>
<geoEle>
<GeoBndBox>
<westBL>-51.5051421423082</westBL>
<eastBL>-51.475896917658</eastBL>
<southBL>-31.0587068091219</southBL>
<northBL>-31.0221630115987</northBL>
</GeoBndBox>
</geoEle>
</srcExt>
</stepSrc>
<stepSrc>
<srcDesc>Fotografia Aerea</srcDesc>
<srcCitatn>
<resTitle>05_152_0328</resTitle>
</srcCitatn>
<srcExt>
<geoEle>
<GeoBndBox>
<westBL>-51.5166848269483</westBL>
<eastBL>-51.4871917616198</eastBL>
<southBL>-31.0327402409355</southBL>
<northBL>-30.995474767472</northBL>
</GeoBndBox>
</geoEle>
</srcExt>
</stepSrc>
<stepSrc>
<srcDesc>Fotografia Aerea</srcDesc>
<srcCitatn>
<resTitle>05_154_0081</resTitle>
</srcCitatn>
<srcExt>
<geoEle>
<GeoBndBox>
<westBL>-51.5171165176249</westBL>
<eastBL>-51.4871682010649</eastBL>
<southBL>-31.0853595515289</southBL>
<northBL>-31.0479151908384</northBL>
</GeoBndBox>
</geoEle>
</srcExt>
</stepSrc>
<stepSrc>
<srcDesc>Fotografia Aerea</srcDesc>
<srcCitatn>
<resTitle>05_155_0655</resTitle>
</srcCitatn>
<srcExt>
<geoEle>
<GeoBndBox>
<westBL>-51.4703888132805</westBL>
<eastBL>-51.4413129607386</eastBL>
<southBL>-31.1116390947886</southBL>
<northBL>-31.0747879776833</northBL>
</GeoBndBox>
</geoEle>
</srcExt>
</stepSrc>
<stepSrc>
<srcDesc>Fotografia Aerea</srcDesc>
<srcCitatn>
<resTitle>05_155_0654</resTitle>
</srcCitatn>
<srcExt>
<geoEle>
<GeoBndBox>
<westBL>-51.4819851708397</westBL>
<eastBL>-51.4529569601291</eastBL>
<southBL>-31.1116348919809</southBL>
<northBL>-31.0748441538056</northBL>
</GeoBndBox>
</geoEle>
</srcExt>
</stepSrc>
<stepSrc>
<srcDesc>Fotografia Aerea</srcDesc>
<srcCitatn>
<resTitle>05_154_0077</resTitle>
</srcCitatn>
<srcExt>
<geoEle>
<GeoBndBox>
<westBL>-51.4703094916933</westBL>
<eastBL>-51.4410339304114</eastBL>
<southBL>-31.0854106313201</southBL>
<northBL>-31.0483049860317</northBL>
</GeoBndBox>
</geoEle>
</srcExt>
</stepSrc>
<stepSrc>
<srcDesc>Fotografia Aerea</srcDesc>
<srcCitatn>
<resTitle>05_154_0082</resTitle>
</srcCitatn>
<srcExt>
<geoEle>
<GeoBndBox>
<westBL>-51.5284228109274</westBL>
<eastBL>-51.4990707273371</eastBL>
<southBL>-31.0852153004863</southBL>
<northBL>-31.0480162719757</northBL>
</GeoBndBox>
</geoEle>
</srcExt>
</stepSrc>
<stepSrc>
<srcDesc>Fotografia Aerea</srcDesc>
<srcCitatn>
<resTitle>05_152_0326</resTitle>
</srcCitatn>
<srcExt>
<geoEle>
<GeoBndBox>
<westBL>-51.5398470990112</westBL>
<eastBL>-51.5104598611536</eastBL>
<southBL>-31.0326184472784</southBL>
<northBL>-30.9954826459022</northBL>
</GeoBndBox>
</geoEle>
</srcExt>
</stepSrc>
<stepSrc>
<srcDesc>Fotografia Aerea</srcDesc>
<srcCitatn>
<resTitle>05_156_0667</resTitle>
</srcCitatn>
<srcExt>
<geoEle>
<GeoBndBox>
<westBL>-51.5400772627674</westBL>
<eastBL>-51.5109273043996</eastBL>
<southBL>-31.1379128144493</southBL>
<northBL>-31.1009594024137</northBL>
</GeoBndBox>
</geoEle>
</srcExt>
</stepSrc>
<stepSrc>
<srcDesc>Fotografia Aerea</srcDesc>
<srcCitatn>
<resTitle>05_151_0340</resTitle>
</srcCitatn>
<srcExt>
<geoEle>
<GeoBndBox>
<westBL>-51.5278562716118</westBL>
<eastBL>-51.4987733076046</eastBL>
<southBL>-31.0056941066471</southBL>
<northBL>-30.9688043159123</northBL>
</GeoBndBox>
</geoEle>
</srcExt>
</stepSrc>
<stepSrc>
<srcDesc>Fotografia Aerea</srcDesc>
<srcCitatn>
<resTitle>05_155_0653</resTitle>
</srcCitatn>
<srcExt>
<geoEle>
<GeoBndBox>
<westBL>-51.49395056161</westBL>
<eastBL>-51.4642155287231</eastBL>
<southBL>-31.1117526883565</southBL>
<northBL>-31.0745794210728</northBL>
</GeoBndBox>
</geoEle>
</srcExt>
</stepSrc>
<stepSrc>
<srcDesc>Fotografia Aerea</srcDesc>
<srcCitatn>
<resTitle>05_151_0341</resTitle>
</srcCitatn>
<srcExt>
<geoEle>
<GeoBndBox>
<westBL>-51.5394326678903</westBL>
<eastBL>-51.5103949146739</eastBL>
<southBL>-31.00564189241</southBL>
<northBL>-30.9688125131507</northBL>
</GeoBndBox>
</geoEle>
</srcExt>
</stepSrc>
<stepSrc>
<srcDesc>Fotografia Aerea</srcDesc>
<srcCitatn>
<resTitle>05_153_0068</resTitle>
</srcCitatn>
<srcExt>
<geoEle>
<GeoBndBox>
<westBL>-51.5167784399968</westBL>
<eastBL>-51.4874925551013</eastBL>
<southBL>-31.0586315523765</southBL>
<northBL>-31.0220400893187</northBL>
</GeoBndBox>
</geoEle>
</srcExt>
</stepSrc>
<stepSrc>
<srcDesc>Fotografia Aerea</srcDesc>
<srcCitatn>
<resTitle>05_154_0078</resTitle>
</srcCitatn>
<srcExt>
<geoEle>
<GeoBndBox>
<westBL>-51.4822351939866</westBL>
<eastBL>-51.4523435602237</eastBL>
<southBL>-31.0854537930769</southBL>
<northBL>-31.0480711621808</northBL>
</GeoBndBox>
</geoEle>
</srcExt>
</stepSrc>
<stepSrc>
<srcDesc>Fotografia Aerea</srcDesc>
<srcCitatn>
<resTitle>05_152_0329</resTitle>
</srcCitatn>
<srcExt>
<geoEle>
<GeoBndBox>
<westBL>-51.505017490266</westBL>
<eastBL>-51.4756158882243</eastBL>
<southBL>-31.032753530226</southBL>
<northBL>-30.9956074169651</northBL>
</GeoBndBox>
</geoEle>
</srcExt>
</stepSrc>
<stepSrc>
<srcDesc>Fotografia Aerea</srcDesc>
<srcCitatn>
<resTitle>05_155_0650</resTitle>
</srcCitatn>
<srcExt>
<geoEle>
<GeoBndBox>
<westBL>-51.528787192971</westBL>
<eastBL>-51.4991046896315</eastBL>
<southBL>-31.1115784140113</southBL>
<northBL>-31.074479626974</northBL>
</GeoBndBox>
</geoEle>
</srcExt>
</stepSrc>
<stepSrc>
<srcDesc>Fotografia Aerea</srcDesc>
<srcCitatn>
<resTitle>05_153_0070</resTitle>
</srcCitatn>
<srcExt>
<geoEle>
<GeoBndBox>
<westBL>-51.4930911082256</westBL>
<eastBL>-51.4647176656189</eastBL>
<southBL>-31.0584249036225</southBL>
<northBL>-31.022446837832</northBL>
</GeoBndBox>
</geoEle>
</srcExt>
</stepSrc>
<stepSrc>
<srcDesc>Fotografia Aerea</srcDesc>
<srcCitatn>
<resTitle>05_154_0079</resTitle>
</srcCitatn>
<srcExt>
<geoEle>
<GeoBndBox>
<westBL>-51.4935352801994</westBL>
<eastBL>-51.4642603945136</eastBL>
<southBL>-31.085294174812</southBL>
<northBL>-31.0481834216875</northBL>
</GeoBndBox>
</geoEle>
</srcExt>
</stepSrc>
<stepSrc>
<srcDesc>Fotografia Aerea</srcDesc>
<srcCitatn>
<resTitle>05_152_0327</resTitle>
</srcCitatn>
<srcExt>
<geoEle>
<GeoBndBox>
<westBL>-51.5282615774223</westBL>
<eastBL>-51.4988390584855</eastBL>
<southBL>-31.0327056174568</southBL>
<northBL>-30.9955273893361</northBL>
</GeoBndBox>
</geoEle>
</srcExt>
</stepSrc>
<stepSrc>
<srcDesc>Fotografia Aerea</srcDesc>
<srcCitatn>
<resTitle>05_152_0330</resTitle>
</srcCitatn>
<srcExt>
<geoEle>
<GeoBndBox>
<westBL>-51.4934405914095</westBL>
<eastBL>-51.4639826005764</eastBL>
<southBL>-31.0328140634939</southBL>
<northBL>-30.9955986739745</northBL>
</GeoBndBox>
</geoEle>
</srcExt>
</stepSrc>
<stepSrc>
<srcDesc>Fotografia Aerea</srcDesc>
<srcCitatn>
<resTitle>05_154_0083</resTitle>
</srcCitatn>
<srcExt>
<geoEle>
<GeoBndBox>
<westBL>-51.5399618304678</westBL>
<eastBL>-51.510775602383</eastBL>
<southBL>-31.0850198324201</southBL>
<northBL>-31.0480337883849</northBL>
</GeoBndBox>
</geoEle>
</srcExt>
</stepSrc>
<stepSrc>
<srcDesc>Fotografia Aerea</srcDesc>
<srcCitatn>
<resTitle>05_155_0652</resTitle>
</srcCitatn>
<srcExt>
<geoEle>
<GeoBndBox>
<westBL>-51.5055757272057</westBL>
<eastBL>-51.4758363721218</eastBL>
<southBL>-31.1116459104153</southBL>
<northBL>-31.0744701761741</northBL>
</GeoBndBox>
</geoEle>
</srcExt>
</stepSrc>
<stepSrc>
<srcDesc>Fotografia Aerea</srcDesc>
<srcCitatn>
<resTitle>05_154_0080</resTitle>
</srcCitatn>
<srcExt>
<geoEle>
<GeoBndBox>
<westBL>-51.5051078169217</westBL>
<eastBL>-51.4759277294771</eastBL>
<southBL>-31.085204359431</southBL>
<northBL>-31.0482170390768</northBL>
</GeoBndBox>
</geoEle>
</srcExt>
</stepSrc>
<stepSrc>
<srcDesc>Fotografia Aerea</srcDesc>
<srcCitatn>
<resTitle>05_151_0339</resTitle>
</srcCitatn>
<srcExt>
<geoEle>
<GeoBndBox>
<westBL>-51.5162253557232</westBL>
<eastBL>-51.4871821918907</eastBL>
<southBL>-31.0057323314998</southBL>
<northBL>-30.96889004028</northBL>
</GeoBndBox>
</geoEle>
</srcExt>
</stepSrc>
</prcStep>
<prcStep>
<stepDesc>Coleta de Pontos de Apoio de campo realizada com o objetivo de orientar as imagens aéreas na etapa de aerotriangulação. Para realização desta etapa foram rastreados pontos de apoio suplementar, com tempo de ocupação mínima de 30 minutos e foram utilizadas como base as estações da RBMC.</stepDesc>
<stepDateTm>2018-05-18T00:00:00</stepDateTm>
<stepSrc>
<srcDesc>Ponto de Apoio</srcDesc>
<srcCitatn>
<resTitle>P-025</resTitle>
</srcCitatn>
<srcExt>
<geoEle>
<GeoBndBox>
<westBL>-51.505886135491</westBL>
<eastBL>-51.505886135491</eastBL>
<southBL>-31.0628907272015</southBL>
<northBL>-31.0628907272015</northBL>
</GeoBndBox>
</geoEle>
</srcExt>
</stepSrc>
</prcStep>
<prcStep>
<stepDesc>Aerotriangulação gerada para o lote 05 utilizando as imagens aerofogrametricas e pontos de apoio citados anteriormente.</stepDesc>
<stepDateTm>2018-08-08T00:00:00</stepDateTm>
</prcStep>
<prcStep>
<stepDesc>Modelo Digital de Terreno com resolução espacial de 40 metros por pixel, gerado através de correlação esteroscópica de fotografias aéreas com objetivo exclusivo de geração de Ortofotos.</stepDesc>
<stepDateTm>2018-10-10T00:00:00</stepDateTm>
</prcStep>
<prcStep>
<stepDesc>ORTOIMAGEM com resolução espacial de 35cm, nas bandas R,G,B e IR, 8 bits.</stepDesc>
<stepDateTm>2019-09-13T00:00:00</stepDateTm>
</prcStep>
</dataLineage>
</dqInfo>
<spatRepInfo>
<Georect>
<numDims Sync="TRUE">2</numDims>
<axisDimension>
<dimSize>25004</dimSize>
<dimResol>
<value>0.00000315</value>
</dimResol>
</axisDimension>
<axisDimension>
<dimSize>42460</dimSize>
<dimResol>
<value>0.00000315</value>
</dimResol>
</axisDimension>
<tranParaAv Sync="TRUE">1</tranParaAv>
<chkPtAv Sync="TRUE">0</chkPtAv>
<cellGeo>
<CellGeoCd Sync="TRUE" value="002">
</CellGeoCd>
</cellGeo>
<cornerPts>
<pos Sync="TRUE">-51.511227 -31.124380</pos>
</cornerPts>
<cornerPts>
<pos Sync="TRUE">-51.511227 -30.989962</pos>
</cornerPts>
<cornerPts>
<pos Sync="TRUE">-51.418851 -30.989962</pos>
</cornerPts>
<cornerPts>
<pos Sync="TRUE">-51.418851 -31.124380</pos>
</cornerPts>
<centerPt>
<pos Sync="TRUE">-51.465039 -31.057171</pos>
</centerPt>
<axisDimension type="002">
<dimSize Sync="TRUE">25182</dimSize>
<dimResol>
<value Sync="TRUE" uom="deg">0.000004</value>
</dimResol>
</axisDimension>
<axisDimension type="001">
<dimSize Sync="TRUE">42564</dimSize>
<dimResol>
<value Sync="TRUE" uom="deg">0.000003</value>
</dimResol>
</axisDimension>
<ptInPixel>
<PixOrientCd Sync="TRUE" value="001">
</PixOrientCd>
</ptInPixel>
</Georect>
</spatRepInfo>
<refSysInfo>
<RefSystem>
<refSysID>
<identCode code="4674">
</identCode>
<idCodeSpace>http://www.epsg-registry.org</idCodeSpace>
<idVersion>9.2.2</idVersion>
</refSysID>
</RefSystem>
</refSysInfo>
<contInfo>
<ImgDesc>
<covDim>
<Band>
<dimDescrp Sync="TRUE">Band_1</dimDescrp>
<maxVal>255</maxVal>
<minVal>1</minVal>
<bitsPerVal Sync="TRUE">8</bitsPerVal>
<valUnit>
<UOM type="length">
</UOM>
</valUnit>
</Band>
<Band>
<dimDescrp Sync="TRUE">Band_2</dimDescrp>
<bitsPerVal Sync="TRUE">8</bitsPerVal>
<valUnit>
<UOM type="length">
</UOM>
</valUnit>
</Band>
<Band>
<dimDescrp Sync="TRUE">Band_3</dimDescrp>
<bitsPerVal Sync="TRUE">8</bitsPerVal>
<valUnit>
<UOM type="length">
</UOM>
</valUnit>
</Band>
<Band>
<dimDescrp Sync="TRUE">Band_4</dimDescrp>
<bitsPerVal Sync="TRUE">8</bitsPerVal>
<valUnit>
<UOM type="length">
</UOM>
</valUnit>
</Band>
</covDim>
<covDim>
<Band>
<dimDescrp Sync="TRUE">Band_1</dimDescrp>
<maxVal>255</maxVal>
<minVal>1</minVal>
<bitsPerVal Sync="TRUE">8</bitsPerVal>
<valUnit>
<UOM type="length">
</UOM>
</valUnit>
</Band>
<Band>
<dimDescrp Sync="TRUE">Band_2</dimDescrp>
<bitsPerVal Sync="TRUE">8</bitsPerVal>
<valUnit>
<UOM type="length">
</UOM>
</valUnit>
</Band>
<Band>
<dimDescrp Sync="TRUE">Band_3</dimDescrp>
<bitsPerVal Sync="TRUE">8</bitsPerVal>
<valUnit>
<UOM type="length">
</UOM>
</valUnit>
</Band>
<Band>
<dimDescrp Sync="TRUE">Band_4</dimDescrp>
<bitsPerVal Sync="TRUE">8</bitsPerVal>
<valUnit>
<UOM type="length">
</UOM>
</valUnit>
</Band>
</covDim>
<covDim>
<Band>
<dimDescrp Sync="TRUE">Band_1</dimDescrp>
<maxVal>255</maxVal>
<minVal>1</minVal>
<bitsPerVal Sync="TRUE">8</bitsPerVal>
<valUnit>
<UOM type="length">
</UOM>
</valUnit>
</Band>
<Band>
<dimDescrp Sync="TRUE">Band_2</dimDescrp>
<bitsPerVal Sync="TRUE">8</bitsPerVal>
<valUnit>
<UOM type="length">
</UOM>
</valUnit>
</Band>
<Band>
<dimDescrp Sync="TRUE">Band_3</dimDescrp>
<bitsPerVal Sync="TRUE">8</bitsPerVal>
<valUnit>
<UOM type="length">
</UOM>
</valUnit>
</Band>
<Band>
<dimDescrp Sync="TRUE">Band_4</dimDescrp>
<bitsPerVal Sync="TRUE">8</bitsPerVal>
<valUnit>
<UOM type="length">
</UOM>
</valUnit>
</Band>
</covDim>
<covDim>
<Band>
<dimDescrp Sync="TRUE">Band_1</dimDescrp>
<maxVal>255</maxVal>
<minVal>1</minVal>
<bitsPerVal Sync="TRUE">8</bitsPerVal>
<valUnit>
<UOM type="length">
</UOM>
</valUnit>
</Band>
<Band>
<dimDescrp Sync="TRUE">Band_2</dimDescrp>
<bitsPerVal Sync="TRUE">8</bitsPerVal>
<valUnit>
<UOM type="length">
</UOM>
</valUnit>
</Band>
<Band>
<dimDescrp Sync="TRUE">Band_3</dimDescrp>
<bitsPerVal Sync="TRUE">8</bitsPerVal>
<valUnit>
<UOM type="length">
</UOM>
</valUnit>
</Band>
<Band>
<dimDescrp Sync="TRUE">Band_4</dimDescrp>
<bitsPerVal Sync="TRUE">8</bitsPerVal>
<valUnit>
<UOM type="length">
</UOM>
</valUnit>
</Band>
</covDim>
<contentTyp>
<ContentTypCd Sync="TRUE" value="001">
</ContentTypCd>
</contentTyp>
</ImgDesc>
</contInfo>
<mdHrLvName Sync="TRUE">dataset</mdHrLvName>
</metadata>
