{ "currentVersion": 11.5, "serviceDescription": "

Elaboração de base cartográfica digital da região RF-1, através da geração dos produtos de Ortoimagem Digital, Feições de Hidrografia, MDE e Curvas de Nível, visando a obtenção de informações geográficas atualizadas compatível a escala de 1:25.000.<\/SPAN><\/P><\/DIV><\/DIV><\/DIV>", "serviceItemId": "e20eebe732dc42f38eb853e91d687668", "name": "ORTOIMG_RF1/Ortoimagem_MI_3013_1_NO", "description": "

Elaboração de base cartográfica digital da região RF-1, através da geração dos produtos de Ortoimagem Digital, Feições de Hidrografia, MDE e Curvas de Nível, visando a obtenção de informações geográficas atualizadas compatível a escala de 1:25.000.<\/SPAN><\/P><\/DIV><\/DIV><\/DIV>", "extent": { "xmin": -51.511227097444305, "ymin": -31.12438023988972, "xmax": -51.418851268363824, "ymax": -30.989962135433714, "spatialReference": { "wkt2": "GEOGCRS[\"GCS_SIRGAS_2000\",DATUM[\"D_SIRGAS_2000\",ELLIPSOID[\"Geodetic_Reference_System_of_1980\",6378137.0,298.257222100892,LENGTHUNIT[\"Meter\",1.0]]],PRIMEM[\"Greenwich\",0.0,ANGLEUNIT[\"Degree\",0.0174532925199433]],CS[ellipsoidal,2],AXIS[\"Longitude (lon)\",east,ORDER[1]],AXIS[\"Latitude (lat)\",north,ORDER[2]],ANGLEUNIT[\"Degree\",0.0174532925199433]]", "wkt": "GEOGCS[\"GCS_SIRGAS_2000\",DATUM[\"D_SIRGAS_2000\",SPHEROID[\"Geodetic_Reference_System_of_1980\",6378137.0,298.257222100892]],PRIMEM[\"Greenwich\",0.0],UNIT[\"Degree\",0.0174532925199433]]" } }, "initialExtent": { "xmin": -51.511227097444305, "ymin": -31.12438023988972, "xmax": -51.418851268363824, "ymax": -30.989962135433714, "spatialReference": { "wkt2": "GEOGCRS[\"GCS_SIRGAS_2000\",DATUM[\"D_SIRGAS_2000\",ELLIPSOID[\"Geodetic_Reference_System_of_1980\",6378137.0,298.257222100892,LENGTHUNIT[\"Meter\",1.0]]],PRIMEM[\"Greenwich\",0.0,ANGLEUNIT[\"Degree\",0.0174532925199433]],CS[ellipsoidal,2],AXIS[\"Longitude (lon)\",east,ORDER[1]],AXIS[\"Latitude (lat)\",north,ORDER[2]],ANGLEUNIT[\"Degree\",0.0174532925199433]]", "wkt": "GEOGCS[\"GCS_SIRGAS_2000\",DATUM[\"D_SIRGAS_2000\",SPHEROID[\"Geodetic_Reference_System_of_1980\",6378137.0,298.257222100892]],PRIMEM[\"Greenwich\",0.0],UNIT[\"Degree\",0.0174532925199433]]" } }, "fullExtent": { "xmin": -51.511227097444305, "ymin": -31.12438023988972, "xmax": -51.418851268363824, "ymax": -30.989962135433714, "spatialReference": { "wkt2": "GEOGCRS[\"GCS_SIRGAS_2000\",DATUM[\"D_SIRGAS_2000\",ELLIPSOID[\"Geodetic_Reference_System_of_1980\",6378137.0,298.257222100892,LENGTHUNIT[\"Meter\",1.0]]],PRIMEM[\"Greenwich\",0.0,ANGLEUNIT[\"Degree\",0.0174532925199433]],CS[ellipsoidal,2],AXIS[\"Longitude (lon)\",east,ORDER[1]],AXIS[\"Latitude (lat)\",north,ORDER[2]],ANGLEUNIT[\"Degree\",0.0174532925199433]]", "wkt": "GEOGCS[\"GCS_SIRGAS_2000\",DATUM[\"D_SIRGAS_2000\",SPHEROID[\"Geodetic_Reference_System_of_1980\",6378137.0,298.257222100892]],PRIMEM[\"Greenwich\",0.0],UNIT[\"Degree\",0.0174532925199433]]" } }, "sortableFields": "", "bandCount": 4, "pixelType": "U8", "minValues": [ 0, 0, 0, 0 ], "maxValues": [ 255, 255, 255, 255 ], "meanValues": [ 62.785057017726, 70.00227732566, 65.764785657927, 57.934372116954 ], "stdvValues": [ 48.680700366967, 52.565644907113, 49.507155303711, 67.151825512767 ], "serviceProperties": "Center<\/MosaicMethod>First<\/MosaicOperator>true<\/SortAscending><\/LockImageID><\/TileOrderField>0<\/TileOrderBase>0.000000<\/AvgImageSpacingX>0.000000<\/AvgImageSpacingY>0.0<\/ViewPointX>0.0<\/ViewPointY>0.0<\/ViewPointDefShiftX>0.0<\/ViewPointDefShiftY>None<\/CompressionMethod>75<\/CompressionQuality>0.010000<\/CompressionTolerance>Nearest<\/SamplingMethod><\/ImageServiceProperties><\/ImageServer>", "allowedFields": "", "hasMultidimensions": false, "pixelSizeX": 3.6683277372917662E-6, "pixelSizeY": 3.158023316793691E-6, "meanPixelSize": 0.37995296165845965, "datasetFormat": "TIFF", "uncompressedSize": 4287386592, "blockWidth": 25182, "blockHeight": 42, "compressionType": "None", "bandNames": [ "Band_1", "Band_2", "Band_3", "Band_4" ], "allowCopy": true, "allowAnalysis": true, "itemAccess": false, "inspectionCapabilities": "", "noDataValue": 2, "noDataValues": [ 2, 2, 2, 2 ], "minPixelSize": 0, "maxPixelSize": 0, "copyrightText": "Secretaria de Planejamento, Orçamento e Gestão-RS/Departamento de Planejamento Governamental", "serviceDataType": "esriImageServiceDataTypeGeneric", "serviceSourceType": "esriImageServiceSourceTypeDataset", "objectIdField": "", "fields": [], "capabilities": "Image,Metadata,Mensuration", "defaultMosaicMethod": "Center", "allowedMosaicMethods": "", "sortField": "", "sortValue": null, "sortAscending": true, "mosaicOperator": "First", "defaultCompressionQuality": 75, "defaultResamplingMethod": "Nearest", "maxImageHeight": 4100, "maxImageWidth": 15000, "allowRasterFunction": true, "rasterFunctionInfos": [ { "name": "None", "description": "Make a Raster or Raster Dataset into a Function Raster Dataset.", "help": "" }, { "name": "MI 3013-1-NO", "description": "Um modelo de função do raster.", "help": "" } ], "rasterTypeInfos": [ { "name": "Raster Dataset", "description": "Supports all ArcGIS Raster Datasets", "help": "" } ], "mensurationCapabilities": "Basic", "hasHistograms": true, "hasColormap": false, "hasRasterAttributeTable": false, "minScale": 0, "maxScale": 0, "exportTilesAllowed": false, "supportsStatistics": false, "supportsAdvancedQueries": false, "editFieldsInfo": null, "ownershipBasedAccessControlForRasters": null, "allowComputeTiePoints": false, "useStandardizedQueries": true, "advancedQueryCapabilities": { "useStandardizedQueries": true, "supportsStatistics": false, "supportsOrderBy": false, "supportsDistinct": false, "supportsPagination": false }, "spatialReference": { "wkt2": "GEOGCRS[\"GCS_SIRGAS_2000\",DATUM[\"D_SIRGAS_2000\",ELLIPSOID[\"Geodetic_Reference_System_of_1980\",6378137.0,298.257222100892,LENGTHUNIT[\"Meter\",1.0]]],PRIMEM[\"Greenwich\",0.0,ANGLEUNIT[\"Degree\",0.0174532925199433]],CS[ellipsoidal,2],AXIS[\"Longitude (lon)\",east,ORDER[1]],AXIS[\"Latitude (lat)\",north,ORDER[2]],ANGLEUNIT[\"Degree\",0.0174532925199433]]", "wkt": "GEOGCS[\"GCS_SIRGAS_2000\",DATUM[\"D_SIRGAS_2000\",SPHEROID[\"Geodetic_Reference_System_of_1980\",6378137.0,298.257222100892]],PRIMEM[\"Greenwich\",0.0],UNIT[\"Degree\",0.0174532925199433]]" } }