{
 "currentVersion": 11.5,
 "serviceDescription": "O Mapeamento Aerofotogramétrico Georreferenciado do CLUSTER 9 visa subsidiar ações e estratégias do Executivo, conforme eixos do Mapa Estratégico do RS",
 "serviceItemId": "ae39c15cdb1d41abae2fc0917ac437f7",
 "name": "RS_SEGURO/alvorada",
 "description": "O Mapeamento Aerofotogramétrico Georreferenciado do CLUSTER 9 visa subsidiar ações e estratégias do Executivo, conforme eixos do Mapa Estratégico do RS",
 "extent": {
  "xmin": -51.072817313555,
  "ymin": -30.009756379421002,
  "xmax": -51.035695425575,
  "ymax": -29.984224356371,
  "spatialReference": {
   "wkid": 4674,
   "latestWkid": 4674
  }
 },
 "initialExtent": {
  "xmin": -51.072817313555,
  "ymin": -30.009756379421002,
  "xmax": -51.035695425575,
  "ymax": -29.984224356371,
  "spatialReference": {
   "wkid": 4674,
   "latestWkid": 4674
  }
 },
 "fullExtent": {
  "xmin": -51.072817313555,
  "ymin": -30.009756379421002,
  "xmax": -51.035695425575,
  "ymax": -29.984224356371,
  "spatialReference": {
   "wkid": 4674,
   "latestWkid": 4674
  }
 },
 "sortableFields": "",
 "bandCount": 4,
 "pixelType": "S16",
 "minValues": [
  0,
  0,
  0,
  0
 ],
 "maxValues": [
  255,
  255,
  255,
  255
 ],
 "meanValues": [
  86.61615055617021,
  86.95938852145635,
  76.0556467453503,
  175.18569431719683
 ],
 "stdvValues": [
  81.24489664127722,
  77.7364710955235,
  73.04501020999494,
  118.24687969951235
 ],
 "serviceProperties": "Center<\/MosaicMethod>First<\/MosaicOperator>true<\/SortAscending><\/LockImageID><\/TileOrderField>0<\/TileOrderBase>0.000000<\/AvgImageSpacingX>0.000000<\/AvgImageSpacingY>0.0<\/ViewPointX>0.0<\/ViewPointY>0.0<\/ViewPointDefShiftX>0.0<\/ViewPointDefShiftY>None<\/CompressionMethod>75<\/CompressionQuality>0.010000<\/CompressionTolerance>Bilinear<\/SamplingMethod><\/ImageServiceProperties><\/ImageServer>",
 "allowedFields": "",
 "hasMultidimensions": false,
 "pixelSizeX": 2.831699999999978E-7,
 "pixelSizeY": 2.831700000000125E-7,
 "meanPixelSize": 0.03152234020793185,
 "datasetFormat": "GRID Stack 7.x",
 "uncompressedSize": 94560724080,
 "blockWidth": 256,
 "blockHeight": 16,
 "compressionType": "None",
 "bandNames": [
  "alvoradac1",
  "alvoradac2",
  "alvoradac3",
  "alvoradac4"
 ],
 "allowCopy": true,
 "allowAnalysis": true,
 "itemAccess": false,
 "inspectionCapabilities": "",
 "noDataValue": 0,
 "noDataValues": [
  0,
  0,
  -32768,
  0
 ],
 "minPixelSize": 0,
 "maxPixelSize": 0,
 "copyrightText": "RSSEGURO",
 "serviceDataType": "esriImageServiceDataTypeGeneric",
 "serviceSourceType": "esriImageServiceSourceTypeDataset",
 "objectIdField": "",
 "fields": [],
 "capabilities": "Mensuration,Image,Metadata",
 "defaultMosaicMethod": "Center",
 "allowedMosaicMethods": "",
 "sortField": "",
 "sortValue": null,
 "sortAscending": true,
 "mosaicOperator": "First",
 "defaultCompressionQuality": 75,
 "defaultResamplingMethod": "Bilinear",
 "maxImageHeight": 4100,
 "maxImageWidth": 15000,
 "allowRasterFunction": true,
 "rasterFunctionInfos": [
  {
   "name": "None",
   "description": "",
   "help": ""
  }
 ],
 "rasterTypeInfos": [
  {
   "name": "Raster Dataset",
   "description": "Supports all ArcGIS Raster Datasets",
   "help": ""
  }
 ],
 "mensurationCapabilities": "Basic",
 "hasHistograms": true,
 "hasColormap": false,
 "hasRasterAttributeTable": false,
 "minScale": 0,
 "maxScale": 0,
 "exportTilesAllowed": false,
 "supportsStatistics": false,
 "supportsAdvancedQueries": false,
 "editFieldsInfo": null,
 "ownershipBasedAccessControlForRasters": null,
 "allowComputeTiePoints": false,
 "useStandardizedQueries": true,
 "advancedQueryCapabilities": {
  "useStandardizedQueries": true,
  "supportsStatistics": false,
  "supportsOrderBy": false,
  "supportsDistinct": false,
  "supportsPagination": false
 },
 "spatialReference": {
  "wkid": 4674,
  "latestWkid": 4674
 },
 "resampling": false
}
