<?xml version="1.0" encoding="UTF-8" standalone="no"?>
<metadata xml:lang="pt">
<Esri>
<CreaDate>20241119</CreaDate>
<CreaTime>16190200</CreaTime>
<ArcGISFormat>1.0</ArcGISFormat>
<SyncOnce>FALSE</SyncOnce>
<DataProperties>
<itemProps>
<itemName Sync="TRUE">ATLASHIDRO_ANADEM.tif</itemName>
<itemLocation>
<linkage Sync="TRUE">file://\\iedefs.pro.intra.rs.gov.br\IEDE\IMGSRV\SEMA\ATLASHIDRO_ANADEM.tif</linkage>
<protocol Sync="TRUE">Local Area Network</protocol>
</itemLocation>
<imsContentType Sync="TRUE">002</imsContentType>
<nativeExtBox>
<westBL Sync="TRUE">-57.650012</westBL>
<eastBL Sync="TRUE">-49.691298</eastBL>
<southBL Sync="TRUE">-33.751232</southBL>
<northBL Sync="TRUE">-27.082050</northBL>
<exTypeCode Sync="TRUE">1</exTypeCode>
</nativeExtBox>
</itemProps>
<coordRef>
<type Sync="TRUE">Geographic</type>
<geogcsn Sync="TRUE">GCS_SIRGAS_2000</geogcsn>
<csUnits Sync="TRUE">Angular Unit: Degree (0.017453)</csUnits>
<peXml Sync="TRUE">&lt;GeographicCoordinateSystem xsi:type='typens:GeographicCoordinateSystem' xmlns:xsi='http://www.w3.org/2001/XMLSchema-instance' xmlns:xs='http://www.w3.org/2001/XMLSchema' xmlns:typens='http://www.esri.com/schemas/ArcGIS/3.3.0'&gt;&lt;WKT&gt;GEOGCS[&amp;quot;GCS_SIRGAS_2000&amp;quot;,DATUM[&amp;quot;D_SIRGAS_2000&amp;quot;,SPHEROID[&amp;quot;GRS_1980&amp;quot;,6378137.0,298.257222101]],PRIMEM[&amp;quot;Greenwich&amp;quot;,0.0],UNIT[&amp;quot;Degree&amp;quot;,0.0174532925199433],AUTHORITY[&amp;quot;EPSG&amp;quot;,4674]]&lt;/WKT&gt;&lt;XOrigin&gt;-400&lt;/XOrigin&gt;&lt;YOrigin&gt;-400&lt;/YOrigin&gt;&lt;XYScale&gt;11258999068426.238&lt;/XYScale&gt;&lt;ZOrigin&gt;-100000&lt;/ZOrigin&gt;&lt;ZScale&gt;10000&lt;/ZScale&gt;&lt;MOrigin&gt;-100000&lt;/MOrigin&gt;&lt;MScale&gt;10000&lt;/MScale&gt;&lt;XYTolerance&gt;8.983152841195215e-09&lt;/XYTolerance&gt;&lt;ZTolerance&gt;0.001&lt;/ZTolerance&gt;&lt;MTolerance&gt;0.001&lt;/MTolerance&gt;&lt;HighPrecision&gt;true&lt;/HighPrecision&gt;&lt;LeftLongitude&gt;-180&lt;/LeftLongitude&gt;&lt;WKID&gt;4674&lt;/WKID&gt;&lt;LatestWKID&gt;4674&lt;/LatestWKID&gt;&lt;/GeographicCoordinateSystem&gt;</peXml>
</coordRef>
<RasterProperties>
<General>
<PixelDepth Sync="TRUE">32</PixelDepth>
<HasColormap Sync="TRUE">FALSE</HasColormap>
<CompressionType Sync="TRUE">None</CompressionType>
<NumBands Sync="TRUE">1</NumBands>
<Format Sync="TRUE">TIFF</Format>
<HasPyramids Sync="TRUE">TRUE</HasPyramids>
<SourceType Sync="TRUE">continuous</SourceType>
<PixelType Sync="TRUE">floating point</PixelType>
<NoDataValue Sync="TRUE">-3.4028231e+38</NoDataValue>
</General>
</RasterProperties>
</DataProperties>
<SyncDate>20241119</SyncDate>
<SyncTime>16190200</SyncTime>
<ModDate>20241119</ModDate>
<ModTime>16190200</ModTime>
</Esri>
<mdFileID>96FF655D-549C-44EA-8716-38B98B9A0099</mdFileID>
<mdLang>
<languageCode value="por"/>
<countryCode Sync="TRUE" value="BRA"/>
</mdLang>
<mdChar>
<CharSetCd value="004"/>
</mdChar>
<mdHrLv>
<ScopeCd value="005"/>
</mdHrLv>
<mdContact>
<rpIndName>Eberson José Thimmig Silveira</rpIndName>
<rpOrgName>Secretaria do Meio Ambiente e Infraestrutura - SEMA</rpOrgName>
<rpPosName>Assessor técnico</rpPosName>
<rpCntInfo>
<cntPhone>
<voiceNum>(51) 3288-7497</voiceNum>
</cntPhone>
<cntAddress>
<eMailAdd>eberson-silveira@sema.rs.gov.br</eMailAdd>
</cntAddress>
</rpCntInfo>
<role>
<RoleCd value="007"/>
</role>
</mdContact>
<mdDateSt>20241119</mdDateSt>
<mdStanName>ArcGIS Metadata</mdStanName>
<mdStanVer>1.0</mdStanVer>
<distInfo>
<distFormat>
<formatName>File Geodatabase Raster Dataset</formatName>
</distFormat>
</distInfo>
<dataIdInfo>
<idCitation>
<resTitle>ATLASHIDRO_ANADEM</resTitle>
<date>
<reviseDate>2024-11-05</reviseDate>
</date>
<citRespParty>
<rpIndName>Eberson José Thimmig Silveira</rpIndName>
<rpOrgName>Secretaria do Meio Ambiente e Infraestrutura - SEMA</rpOrgName>
<rpPosName>Assessor técnico</rpPosName>
<rpCntInfo>
<cntPhone>
<voiceNum>(51) 3288-7497</voiceNum>
</cntPhone>
<cntAddress>
<eMailAdd>eberson-silveira@sema.rs.gov.br</eMailAdd>
</cntAddress>
</rpCntInfo>
<role>
<RoleCd value="007"/>
</role>
</citRespParty>
<presForm>
<PresFormCd value="011"/>
</presForm>
</idCitation>
<idAbs>O ANADEM é um modelo digital do terreno (MDT) com remoção de viés causado pela vegetação no modelo digital de elevação (MDE) Copernicus GLO-30. Com resolução espacial de 30 metros, e disponível para toda a América do Sul, o produto foi desenvolvido pelo Instituto de Pesquisas Hidráulicas (IPH) da UFRGS em parceria com a Agência Nacional de Águas e Saneamento Básico (ANA) através de termo de cooperação. (https://www.ufrgs.br/hge/anadem-modelo-digital-de-terreno-mdt/).</idAbs>
<idPurp>Modelo Digital de Terreno ANADEM, atualmente na versão 1.0, com resolução espacial de 30 metros.</idPurp>
<idCredit>Agência Nacional de Águas (ANA) e Instituto de Pesquisas Hidráulicas (IPH)</idCredit>
<idPoC>
<rpIndName>Eberson José Thimmig Silveira</rpIndName>
<rpOrgName>Secretaria do Meio Ambiente e Infraestrutura - SEMA</rpOrgName>
<rpPosName>Assessor técnico</rpPosName>
<rpCntInfo>
<cntPhone>
<voiceNum>(51) 3288-7497</voiceNum>
</cntPhone>
<cntAddress>
<eMailAdd>eberson-silveira@sema.rs.gov.br</eMailAdd>
</cntAddress>
</rpCntInfo>
<role>
<RoleCd value="007"/>
</role>
</idPoC>
<resMaint>
<maintFreq>
<MaintFreqCd value="011"/>
</maintFreq>
</resMaint>
<spatRpType>
<SpatRepTypCd value="002"/>
</spatRpType>
<dataScale>
<scaleDist>
<value uom="m">30</value>
</scaleDist>
</dataScale>
<dataLang>
<languageCode value="por"/>
<countryCode Sync="TRUE" value="BRA"/>
</dataLang>
<dataChar>
<CharSetCd value="004"/>
</dataChar>
<tpCat>
<TopicCatCd value="006"/>
</tpCat>
<tpCat>
<TopicCatCd value="010"/>
</tpCat>
<envirDesc> Version 6.2 (Build 9200) ; Esri ArcGIS 10.8.1.14362</envirDesc>
<dataExt>
<geoEle>
<GeoBndBox>
<exTypeCode>true</exTypeCode>
<westBL>-57.648682</westBL>
<eastBL>-49.691534</eastBL>
<southBL>-33.751082</southBL>
<northBL>-27.082302</northBL>
</GeoBndBox>
</geoEle>
</dataExt>
<dataExt>
<geoEle>
<GeoBndBox>
<exTypeCode>true</exTypeCode>
<westBL>-57.650012</westBL>
<eastBL>-49.691298</eastBL>
<southBL>-33.751232</southBL>
<northBL>-27.08205</northBL>
</GeoBndBox>
</geoEle>
</dataExt>
<dataExt>
<geoEle>
<GeoBndBox esriExtentType="search">
<exTypeCode Sync="TRUE">1</exTypeCode>
<westBL Sync="TRUE">-57.650012</westBL>
<eastBL Sync="TRUE">-49.691298</eastBL>
<northBL Sync="TRUE">-27.082050</northBL>
<southBL Sync="TRUE">-33.751232</southBL>
</GeoBndBox>
</geoEle>
</dataExt>
<searchKeys>
<keyword>atlas hidroenergético</keyword>
<keyword>sema</keyword>
<keyword>departamento de energia</keyword>
<keyword>de</keyword>
<keyword>mde</keyword>
</searchKeys>
<resConst>
<Consts>
<useLimit/>
</Consts>
</resConst>
</dataIdInfo>
<mdMaint>
<maintFreq>
<MaintFreqCd value="011"/>
</maintFreq>
</mdMaint>
<dqInfo>
<dqScope>
<scpLvl>
<ScopeCd value="005"/>
</scpLvl>
</dqScope>
<dataLineage>
<statement>Arquivo obtido a partir do recorte do Modelo Digital de Terreno (MDT) ANADEM para o estado do Rio Grande do Sul, disponível no catálogo de metadados da ANA.</statement>
</dataLineage>
</dqInfo>
<spatRepInfo>
<GridSpatRep>
</GridSpatRep>
<Georect>
<cellGeo>
<CellGeoCd Sync="TRUE" value="002"/>
</cellGeo>
<numDims Sync="TRUE">2</numDims>
<tranParaAv Sync="TRUE">1</tranParaAv>
<chkPtAv Sync="TRUE">0</chkPtAv>
<cornerPts>
<pos Sync="TRUE">-57.650012 -33.751232</pos>
</cornerPts>
<cornerPts>
<pos Sync="TRUE">-57.650012 -27.082050</pos>
</cornerPts>
<cornerPts>
<pos Sync="TRUE">-49.691298 -27.082050</pos>
</cornerPts>
<cornerPts>
<pos Sync="TRUE">-49.691298 -33.751232</pos>
</cornerPts>
<centerPt>
<pos Sync="TRUE">-53.670655 -30.416641</pos>
</centerPt>
<axisDimension type="002">
<dimSize Sync="TRUE">29532</dimSize>
<dimResol>
<value Sync="TRUE" uom="deg">0.000269</value>
</dimResol>
</axisDimension>
<axisDimension type="001">
<dimSize Sync="TRUE">24747</dimSize>
<dimResol>
<value Sync="TRUE" uom="deg">0.000269</value>
</dimResol>
</axisDimension>
<ptInPixel>
<PixOrientCd Sync="TRUE" value="001"/>
</ptInPixel>
</Georect>
</spatRepInfo>
<refSysInfo>
<RefSystem>
<refSysID>
<identCode code="4674"/>
<idCodeSpace>EPSG</idCodeSpace>
<identVrsn>6.11(9.2.0)</identVrsn>
<idVersion Sync="TRUE">6.11(9.2.0)</idVersion>
</refSysID>
</RefSystem>
</refSysInfo>
<mdHrLvName Sync="TRUE">dataset</mdHrLvName>
<contInfo>
<ImgDesc>
<contentTyp>
<ContentTypCd Sync="TRUE" value="001"/>
</contentTyp>
<covDim>
<Band>
<dimDescrp Sync="TRUE">Band_1</dimDescrp>
<maxVal Sync="TRUE">1383.310059</maxVal>
<minVal Sync="TRUE">-3.400000</minVal>
<bitsPerVal Sync="TRUE">32</bitsPerVal>
<valUnit>
<UOM type="length"/>
</valUnit>
</Band>
</covDim>
</ImgDesc>
</contInfo>
</metadata>
