{
 "currentVersion": 11.5,
 "serviceDescription": "O ANADEM é um modelo digital do terreno (MDT) com remoção de viés causado pela vegetação no modelo digital de elevação (MDE) Copernicus GLO-30. Com resolução espacial de 30 metros, e disponível para toda a América do Sul, o produto foi desenvolvido pelo Instituto de Pesquisas Hidráulicas (IPH) da UFRGS em parceria com a Agência Nacional de Águas e Saneamento Básico (ANA) através de termo de cooperação. (https://www.ufrgs.br/hge/anadem-modelo-digital-de-terreno-mdt/).",
 "serviceItemId": "350c09a26ac24590965876a58b77879f",
 "name": "SEMA/ATLASHIDRO_ANADEM",
 "description": "O ANADEM é um modelo digital do terreno (MDT) com remoção de viés causado pela vegetação no modelo digital de elevação (MDE) Copernicus GLO-30. Com resolução espacial de 30 metros, e disponível para toda a América do Sul, o produto foi desenvolvido pelo Instituto de Pesquisas Hidráulicas (IPH) da UFRGS em parceria com a Agência Nacional de Águas e Saneamento Básico (ANA) através de termo de cooperação. (https://www.ufrgs.br/hge/anadem-modelo-digital-de-terreno-mdt/).",
 "extent": {
  "xmin": -57.650012179536006,
  "ymin": -33.751232355076,
  "xmax": -49.69129809531601,
  "ymax": -27.082049860081,
  "spatialReference": {
   "wkid": 4674,
   "latestWkid": 4674
  }
 },
 "initialExtent": {
  "xmin": -57.650012179536006,
  "ymin": -33.751232355076,
  "xmax": -49.69129809531601,
  "ymax": -27.082049860081,
  "spatialReference": {
   "wkid": 4674,
   "latestWkid": 4674
  }
 },
 "fullExtent": {
  "xmin": -57.650012179536006,
  "ymin": -33.751232355076,
  "xmax": -49.69129809531601,
  "ymax": -27.082049860081,
  "spatialReference": {
   "wkid": 4674,
   "latestWkid": 4674
  }
 },
 "sortableFields": "",
 "bandCount": 1,
 "pixelType": "F32",
 "minValues": [
  -3.4000000953674
 ],
 "maxValues": [
  1383.3100585938
 ],
 "meanValues": [
  283.48639007342
 ],
 "stdvValues": [
  253.28395270109
 ],
 "serviceProperties": "Center<\/MosaicMethod>First<\/MosaicOperator>true<\/SortAscending><\/LockImageID><\/TileOrderField>0<\/TileOrderBase>0.000000<\/AvgImageSpacingX>0.000000<\/AvgImageSpacingY>0.0<\/ViewPointX>0.0<\/ViewPointY>0.0<\/ViewPointDefShiftX>0.0<\/ViewPointDefShiftY>None<\/CompressionMethod>75<\/CompressionQuality>0.010000<\/CompressionTolerance>Bilinear<\/SamplingMethod><\/ImageServiceProperties><\/ImageServer>",
 "allowedFields": "",
 "hasMultidimensions": false,
 "pixelSizeX": 2.6949458499999994E-4,
 "pixelSizeY": 2.6949458499999994E-4,
 "meanPixelSize": 29.999999973744575,
 "datasetFormat": "TIFF",
 "uncompressedSize": 2923313616,
 "blockWidth": 128,
 "blockHeight": 128,
 "compressionType": "None",
 "bandNames": [
  "Band_1"
 ],
 "allowCopy": true,
 "allowAnalysis": true,
 "itemAccess": false,
 "inspectionCapabilities": "",
 "noDataValue": -3.4028230607370965E38,
 "noDataValues": [
  -3.4028230607370965E38
 ],
 "minPixelSize": 0,
 "maxPixelSize": 0,
 "copyrightText": "Agência Nacional de Águas (ANA) e Instituto de Pesquisas Hidráulicas (IPH)",
 "serviceDataType": "esriImageServiceDataTypeGeneric",
 "serviceSourceType": "esriImageServiceSourceTypeDataset",
 "objectIdField": "",
 "fields": [],
 "capabilities": "Image,Metadata,Mensuration",
 "defaultMosaicMethod": "Center",
 "allowedMosaicMethods": "",
 "sortField": "",
 "sortValue": null,
 "sortAscending": true,
 "mosaicOperator": "First",
 "defaultCompressionQuality": 75,
 "defaultResamplingMethod": "Bilinear",
 "maxImageHeight": 4100,
 "maxImageWidth": 15000,
 "allowRasterFunction": true,
 "rasterFunctionInfos": [
  {
   "name": "None",
   "description": "",
   "help": ""
  }
 ],
 "rasterTypeInfos": [
  {
   "name": "Raster Dataset",
   "description": "Supports all ArcGIS Raster Datasets",
   "help": ""
  }
 ],
 "mensurationCapabilities": "Basic",
 "hasHistograms": true,
 "hasColormap": false,
 "hasRasterAttributeTable": false,
 "minScale": 0,
 "maxScale": 0,
 "exportTilesAllowed": false,
 "supportsStatistics": false,
 "supportsAdvancedQueries": false,
 "editFieldsInfo": null,
 "ownershipBasedAccessControlForRasters": null,
 "allowComputeTiePoints": false,
 "useStandardizedQueries": true,
 "advancedQueryCapabilities": {
  "useStandardizedQueries": true,
  "supportsStatistics": false,
  "supportsOrderBy": false,
  "supportsDistinct": false,
  "supportsPagination": false
 },
 "spatialReference": {
  "wkid": 4674,
  "latestWkid": 4674
 }
}
