View In:
ArcGIS JavaScript
ArcGIS Online Map Viewer
ArcGIS Earth
Service Description: Base cartográfica digital da Região Funcional 1 com geoinformações atualizadas, compatível à escala de 1:25.000, com Padrão de Exatidão Cartográfica (PEC) Classe A, a partir de ortoimagens digitais com resolução espacial de 35cm, datadas de 2019, contemplando classes das seguintes categorias de informação: Agricultura, Biota, Limites, Ciências Atmosféricas, Economia, Elevação, Ambiente, Geocientífico, Saúde, Imagens e Mapas Base, Exército & Inteligência, Águas Interiores, Local, Planejamento e Cadastro, Sociedade, Estrutura, Transporte, Utilitários e Comunicação. Foram geradas 174 cartas topográficas, 174 conjunto de dados geoespaciais vetoriais (CDGV) e uma base contínua vetorial, atendendo às seguintes normas técnicas da Infraestrutura Nacional de Dados Espaciais (INDE): Especificação Técnica para Estruturação de Dados Geoespaciais Vetoriais (ET-EDGV), Especificação Técnica para Aquisição de Dados Geoespaciais Vetoriais (ET-ADGV), Especificação Técnica para Produtos de Conjuntos de Dados Geoespaciais (ET-PCDG) e Especificação Técnica para Controle de Qualidade de Dados Geoespaciais (ET-CQDG).
Name: CARTAS_BASE25/Carta_Topo_MI_2955_3_SE
Description: Base cartográfica digital da Região Funcional 1 com geoinformações atualizadas, compatível à escala de 1:25.000, com Padrão de Exatidão Cartográfica (PEC) Classe A, a partir de ortoimagens digitais com resolução espacial de 35cm, datadas de 2019, contemplando classes das seguintes categorias de informação: Agricultura, Biota, Limites, Ciências Atmosféricas, Economia, Elevação, Ambiente, Geocientífico, Saúde, Imagens e Mapas Base, Exército & Inteligência, Águas Interiores, Local, Planejamento e Cadastro, Sociedade, Estrutura, Transporte, Utilitários e Comunicação. Foram geradas 174 cartas topográficas, 174 conjunto de dados geoespaciais vetoriais (CDGV) e uma base contínua vetorial, atendendo às seguintes normas técnicas da Infraestrutura Nacional de Dados Espaciais (INDE): Especificação Técnica para Estruturação de Dados Geoespaciais Vetoriais (ET-EDGV), Especificação Técnica para Aquisição de Dados Geoespaciais Vetoriais (ET-ADGV), Especificação Técnica para Produtos de Conjuntos de Dados Geoespaciais (ET-PCDG) e Especificação Técnica para Controle de Qualidade de Dados Geoespaciais (ET-CQDG).
Single Fused Map Cache: false
Extent:
XMin: -50.426933776953
YMin: -29.51012629128115
XMax: -50.19860172863009
YMax: -29.35771565929395
Spatial Reference: 4674
(4674)
LatestVCSWkid(0)
Initial Extent:
XMin: -50.426933776953
YMin: -29.51012629128115
XMax: -50.19860172863009
YMax: -29.35771565929395
Spatial Reference: 4674
(4674)
LatestVCSWkid(0)
Full Extent:
XMin: -50.426933776953
YMin: -29.51012629128115
XMax: -50.19860172863009
YMax: -29.35771565929395
Spatial Reference: 4674
(4674)
LatestVCSWkid(0)
Pixel Size X: 1.6366715527411073E-5
Pixel Size Y: 1.4327000562812397E-5
Band Count: 3
Pixel Type: U8
RasterFunction Infos: {"rasterFunctionInfos": [{
"name": "None",
"description": "",
"help": ""
}]}
Mensuration Capabilities: Basic
Inspection Capabilities:
Has Histograms: true
Has Colormap: false
Has Multi Dimensions : false
Rendering Rule:
Min Scale: 0
Max Scale: 0
Copyright Text: Governo do Estado do Rio Grande do Sul - Secretaria de Planejamento, Governança e Gestão; Exército Brasileiro - Diretoria de Serviço Geográfico - 1° Centro de Geoinformação
Service Data Type: esriImageServiceDataTypeRGB
Min Values: 0, 0, 0
Max Values: 255, 255, 255
Mean Values: 220.48554796631, 233.52321406833, 219.89118233477
Standard Deviation Values: 60.373559299982, 52.290475814721, 62.045532819196
Object ID Field:
Fields:
None
Default Mosaic Method: Center
Allowed Mosaic Methods:
SortField:
SortValue: null
Mosaic Operator: First
Default Compression Quality: 75
Default Resampling Method: Nearest
Max Record Count: null
Max Image Height: 4100
Max Image Width: 15000
Max Download Image Count: null
Max Mosaic Image Count: null
Allow Raster Function: true
Allow Copy: true
Allow Analysis: true
Allow Compute TiePoints: false
Supports Statistics: false
Supports Advanced Queries: false
Use StandardizedQueries: true
Raster Type Infos:
Name: Raster Dataset
Description: Supports all ArcGIS Raster Datasets
Help:
Has Raster Attribute Table: false
Edit Fields Info: null
Ownership Based AccessControl For Rasters: null
Child Resources:
Info
Histograms
Statistics
Key Properties
Legend
Raster Function Infos
Supported Operations:
Export Image
Identify
Measure
Compute Histograms
Compute Statistics Histograms
Get Samples
Compute Class Statistics
Query Boundary
Compute Pixel Location
Compute Angles
Validate
Project