View In:
ArcGIS JavaScript
ArcGIS Online Map Viewer
ArcGIS Earth
Service Description: Base histórica matricial 1:50.000 do Rio Grande do Sul da década de 1970.
Name: CARTAS_BASE50/2947-2
Description: Base histórica matricial 1:50.000 do Rio Grande do Sul da década de 1970.
Single Fused Map Cache: false
Extent:
XMin: -54.27265971902013
YMin: -29.315591851016723
XMax: -53.97755392428194
YMax: -28.978683122503984
Spatial Reference: 0
(0)
LatestVCSWkid(0)
Initial Extent:
XMin: -54.27265971902013
YMin: -29.315591851016723
XMax: -53.97755392428194
YMax: -28.978683122503984
Spatial Reference: 0
(0)
LatestVCSWkid(0)
Full Extent:
XMin: -54.27265971902013
YMin: -29.315591851016723
XMax: -53.97755392428194
YMax: -28.978683122503984
Spatial Reference: 0
(0)
LatestVCSWkid(0)
Pixel Size X: 4.3449027493844404E-5
Pixel Size Y: 3.8142050097672276E-5
Band Count: 3
Pixel Type: U8
RasterFunction Infos: {"rasterFunctionInfos": [{
"name": "None",
"description": "",
"help": ""
}]}
Mensuration Capabilities: Basic
Inspection Capabilities:
Has Histograms: false
Has Colormap: false
Has Multi Dimensions : false
Rendering Rule:
Min Scale: 0
Max Scale: 0
Copyright Text: Exército Brasileiro - Diretoria de Serviço Geográfico - 1º Centro de Geoinformação
Service Data Type: esriImageServiceDataTypeThematic
Min Values: N/A
Max Values: N/A
Mean Values: N/A
Standard Deviation Values: N/A
Object ID Field:
Fields:
None
Default Mosaic Method: Center
Allowed Mosaic Methods:
SortField:
SortValue: null
Mosaic Operator: First
Default Compression Quality: 75
Default Resampling Method: Nearest
Max Record Count: null
Max Image Height: 4100
Max Image Width: 15000
Max Download Image Count: null
Max Mosaic Image Count: null
Allow Raster Function: true
Allow Copy: true
Allow Analysis: true
Allow Compute TiePoints: false
Supports Statistics: false
Supports Advanced Queries: false
Use StandardizedQueries: true
Raster Type Infos:
Name: Raster Dataset
Description: Supports all ArcGIS Raster Datasets
Help:
Has Raster Attribute Table: false
Edit Fields Info: null
Ownership Based AccessControl For Rasters: null
Child Resources:
Info
Statistics
Key Properties
Legend
Raster Function Infos
Supported Operations:
Export Image
Identify
Measure
Compute Histograms
Compute Statistics Histograms
Get Samples
Compute Class Statistics
Query Boundary
Compute Pixel Location
Compute Angles
Validate
Project