View In:
ArcGIS JavaScript
ArcGIS Online Map Viewer
ArcGIS Earth
Service Description: Elaboração de base cartográfica digital da região RF-1, através da geração dos produtos de Ortoimagem Digital, Feições de Hidrografia, MDE e Curvas de Nível, visando a obtenção de informações geográficas atualizadas compatível a escala de 1:25.000.
Name: ORTOIMG_RF1/Ortoimagem_MI_2987_2_NO
Description: Elaboração de base cartográfica digital da região RF-1, através da geração dos produtos de Ortoimagem Digital, Feições de Hidrografia, MDE e Curvas de Nível, visando a obtenção de informações geográficas atualizadas compatível a escala de 1:25.000.
Single Fused Map Cache: false
Extent:
XMin: -51.26038167023675
YMin: -30.13550845149847
XMax: -51.11472437436092
YMax: -29.98944039129303
Spatial Reference: 4674
(4674)
LatestVCSWkid(0)
Initial Extent:
XMin: -51.26038167023675
YMin: -30.13550845149847
XMax: -51.11472437436092
YMax: -29.98944039129303
Spatial Reference: 4674
(4674)
LatestVCSWkid(0)
Full Extent:
XMin: -51.26038167023675
YMin: -30.13550845149847
XMax: -51.11472437436092
YMax: -29.98944039129303
Spatial Reference: 4674
(4674)
LatestVCSWkid(0)
Pixel Size X: 3.6311743294151186E-6
Pixel Size Y: 3.1585697957712243E-6
Band Count: 4
Pixel Type: U8
RasterFunction Infos: {"rasterFunctionInfos": [
{
"name": "None",
"description": "Make a Raster or Raster Dataset into a Function Raster Dataset.",
"help": ""
},
{
"name": "MI 2987-2-NO",
"description": "Um modelo de função do raster.",
"help": ""
}
]}
Mensuration Capabilities: Basic
Inspection Capabilities:
Has Histograms: true
Has Colormap: false
Has Multi Dimensions : false
Rendering Rule:
Min Scale: 0
Max Scale: 0
Copyright Text: Secretaria de Planejamento, Orçamento e Gestão-RS/Departamento de Planejamento Governamental
Service Data Type: esriImageServiceDataTypeGeneric
Min Values: 1, 1, 1, 1
Max Values: 255, 255, 255, 255
Mean Values: 77.826274760787, 81.736812373555, 81.369147396539, 98.164090649305
Standard Deviation Values: 40.326270553622, 36.440112018318, 35.059012117085, 41.682655721869
Object ID Field:
Fields:
None
Default Mosaic Method: Center
Allowed Mosaic Methods:
SortField:
SortValue: null
Mosaic Operator: First
Default Compression Quality: 75
Default Resampling Method: Nearest
Max Record Count: null
Max Image Height: 4100
Max Image Width: 15000
Max Download Image Count: null
Max Mosaic Image Count: null
Allow Raster Function: true
Allow Copy: true
Allow Analysis: true
Allow Compute TiePoints: false
Supports Statistics: false
Supports Advanced Queries: false
Use StandardizedQueries: true
Raster Type Infos:
Name: Raster Dataset
Description: Supports all ArcGIS Raster Datasets
Help:
Has Raster Attribute Table: false
Edit Fields Info: null
Ownership Based AccessControl For Rasters: null
Child Resources:
Info
Histograms
Statistics
Key Properties
Legend
Raster Function Infos
Supported Operations:
Export Image
Identify
Measure
Compute Histograms
Compute Statistics Histograms
Get Samples
Compute Class Statistics
Query Boundary
Compute Pixel Location
Compute Angles
Validate
Project