View In:
ArcGIS JavaScript
ArcGIS Online Map Viewer
ArcGIS Earth
Service Description: Elaboração da base cartográfica digital da RF-1, atrave´s da geração dos produtos de Ortoimagem Digital, Feições de Hidrografia, MDE e Curvas de Nível, visando a obtenção de informações geográficas atualizadas compatível à escala de 1:25.000
Name: ORTOIMG_RF1/Ortoimagem_MI_2952_4_NE
Description: Elaboração da base cartográfica digital da RF-1, atrave´s da geração dos produtos de Ortoimagem Digital, Feições de Hidrografia, MDE e Curvas de Nível, visando a obtenção de informações geográficas atualizadas compatível à escala de 1:25.000
Single Fused Map Cache: false
Extent:
XMin: -51.645666245608275
YMin: -29.38459119658676
XMax: -51.4896187963636
YMax: -29.231328218605743
Spatial Reference: 4674
(4674)
LatestVCSWkid(0)
Initial Extent:
XMin: -51.645666245608275
YMin: -29.38459119658676
XMax: -51.4896187963636
YMax: -29.231328218605743
Spatial Reference: 4674
(4674)
LatestVCSWkid(0)
Full Extent:
XMin: -51.645666245608275
YMin: -29.38459119658676
XMax: -51.4896187963636
YMax: -29.231328218605743
Spatial Reference: 4674
(4674)
LatestVCSWkid(0)
Pixel Size X: 3.604033656165975E-6
Pixel Size Y: 3.1588239242568607E-6
Band Count: 4
Pixel Type: U8
RasterFunction Infos: {"rasterFunctionInfos": [
{
"name": "None",
"description": "Make a Raster or Raster Dataset into a Function Raster Dataset.",
"help": ""
},
{
"name": "MI 2952-4-NE",
"description": "Um modelo de função do raster.",
"help": ""
}
]}
Mensuration Capabilities: Basic
Inspection Capabilities:
Has Histograms: false
Has Colormap: false
Has Multi Dimensions : false
Rendering Rule:
Min Scale: 0
Max Scale: 0
Copyright Text: Secretaria de Planejamento Orçamento e Gestão-RS/Departamento de Planejamento Governamental
Service Data Type: esriImageServiceDataTypeGeneric
Min Values: N/A
Max Values: N/A
Mean Values: N/A
Standard Deviation Values: N/A
Object ID Field:
Fields:
None
Default Mosaic Method: Center
Allowed Mosaic Methods:
SortField:
SortValue: null
Mosaic Operator: First
Default Compression Quality: 75
Default Resampling Method: Nearest
Max Record Count: null
Max Image Height: 4100
Max Image Width: 15000
Max Download Image Count: null
Max Mosaic Image Count: null
Allow Raster Function: true
Allow Copy: true
Allow Analysis: true
Allow Compute TiePoints: false
Supports Statistics: false
Supports Advanced Queries: false
Use StandardizedQueries: true
Raster Type Infos:
Name: Raster Dataset
Description: Supports all ArcGIS Raster Datasets
Help:
Has Raster Attribute Table: false
Edit Fields Info: null
Ownership Based AccessControl For Rasters: null
Child Resources:
Info
Statistics
Key Properties
Legend
Raster Function Infos
Supported Operations:
Export Image
Identify
Measure
Compute Histograms
Compute Statistics Histograms
Get Samples
Compute Class Statistics
Query Boundary
Compute Pixel Location
Compute Angles
Validate
Project