View In:
ArcGIS JavaScript
ArcGIS Online Map Viewer
ArcGIS Earth
Service Description: Elaboração de base cartográfica digital da região RF-1, através da geração dos produtos de Ortoimagem Digital, Feições de Hidrografia, MDE e Curvas de Nível, visando a obtenção de informações geográficas atualizadas compatível a escala de 1:25.000.
Name: ORTOIMG_RF1/Ortoimagem_MI_3013_1_NO
Description: Elaboração de base cartográfica digital da região RF-1, através da geração dos produtos de Ortoimagem Digital, Feições de Hidrografia, MDE e Curvas de Nível, visando a obtenção de informações geográficas atualizadas compatível a escala de 1:25.000.
Single Fused Map Cache: false
Extent:
XMin: -51.511227097444305
YMin: -31.12438023988972
XMax: -51.418851268363824
YMax: -30.989962135433714
Spatial Reference: 0
(0)
LatestVCSWkid(0)
Initial Extent:
XMin: -51.511227097444305
YMin: -31.12438023988972
XMax: -51.418851268363824
YMax: -30.989962135433714
Spatial Reference: 0
(0)
LatestVCSWkid(0)
Full Extent:
XMin: -51.511227097444305
YMin: -31.12438023988972
XMax: -51.418851268363824
YMax: -30.989962135433714
Spatial Reference: 0
(0)
LatestVCSWkid(0)
Pixel Size X: 3.6683277372917662E-6
Pixel Size Y: 3.158023316793691E-6
Band Count: 4
Pixel Type: U8
RasterFunction Infos: {"rasterFunctionInfos": [
{
"name": "None",
"description": "Make a Raster or Raster Dataset into a Function Raster Dataset.",
"help": ""
},
{
"name": "MI 3013-1-NO",
"description": "Um modelo de função do raster.",
"help": ""
}
]}
Mensuration Capabilities: Basic
Inspection Capabilities:
Has Histograms: true
Has Colormap: false
Has Multi Dimensions : false
Rendering Rule:
Min Scale: 0
Max Scale: 0
Copyright Text: Secretaria de Planejamento, Orçamento e Gestão-RS/Departamento de Planejamento Governamental
Service Data Type: esriImageServiceDataTypeGeneric
Min Values: 0, 0, 0, 0
Max Values: 255, 255, 255, 255
Mean Values: 62.785057017726, 70.00227732566, 65.764785657927, 57.934372116954
Standard Deviation Values: 48.680700366967, 52.565644907113, 49.507155303711, 67.151825512767
Object ID Field:
Fields:
None
Default Mosaic Method: Center
Allowed Mosaic Methods:
SortField:
SortValue: null
Mosaic Operator: First
Default Compression Quality: 75
Default Resampling Method: Nearest
Max Record Count: null
Max Image Height: 4100
Max Image Width: 15000
Max Download Image Count: null
Max Mosaic Image Count: null
Allow Raster Function: true
Allow Copy: true
Allow Analysis: true
Allow Compute TiePoints: false
Supports Statistics: false
Supports Advanced Queries: false
Use StandardizedQueries: true
Raster Type Infos:
Name: Raster Dataset
Description: Supports all ArcGIS Raster Datasets
Help:
Has Raster Attribute Table: false
Edit Fields Info: null
Ownership Based AccessControl For Rasters: null
Child Resources:
Info
Histograms
Statistics
Key Properties
Legend
Raster Function Infos
Supported Operations:
Export Image
Identify
Measure
Compute Histograms
Compute Statistics Histograms
Get Samples
Compute Class Statistics
Query Boundary
Compute Pixel Location
Compute Angles
Validate
Project