View In:
ArcGIS JavaScript
ArcGIS Online Map Viewer
ArcGIS Earth
Service Description: O Mapeamento Aerofotogramétrico Georreferenciado do CLUSTER 9 visa subsidiar ações e estratégias do Executivo, conforme eixos do Mapa Estratégico do RS
Name: RS_SEGURO/alvorada
Description: O Mapeamento Aerofotogramétrico Georreferenciado do CLUSTER 9 visa subsidiar ações e estratégias do Executivo, conforme eixos do Mapa Estratégico do RS
Single Fused Map Cache: false
Extent:
XMin: -51.072817313555
YMin: -30.009756379421002
XMax: -51.035695425575
YMax: -29.984224356371
Spatial Reference: 4674
(4674)
LatestVCSWkid(0)
Initial Extent:
XMin: -51.072817313555
YMin: -30.009756379421002
XMax: -51.035695425575
YMax: -29.984224356371
Spatial Reference: 4674
(4674)
LatestVCSWkid(0)
Full Extent:
XMin: -51.072817313555
YMin: -30.009756379421002
XMax: -51.035695425575
YMax: -29.984224356371
Spatial Reference: 4674
(4674)
LatestVCSWkid(0)
Pixel Size X: 2.831699999999978E-7
Pixel Size Y: 2.831700000000125E-7
Band Count: 4
Pixel Type: S16
RasterFunction Infos: {"rasterFunctionInfos": [{
"name": "None",
"description": "",
"help": ""
}]}
Mensuration Capabilities: Basic
Inspection Capabilities:
Has Histograms: true
Has Colormap: false
Has Multi Dimensions : false
Rendering Rule:
Min Scale: 0
Max Scale: 0
Resampling: false
Copyright Text: RSSEGURO
Service Data Type: esriImageServiceDataTypeGeneric
Min Values: 0, 0, 0, 0
Max Values: 255, 255, 255, 255
Mean Values: 86.61615055617021, 86.95938852145635, 76.0556467453503, 175.18569431719683
Standard Deviation Values: 81.24489664127722, 77.7364710955235, 73.04501020999494, 118.24687969951235
Object ID Field:
Fields:
None
Default Mosaic Method: Center
Allowed Mosaic Methods:
SortField:
SortValue: null
Mosaic Operator: First
Default Compression Quality: 75
Default Resampling Method: Bilinear
Max Record Count: null
Max Image Height: 4100
Max Image Width: 15000
Max Download Image Count: null
Max Mosaic Image Count: null
Allow Raster Function: true
Allow Copy: true
Allow Analysis: true
Allow Compute TiePoints: false
Supports Statistics: false
Supports Advanced Queries: false
Use StandardizedQueries: true
Raster Type Infos:
Name: Raster Dataset
Description: Supports all ArcGIS Raster Datasets
Help:
Has Raster Attribute Table: false
Edit Fields Info: null
Ownership Based AccessControl For Rasters: null
Child Resources:
Info
Histograms
Statistics
Key Properties
Legend
Raster Function Infos
Supported Operations:
Export Image
Identify
Measure
Compute Histograms
Compute Statistics Histograms
Get Samples
Compute Class Statistics
Query Boundary
Compute Pixel Location
Compute Angles
Validate
Project