View In:
ArcGIS JavaScript
ArcGIS Online Map Viewer
ArcGIS Earth
Service Description: O ANADEM é um modelo digital do terreno (MDT) com remoção de viés causado pela vegetação no modelo digital de elevação (MDE) Copernicus GLO-30. Com resolução espacial de 30 metros, e disponível para toda a América do Sul, o produto foi desenvolvido pelo Instituto de Pesquisas Hidráulicas (IPH) da UFRGS em parceria com a Agência Nacional de Águas e Saneamento Básico (ANA) através de termo de cooperação. (https://www.ufrgs.br/hge/anadem-modelo-digital-de-terreno-mdt/).
Name: SEMA/ATLASHIDRO_ANADEM
Description: O ANADEM é um modelo digital do terreno (MDT) com remoção de viés causado pela vegetação no modelo digital de elevação (MDE) Copernicus GLO-30. Com resolução espacial de 30 metros, e disponível para toda a América do Sul, o produto foi desenvolvido pelo Instituto de Pesquisas Hidráulicas (IPH) da UFRGS em parceria com a Agência Nacional de Águas e Saneamento Básico (ANA) através de termo de cooperação. (https://www.ufrgs.br/hge/anadem-modelo-digital-de-terreno-mdt/).
Single Fused Map Cache: false
Extent:
XMin: -57.650012179536006
YMin: -33.751232355076
XMax: -49.69129809531601
YMax: -27.082049860081
Spatial Reference: 4674
(4674)
LatestVCSWkid(0)
Initial Extent:
XMin: -57.650012179536006
YMin: -33.751232355076
XMax: -49.69129809531601
YMax: -27.082049860081
Spatial Reference: 4674
(4674)
LatestVCSWkid(0)
Full Extent:
XMin: -57.650012179536006
YMin: -33.751232355076
XMax: -49.69129809531601
YMax: -27.082049860081
Spatial Reference: 4674
(4674)
LatestVCSWkid(0)
Pixel Size X: 2.6949458499999994E-4
Pixel Size Y: 2.6949458499999994E-4
Band Count: 1
Pixel Type: F32
RasterFunction Infos: {"rasterFunctionInfos": [{
"name": "None",
"description": "",
"help": ""
}]}
Mensuration Capabilities: Basic
Inspection Capabilities:
Has Histograms: true
Has Colormap: false
Has Multi Dimensions : false
Rendering Rule:
Min Scale: 0
Max Scale: 0
Copyright Text: Agência Nacional de Águas (ANA) e Instituto de Pesquisas Hidráulicas (IPH)
Service Data Type: esriImageServiceDataTypeGeneric
Min Values: -3.4000000953674
Max Values: 1383.3100585938
Mean Values: 283.48639007342
Standard Deviation Values: 253.28395270109
Object ID Field:
Fields:
None
Default Mosaic Method: Center
Allowed Mosaic Methods:
SortField:
SortValue: null
Mosaic Operator: First
Default Compression Quality: 75
Default Resampling Method: Bilinear
Max Record Count: null
Max Image Height: 4100
Max Image Width: 15000
Max Download Image Count: null
Max Mosaic Image Count: null
Allow Raster Function: true
Allow Copy: true
Allow Analysis: true
Allow Compute TiePoints: false
Supports Statistics: false
Supports Advanced Queries: false
Use StandardizedQueries: true
Raster Type Infos:
Name: Raster Dataset
Description: Supports all ArcGIS Raster Datasets
Help:
Has Raster Attribute Table: false
Edit Fields Info: null
Ownership Based AccessControl For Rasters: null
Child Resources:
Info
Histograms
Statistics
Key Properties
Legend
Raster Function Infos
Supported Operations:
Export Image
Identify
Measure
Compute Histograms
Compute Statistics Histograms
Get Samples
Compute Class Statistics
Query Boundary
Compute Pixel Location
Compute Angles
Validate
Project